data_3000399
loop_
_publ_author_name
'Wittkaemper, H.'
'Hock, R.'
'Weisser, M.'
'Dallmann, J.'
'Vogel, C.'
'Raman, N.'
'Tacardi, N.'
'Haumann, M.'
'Wasserscheid, P.'
'Hsieh, T.-E.'
'Maisel, S.'
'Moritz, M.'
'Wichmann, C.'
'Frisch, J.'
'Gorgoi, M.'
'Wilks, R. G.'
'Baer, M.'
'Wu, M.'
'Spiecker, E.'
'Goerling, A.'
'Unruh, T.'
'Steinrueck, H.-P.'
'Christian Papp'
_journal_name_full               'To be published in Scientific Reports'
_chemical_formula_sum            'Ga12 Rh4'
_chemical_name_common            'Rhodium gallide (1/3)'
_space_group_name_Hall           'C 2c -2'
_space_group_name_H-M_alt        'C m c 21'
_cell_angle_alpha                90.
_cell_angle_beta                 90.
_cell_angle_gamma                90.
_cell_length_a                   3.2116(1)
_cell_length_b                   9.1666(1)
_cell_length_c                   8.4581(1)
_cell_volume                     249.002(9)
_cod_database_code               3000399
_cod_hold_until_date             2022-12-06
loop_
_atom_site_label
_atom_site_fract_x
_atom_site_fract_y
_atom_site_fract_z
? ? ? ?
