data_3000469
loop_
_publ_author_name
'Deka, Poonam'
'Jaiswal, Shilpi'
'Sarma, Parishmita'
'Bora, Debajit'
'Nakane, Takanori'
'Kawamoto, Akihiro'
'Kurisu, Genji'
'Mahanta, Sanjeev Pran'
'Patra, Abhijit'
'Ichiyanagi, Kouhei'
'Sasaki, Toshiyuki'
'Thakuria, Ranjit'
_journal_name_full               'To be published'
_chemical_formula_sum            'C24 H20 N2 O4'
_space_group_name_Hall           '-P 2yn'
_space_group_name_H-M_alt        'P 1 21/n 1'
_cell_angle_alpha                90
_cell_angle_beta                 96.167(5)
_cell_angle_gamma                90
_cell_length_a                   7.5659(15)
_cell_length_b                   17.275(4)
_cell_length_c                   15.599(3)
_cell_measurement_temperature    296(2)
_cell_volume                     2027.0(7)
_diffrn_ambient_temperature      296(2)
_diffrn_radiation_type           MoK\a
_diffrn_radiation_wavelength     0.71073
_refine_ls_goodness_of_fit_ref   1.026
_refine_ls_R_factor_all          0.1129
_refine_ls_R_factor_gt           0.0650
_refine_ls_wR_factor_gt          0.1566
_refine_ls_wR_factor_ref         0.1889
_cod_database_code               3000469
_cod_hold_until_date             2024-12-10
loop_
_atom_site_label
_atom_site_fract_x
_atom_site_fract_y
_atom_site_fract_z
? ? ? ?
