data_3000470
loop_
_publ_author_name
'Deka, Poonam'
'Jaiswal, Shilpi'
'Sarma, Parishmita'
'Bora, Debajit'
'Nakane, Takanori'
'Kawamoto, Akihiro'
'Kurisu, Genji'
'Mahanta, Sanjeev Pran'
'Patra, Abhijit'
'Ichiyanagi, Kouhei'
'Sasaki, Toshiyuki'
'Thakuria, Ranjit'
_journal_name_full               'To be published'
_chemical_formula_sum            'C20 H10 N4 O2'
_space_group_name_Hall           '-P 1'
_space_group_name_H-M_alt        'P -1'
_cell_angle_alpha                97.17
_cell_angle_beta                 96.81
_cell_angle_gamma                99.79
_cell_length_a                   3.795
_cell_length_b                   14.526
_cell_length_c                   17.715
_cell_measurement_temperature    79
_cell_volume                     945.003
_diffrn_ambient_temperature      79
_diffrn_radiation_type           electrons
_diffrn_radiation_wavelength     0.02508
_refine_ls_goodness_of_fit_ref   1.281
_refine_ls_R_factor_all          0.2225
_refine_ls_wR_factor_gt          0.4048
_cod_database_code               3000470
_cod_hold_until_date             2024-12-10
loop_
_atom_site_label
_atom_site_fract_x
_atom_site_fract_y
_atom_site_fract_z
? ? ? ?
