data_3000471
loop_
_publ_author_name
'Deka, Poonam'
'Jaiswal, Shilpi'
'Sarma, Parishmita'
'Bora, Debajit'
'Nakane, Takanori'
'Kawamoto, Akihiro'
'Kurisu, Genji'
'Mahanta, Sanjeev Pran'
'Patra, Abhijit'
'Ichiyanagi, Kouhei'
'Sasaki, Toshiyuki'
'Thakuria, Ranjit'
_journal_name_full               'To be published'
_chemical_formula_sum            'C14 H10 O2'
_space_group_name_Hall           'F 2 -2d'
_space_group_name_H-M_alt        'F d d 2'
_cell_angle_alpha                90
_cell_angle_beta                 90
_cell_angle_gamma                90
_cell_length_a                   15.213
_cell_length_b                   37.104
_cell_length_c                   3.805
_cell_measurement_temperature    79
_cell_volume                     2147.782
_diffrn_ambient_temperature      79
_diffrn_radiation_type           electrons
_diffrn_radiation_wavelength     0.02508
_refine_ls_goodness_of_fit_ref   1.261
_refine_ls_R_factor_all          0.1519
_refine_ls_R_factor_gt           0.1339
_refine_ls_wR_factor_gt          0.3188
_refine_ls_wR_factor_ref         0.3280
_cod_database_code               3000471
_cod_hold_until_date             2024-12-10
loop_
_atom_site_label
_atom_site_fract_x
_atom_site_fract_y
_atom_site_fract_z
? ? ? ?
