data_3000472
loop_
_publ_author_name
'Deka, Poonam'
'Jaiswal, Shilpi'
'Sarma, Parishmita'
'Bora, Debajit'
'Nakane, Takanori'
'Kawamoto, Akihiro'
'Kurisu, Genji'
'Mahanta, Sanjeev Pran'
'Patra, Abhijit'
'Ichiyanagi, Kouhei'
'Sasaki, Toshiyuki'
'Thakuria, Ranjit'
_journal_name_full               'To be published'
_chemical_formula_sum            'C19 H15 N O3'
_space_group_name_Hall           '-P 1'
_space_group_name_H-M_alt        'P -1'
_cell_angle_alpha                79.38
_cell_angle_beta                 88.39
_cell_angle_gamma                81.41
_cell_length_a                   3.912
_cell_length_b                   13.011
_cell_length_c                   15.416
_cell_measurement_temperature    79
_cell_volume                     762.568
_diffrn_ambient_temperature      79
_diffrn_radiation_type           electrons
_diffrn_radiation_wavelength     0.02508
_refine_ls_goodness_of_fit_ref   1.190
_refine_ls_R_factor_all          0.2010
_refine_ls_R_factor_gt           0.1411
_refine_ls_wR_factor_gt          0.3735
_cod_database_code               3000472
_cod_hold_until_date             2024-12-10
loop_
_atom_site_label
_atom_site_fract_x
_atom_site_fract_y
_atom_site_fract_z
? ? ? ?
