data_3000474
loop_
_publ_author_name
'Deka, Poonam'
'Jaiswal, Shilpi'
'Sarma, Parishmita'
'Bora, Debajit'
'Nakane, Takanori'
'Kawamoto, Akihiro'
'Kurisu, Genji'
'Mahanta, Sanjeev Pran'
'Patra, Abhijit'
'Ichiyanagi, Kouhei'
'Sasaki, Toshiyuki'
'Thakuria, Ranjit'
_journal_name_full               'To be published'
_chemical_formula_sum            'C18 H16 N2 O4'
_space_group_name_Hall           '-P 2yn'
_space_group_name_H-M_alt        'P 1 21/n 1'
_cell_angle_alpha                90
_cell_angle_beta                 90.08
_cell_angle_gamma                90
_cell_length_a                   4.619
_cell_length_b                   9.567
_cell_length_c                   38.517
_cell_measurement_temperature    79
_cell_volume                     1702.064
_diffrn_ambient_temperature      79
_diffrn_radiation_type           electrons
_diffrn_radiation_wavelength     0.02508
_refine_ls_goodness_of_fit_ref   1.679
_refine_ls_R_factor_all          0.2196
_refine_ls_wR_factor_gt          0.4732
_cod_database_code               3000474
_cod_hold_until_date             2024-12-10
loop_
_atom_site_label
_atom_site_fract_x
_atom_site_fract_y
_atom_site_fract_z
? ? ? ?
