data_3000496
loop_
_publ_author_name
'Hettler, Simon'
'Singha-Roy, Kankona'
'Arenal, Raul'
'Panchakarla, Leela'
_publ_section_title
;
 Stable CoO~2 Nanoscrolls With Outstanding Electrical Properties
;
_journal_name_full
'To be published in Advanced Materials Interfaces'
_chemical_formula_sum            'Co O2'
_chemical_name_common            'cobalt dioxide'
_space_group_name_Hall           'C -2y'
_space_group_name_H-M_alt        'C 1 m 1'
_cell_angle_alpha                90
_cell_angle_beta                 98
_cell_angle_gamma                90
_cell_length_a                   4.83
_cell_length_b                   2.82
_cell_length_c                   4.5
_cell_volume                     60.696
_diffrn_radiation_type           'electron 300 kV'
_cod_database_code               3000496
_cod_hold_until_date             2024-09-12
_cod_depositor_requested_release_date 2024-09-12
loop_
_atom_site_label
_atom_site_fract_x
_atom_site_fract_y
_atom_site_fract_z
? ? ? ?
