#------------------------------------------------------------------------------
#$Date: 2016-02-16 22:30:59 +0200 (Tue, 16 Feb 2016) $
#$Revision: 176467 $
#$URL: svn://www.crystallography.net/cod/cif/4/02/79/4027962.cif $
#------------------------------------------------------------------------------
#
# This file is available in the Crystallography Open Database (COD),
# http://www.crystallography.net/
#
# All data on this site have been placed in the public domain by the
# contributors.
#
data_4027962
loop_
_publ_author_name
'David M. Hodgson'
'Andrew Charlton'
'Robert S. Paton'
'Amber L. Thompson'
_publ_contact_author             'David M. Hodgson'
_publ_contact_author_email       david.hodgson@chem.ox.ac.uk
_publ_section_title
;
 C-Alkylation of Chiral Tropane- and Homotropane-Derived Enamines
;
_journal_name_full               'Journal of Organic Chemistry'
_journal_page_first              1508
_journal_page_last               1518
_journal_paper_doi               10.1021/jo3025972
_journal_volume                  78
_journal_year                    2013
_chemical_absolute_configuration ad
_chemical_formula_moiety         'C11 H19 N1 O1'
_chemical_formula_sum            'C11 H19 N O'
_chemical_formula_weight         181.28
_space_group_IT_number           19
_symmetry_cell_setting           orthorhombic
_symmetry_space_group_name_Hall  'P 2ac 2ab'
_symmetry_space_group_name_H-M   'P 21 21 21'
_atom_sites_solution_hydrogens   difmap
_atom_sites_solution_primary     other
_audit_creation_date             12-09-04
_audit_creation_method           CRYSTALS_ver_14.40
_cell_angle_alpha                90
_cell_angle_beta                 90
_cell_angle_gamma                90
_cell_formula_units_Z            4
_cell_length_a                   5.8855(2)
_cell_length_b                   8.2344(2)
_cell_length_c                   21.4492(7)
_cell_measurement_reflns_used    16124
_cell_measurement_temperature    100
_cell_measurement_theta_max      76
_cell_measurement_theta_min      4
_cell_volume                     1039.50(6)
_computing_cell_refinement       'CrysAlis, (Oxford Diffraction, 2002)'
_computing_data_collection       'SuperNova, (Oxford Diffraction, 2010)'
_computing_data_reduction        'CrysAlis, (Oxford Diffraction, 2002)'
_computing_molecular_graphics    'CAMERON (Watkin et al., 1996)'
_computing_publication_material  'CRYSTALS (Betteridge et al., 2003)'
_computing_structure_refinement  'CRYSTALS (Betteridge et al., 2003)'
_computing_structure_solution    'Superflip (Palatinus & Chapuis, 2007)'
_diffrn_ambient_temperature      100
_diffrn_measured_fraction_theta_full 0.998
_diffrn_measured_fraction_theta_max 0.998
_diffrn_measurement_device       Area
_diffrn_measurement_device_type  'Oxford Diffraction SuperNova'
_diffrn_measurement_method       ω
_diffrn_radiation_monochromator  graphite
_diffrn_radiation_type           'Cu K\a'
_diffrn_radiation_wavelength     1.54180
_diffrn_reflns_av_R_equivalents  0.034
_diffrn_reflns_limit_h_max       7
_diffrn_reflns_limit_h_min       -7
_diffrn_reflns_limit_k_max       10
_diffrn_reflns_limit_k_min       -10
_diffrn_reflns_limit_l_max       26
_diffrn_reflns_limit_l_min       -26
_diffrn_reflns_number            28323
_diffrn_reflns_theta_full        76.296
_diffrn_reflns_theta_max         76.296
_diffrn_reflns_theta_min         4.122
_diffrn_standards_number         0
_exptl_absorpt_coefficient_mu    0.569
_exptl_absorpt_correction_T_max  0.98
_exptl_absorpt_correction_T_min  0.55
_exptl_absorpt_correction_type   multi-scan
_exptl_absorpt_process_details   'CrysAlis, (Oxford Diffraction, 2002)'
_exptl_crystal_colour            clear_pale_colourless
_exptl_crystal_density_diffrn    1.158
_exptl_crystal_description       lath
_exptl_crystal_F_000             400
_exptl_crystal_size_max          0.28
_exptl_crystal_size_mid          0.09
_exptl_crystal_size_min          0.03
_refine_diff_density_max         0.18
_refine_diff_density_min         -0.13
_refine_ls_abs_structure_details 'Flack (1983), 876 Friedel-pairs'
_refine_ls_abs_structure_Flack   0.0(2)
_refine_ls_extinction_method     none
_refine_ls_goodness_of_fit_ref   1.0061
_refine_ls_hydrogen_treatment    constr
_refine_ls_matrix_type           full
_refine_ls_number_parameters     119
_refine_ls_number_reflns         2166
_refine_ls_number_restraints     0
_refine_ls_R_factor_all          0.0256
_refine_ls_R_factor_gt           0.0253
_refine_ls_shift/su_max          0.0007444
_refine_ls_shift/su_mean         0.0001379
_refine_ls_structure_factor_coef Fsqd
_refine_ls_weighting_details
;
 Method= Modified Sheldrick 
 w=1/[σ²(F²) + ( 0.03P)² + 0.27P] 
 ,where P=(max(Fo²,0) + 2Fc²)/3 
;
_refine_ls_weighting_scheme      calc
_refine_ls_wR_factor_all         0.0696
_refine_ls_wR_factor_gt          0.0693
_refine_ls_wR_factor_ref         0.0696
_reflns_limit_h_max              7
_reflns_limit_h_min              -7
_reflns_limit_k_max              10
_reflns_limit_k_min              0
_reflns_limit_l_max              26
_reflns_limit_l_min              0
_reflns_number_gt                2131
_reflns_number_total             2173
_reflns_threshold_expression     I>2.0σ(I)
_oxford_diffrn_Wilson_B_factor   2.02
_oxford_diffrn_Wilson_scale      0.02
_oxford_refine_ls_r_factor_ref   0.0256
_oxford_refine_ls_scale          10.1(3)
_oxford_reflns_number_all        2166
_oxford_reflns_threshold_expression_ref I>-3.0\s(I)
_oxford_structure_analysis_title 6441-3
_cod_data_source_file            jo3025972_si_002_1.cif
_cod_data_source_block           18-3
_cod_original_sg_symbol_H-M      'P 21 21 21 '
_cod_original_formula_sum        'C11 H19 N1 O1'
_cod_database_code               4027962
#BEGIN Tags that were not found in dictionaries:
_iucr_refine_instruction_details_constraints
;
BLOCK SCALE X'S, U'S 
CONT ENANTIO 
RIDE N   (   1,X'S) H   (  11,X'S) 
RIDE C   (   3,X'S) H   (  31,X'S) H   (  32,X'S) 
RIDE C   (   6,X'S) H   (  61,X'S) 
RIDE C   (   7,X'S) H   (  71,X'S) H   (  72,X'S) H   (  73,X'S) 
RIDE C   (   9,X'S) H   (  91,X'S) H   (  92,X'S) H   (  93,X'S) 
RIDE C   (  10,X'S) H   ( 101,X'S) H   ( 102,X'S) H   ( 103,X'S) 
RIDE C   (  11,X'S) H   ( 111,X'S) H   ( 112,X'S) 
RIDE C   (  12,X'S) H   ( 121,X'S) H   ( 122,X'S) 
RIDE C   (  13,X'S) H   ( 131,X'S) H   ( 132,X'S) 
END                                                                             
;
_iucr_refine_instruction_details_restraints
;
NO 
REM   HREST   START (DO NOT REMOVE THIS LINE) 
REM   HREST   END (DO NOT REMOVE THIS LINE) 
END                                                                             
;
#END Tags that were not found in dictionaries
loop_
_symmetry_equiv_pos_as_xyz
x,y,z
-x+1/2,-y,z+1/2
x+1/2,-y+1/2,-z
-x,y+1/2,-z+1/2
loop_
_atom_site_label
_atom_site_type_symbol
_atom_site_fract_x
_atom_site_fract_y
_atom_site_fract_z
_atom_site_U_iso_or_equiv
_atom_site_occupancy
_atom_site_adp_type
_atom_site_refinement_flags_posn
N1 N -0.12223(15) 0.43766(10) 0.64285(4) 0.0180 1.0000 Uani .
C2 C -0.00615(17) 0.55418(11) 0.60177(5) 0.0169 1.0000 Uani .
C3 C 0.14085(18) 0.46423(12) 0.55278(5) 0.0175 1.0000 Uani .
C4 C 0.28718(17) 0.33050(12) 0.57913(4) 0.0157 1.0000 Uani .
C5 C 0.18233(17) 0.22401(11) 0.62958(4) 0.0157 1.0000 Uani .
C6 C 0.03738(17) 0.32973(12) 0.67515(4) 0.0168 1.0000 Uani .
C7 C -0.18520(19) 0.65546(13) 0.56800(6) 0.0253 1.0000 Uani .
O8 O 0.47842(13) 0.30501(9) 0.55913(3) 0.0208 1.0000 Uani .
C9 C 0.02287(19) 0.10302(12) 0.59629(5) 0.0201 1.0000 Uani .
C10 C 0.36777(18) 0.12846(13) 0.66366(5) 0.0212 1.0000 Uani .
C11 C 0.17794(19) 0.43538(13) 0.71972(5) 0.0210 1.0000 Uani .
C12 C 0.30313(19) 0.57031(13) 0.68493(5) 0.0202 1.0000 Uani .
C13 C 0.14028(18) 0.66479(12) 0.64302(5) 0.0200 1.0000 Uani .
H31 H 0.2382 0.5405 0.5297 0.0223 1.0000 Uiso R
H32 H 0.0403 0.4124 0.5222 0.0223 1.0000 Uiso R
H61 H -0.0524 0.2512 0.7012 0.0191 1.0000 Uiso R
H71 H -0.1085 0.7325 0.5384 0.0372 1.0000 Uiso R
H72 H -0.2735 0.7176 0.5985 0.0382 1.0000 Uiso R
H73 H -0.2904 0.5833 0.5439 0.0379 1.0000 Uiso R
H91 H -0.0394 0.0268 0.6274 0.0302 1.0000 Uiso R
H92 H -0.1014 0.1581 0.5751 0.0303 1.0000 Uiso R
H93 H 0.1093 0.0394 0.5656 0.0291 1.0000 Uiso R
H101 H 0.2988 0.0695 0.6984 0.0312 1.0000 Uiso R
H102 H 0.4884 0.2015 0.6785 0.0296 1.0000 Uiso R
H103 H 0.4400 0.0504 0.6352 0.0307 1.0000 Uiso R
H111 H 0.0679 0.4849 0.7485 0.0258 1.0000 Uiso R
H112 H 0.2841 0.3684 0.7428 0.0250 1.0000 Uiso R
H121 H 0.3721 0.6442 0.7149 0.0238 1.0000 Uiso R
H122 H 0.4290 0.5241 0.6597 0.0236 1.0000 Uiso R
H131 H 0.0375 0.7283 0.6692 0.0246 1.0000 Uiso R
H132 H 0.2271 0.7430 0.6161 0.0235 1.0000 Uiso R
H11 H -0.2127 0.3778 0.6207 0.0255 1.0000 Uiso R
loop_
_atom_site_aniso_label
_atom_site_aniso_U_11
_atom_site_aniso_U_22
_atom_site_aniso_U_33
_atom_site_aniso_U_23
_atom_site_aniso_U_13
_atom_site_aniso_U_12
N1 0.0141(4) 0.0177(4) 0.0223(4) 0.0014(3) -0.0003(3) -0.0002(3)
C2 0.0157(5) 0.0157(4) 0.0193(5) 0.0016(4) -0.0017(4) -0.0003(4)
C3 0.0207(5) 0.0172(4) 0.0146(4) 0.0015(4) -0.0008(4) -0.0014(4)
C4 0.0173(5) 0.0163(4) 0.0136(4) -0.0038(4) -0.0015(4) -0.0016(4)
C5 0.0162(5) 0.0159(4) 0.0151(4) 0.0013(3) -0.0011(4) 0.0012(4)
C6 0.0164(5) 0.0187(5) 0.0153(4) 0.0015(4) 0.0018(4) 0.0001(4)
C7 0.0226(5) 0.0202(5) 0.0330(6) 0.0053(4) -0.0066(5) 0.0020(4)
O8 0.0186(4) 0.0250(4) 0.0189(3) -0.0034(3) 0.0033(3) -0.0008(3)
C9 0.0227(5) 0.0165(5) 0.0213(5) -0.0001(4) -0.0028(4) -0.0010(4)
C10 0.0195(5) 0.0224(5) 0.0218(5) 0.0033(4) -0.0013(4) 0.0035(4)
C11 0.0243(5) 0.0241(5) 0.0146(4) -0.0023(4) -0.0004(4) 0.0034(4)
C12 0.0195(5) 0.0221(5) 0.0191(5) -0.0050(4) -0.0032(4) -0.0012(4)
C13 0.0203(5) 0.0165(4) 0.0231(5) -0.0033(4) -0.0007(4) 0.0004(4)
loop_
_atom_type_symbol
_atom_type_scat_dispersion_real
_atom_type_scat_dispersion_imag
_atom_type_scat_Cromer_Mann_a1
_atom_type_scat_Cromer_Mann_b1
_atom_type_scat_Cromer_Mann_a2
_atom_type_scat_Cromer_Mann_b2
_atom_type_scat_Cromer_Mann_a3
_atom_type_scat_Cromer_Mann_b3
_atom_type_scat_Cromer_Mann_a4
_atom_type_scat_Cromer_Mann_b4
_atom_type_scat_Cromer_Mann_c
_atom_type_scat_source
C 0.0181 0.0091 2.3100 20.8439 1.0200 10.2075 1.5886 0.5687 0.8650 51.6512
0.2156 'International Tables Vol C 4.2.6.8 and 6.1.1.4'
H 0.0000 0.0000 0.4930 10.5109 0.3229 26.1257 0.1402 3.1424 0.0408 57.7998
0.0030 'International Tables Vol C 4.2.6.8 and 6.1.1.4'
S 0.3331 0.5567 6.9053 1.4679 5.2034 22.2151 1.4379 0.2536 1.5863 56.1720
0.8669 'International Tables Vol C 4.2.6.8 and 6.1.1.4'
O 0.0492 0.0322 3.0485 13.2771 2.2868 5.7011 1.5463 0.3239 0.8670 32.9089
0.2508 'International Tables Vol C 4.2.6.8 and 6.1.1.4'
N 0.0311 0.0180 12.2126 0.0057 3.1322 9.8933 2.0125 28.9975 1.1663 0.5826
-11.5290 'International Tables Vol C 4.2.6.8 and 6.1.1.4'
loop_
_geom_angle_atom_site_label_1
_geom_angle_atom_site_label_2
_geom_angle_atom_site_label_3
_geom_angle
_geom_angle_publ_flag
C2 N1 C6 112.38(8) yes
C2 N1 H11 109.1 no
C6 N1 H11 107.9 no
N1 C2 C3 110.71(8) yes
N1 C2 C7 108.66(8) yes
C3 C2 C7 108.96(8) yes
N1 C2 C13 107.62(8) yes
C3 C2 C13 111.16(8) yes
C7 C2 C13 109.69(8) yes
C2 C3 C4 114.45(8) yes
C2 C3 H31 111.2 no
C4 C3 H31 108.8 no
C2 C3 H32 108.9 no
C4 C3 H32 106.1 no
H31 C3 H32 107.0 no
C3 C4 C5 117.08(8) yes
C3 C4 O8 121.30(9) yes
C5 C4 O8 121.56(9) yes
C4 C5 C6 110.18(8) yes
C4 C5 C9 106.81(8) yes
C6 C5 C9 108.48(8) yes
C4 C5 C10 110.25(8) yes
C6 C5 C10 112.14(8) yes
C9 C5 C10 108.81(8) yes
C5 C6 N1 113.06(8) yes
C5 C6 C11 114.28(8) yes
N1 C6 C11 107.21(8) yes
C5 C6 H61 106.1 no
N1 C6 H61 108.4 no
C11 C6 H61 107.6 no
C2 C7 H71 109.5 no
C2 C7 H72 109.5 no
H71 C7 H72 109.3 no
C2 C7 H73 110.3 no
H71 C7 H73 109.0 no
H72 C7 H73 109.1 no
C5 C9 H91 108.9 no
C5 C9 H92 111.8 no
H91 C9 H92 109.5 no
C5 C9 H93 109.8 no
H91 C9 H93 107.8 no
H92 C9 H93 108.9 no
C5 C10 H101 108.9 no
C5 C10 H102 110.8 no
H101 C10 H102 111.0 no
C5 C10 H103 110.4 no
H101 C10 H103 109.1 no
H102 C10 H103 106.7 no
C6 C11 C12 111.59(8) yes
C6 C11 H111 105.8 no
C12 C11 H111 108.8 no
C6 C11 H112 110.1 no
C12 C11 H112 110.6 no
H111 C11 H112 109.8 no
C11 C12 C13 110.81(9) yes
C11 C12 H121 109.4 no
C13 C12 H121 109.4 no
C11 C12 H122 110.3 no
C13 C12 H122 110.0 no
H121 C12 H122 106.8 no
C2 C13 C12 112.92(8) yes
C2 C13 H131 107.5 no
C12 C13 H131 108.9 no
C2 C13 H132 109.5 no
C12 C13 H132 110.2 no
H131 C13 H132 107.6 no
loop_
_geom_bond_atom_site_label_1
_geom_bond_atom_site_label_2
_geom_bond_distance
_geom_bond_publ_flag
N1 C2 1.4709(13) yes
N1 C6 1.4672(13) yes
N1 H11 0.867 no
C2 C3 1.5496(14) yes
C2 C7 1.5266(14) yes
C2 C13 1.5346(14) yes
C3 C4 1.5079(14) yes
C3 H31 0.984 no
C3 H32 0.981 no
C4 C5 1.5234(13) yes
C4 O8 1.2227(13) yes
C5 C6 1.5623(13) yes
C5 C9 1.5438(13) yes
C5 C10 1.5312(14) yes
C6 C11 1.5346(14) yes
C6 H61 1.004 no
C7 H71 1.005 no
C7 H72 0.980 no
C7 H73 1.002 no
C9 H91 0.987 no
C9 H92 0.973 no
C9 H93 0.983 no
C10 H101 0.977 no
C10 H102 0.983 no
C10 H103 0.983 no
C11 C12 1.5278(15) yes
C11 H111 0.983 no
C11 H112 0.969 no
C12 C13 1.5270(15) yes
C12 H121 0.974 no
C12 H122 0.994 no
C13 H131 0.977 no
C13 H132 1.005 no
loop_
_geom_hbond_atom_site_label_D
_geom_hbond_atom_site_label_H
_geom_hbond_atom_site_label_A
_geom_hbond_site_symmetry_A
_geom_hbond_angle_DHA
_geom_hbond_distance_DH
_geom_hbond_distance_HA
_geom_hbond_distance_DA
_geom_hbond_publ_flag
C3 H32 O8 3_456 148.98(3) 0.981 2.526 3.4046(15) yes
N1 H11 O8 1_455 159.65(3) 0.867 2.326 3.1531(15) yes
