#------------------------------------------------------------------------------
#$Date: 2016-02-13 21:28:24 +0200 (Sat, 13 Feb 2016) $
#$Revision: 176429 $
#$URL: svn://www.crystallography.net/cod/cif/4/12/44/4124448.cif $
#------------------------------------------------------------------------------
#
# This file is available in the Crystallography Open Database (COD),
# http://www.crystallography.net/
#
# All data on this site have been placed in the public domain by the
# contributors.
#
data_4124448
loop_
_publ_author_name
'McCusker, L.B.'
'Seff, K.'
_publ_section_title
;
 Zero-coordinate cadmium(II). Over ion exchange. Crystal structures of
 hydrated and dehydrated zeolite A exchanged with Cd Cl2 to give Cd9.5 Cl4
 (O H)3 -A
;
_journal_name_full               'Journal of the American Chemical Society'
_journal_page_first              5052
_journal_page_last               5057
_journal_volume                  100
_journal_year                    1978
_chemical_formula_sum            'Al12 Cd9.5 Cl4 H11 O55 Si12'
_chemical_name_systematic        'Cd9.5 (Si12 Al12 O48) Cl4 (O H)3 (H2 O)4'
_space_group_IT_number           221
_symmetry_space_group_name_Hall  '-P 4 2 3'
_symmetry_space_group_name_H-M   'P m -3 m'
_cell_angle_alpha                90
_cell_angle_beta                 90
_cell_angle_gamma                90
_cell_formula_units_Z            1
_cell_length_a                   12.219
_cell_length_b                   12.219
_cell_length_c                   12.219
_cell_volume                     1824.345
_citation_journal_id_ASTM        JACSAT
_cod_data_source_file            McCusker_JACSAT_1978_287.cif
_cod_data_source_block           H11Al12Cd9.5Cl4O55Si12
_cod_original_formula_sum        'H11 Al12 Cd9.5 Cl4 O55 Si12'
_cod_database_code               4124448
loop_
_symmetry_equiv_pos_as_xyz
x,y,z
-y,x,z
-x,-y,z
y,-x,z
x,-y,-z
y,x,-z
-x,y,-z
-y,-x,-z
z,x,y
-x,z,y
-z,-x,y
x,-z,y
z,-x,-y
x,z,-y
-z,x,-y
-x,-z,-y
y,z,x
y,-z,-x
z,y,-x
-y,z,-x
-z,-y,-x
-y,-z,x
z,-y,x
-z,y,x
-x,-y,-z
y,-x,-z
x,y,-z
-y,x,-z
-x,y,z
-y,-x,z
x,-y,z
y,x,z
-z,-x,-y
x,-z,-y
z,x,-y
-x,z,-y
-z,x,y
-x,-z,y
z,-x,y
x,z,y
-y,-z,-x
-y,z,x
-z,-y,x
y,-z,x
z,y,x
y,z,-x
-z,y,-x
z,-y,-x
loop_
_atom_site_label
_atom_site_type_symbol
_atom_site_fract_x
_atom_site_fract_y
_atom_site_fract_z
_atom_site_occupancy
_atom_site_U_iso_or_equiv
O4 O-2 0.0867 0.0867 0.0867 0.375 0.0
Cd5 Cd+2 0 0.5 0.5 0.3333 0.0
O2 O-2 0 0.2957 0.2957 1 0.0
Al1 Al+3 0 0.1814 0.3699 0.5 0.0
O6 O-2 0.4292 0.4292 0.4292 0.125 0.0
O1 O-2 0 0.2134 0.5 1 0.0
O3 O-2 0.1128 0.1128 0.3346 1 0.0
Si1 Si+4 0 0.1814 0.3699 0.5 0.0
Cd6 Cd+2 0.33 0.33 0.33 0.125 0.0
Cl1 Cl-1 0.2208 0.3826 0.3826 0.0833 0.0
O5 O-2 0.26 0.26 0.451 0.125 0.0
Cd3 Cd+2 0.1292 0.1292 0.1292 0.125 0.0
Cl2 Cl-1 0.2068 0.5 0.5 0.3333 0.0
Cd1 Cd+2 0.1971 0.1971 0.1971 0.375 0.0
Cd2 Cd+2 0.2488 0.2488 0.2488 0.25 0.0
Cd4 Cd+2 0.2086 0.3777 0.4485 0.0312 0.0
