#------------------------------------------------------------------------------
#$Date: 2015-09-12 17:46:15 +0300 (Sat, 12 Sep 2015) $
#$Revision: 156001 $
#$URL: svn://www.crystallography.net/cod/cif/4/12/44/4124464.cif $
#------------------------------------------------------------------------------
#
# This file is available in the Crystallography Open Database (COD),
# http://www.crystallography.net/
#
# All data on this site have been placed in the public domain by the
# contributors.
#
data_4124464
loop_
_publ_author_name
'Smith, J.D.'
'Corbett, J.D.'
_publ_section_title
;
 A remarkable alkali-metal-centered Zirconium cluster in potassium
 hexazirconium tetradecaiodide Zr6 I14 K Synthesis and characterization
;
_journal_name_full               'Journal of the American Chemical Society'
_journal_page_first              4618
_journal_page_last               4619
_journal_volume                  106
_journal_year                    1984
_chemical_formula_sum            'I14 K0.46 Zr6'
_chemical_name_systematic        'K.46 Zr6 I14'
_space_group_IT_number           64
_symmetry_space_group_name_Hall  '-C 2ac 2'
_symmetry_space_group_name_H-M   'C m c a'
_cell_angle_alpha                90
_cell_angle_beta                 90
_cell_angle_gamma                90
_cell_formula_units_Z            4
_cell_length_a                   15.892
_cell_length_b                   14.288
_cell_length_c                   12.899
_cell_volume                     2928.910
_citation_journal_id_ASTM        JACSAT
_cod_data_source_file            Smith_JACSAT_1984_1092.cif
_cod_data_source_block           I14K0.46Zr6
_cod_original_cell_volume        2928.91
_cod_database_code               4124464
loop_
_symmetry_equiv_pos_as_xyz
x,y,z
-x+1/2,-y,z+1/2
x,-y,-z
-x+1/2,y,-z+1/2
-x,-y,-z
x-1/2,y,-z-1/2
-x,y,z
x-1/2,-y,z-1/2
x+1/2,y+1/2,z
-x+1,-y+1/2,z+1/2
x+1/2,-y+1/2,-z
-x+1,y+1/2,-z+1/2
-x+1/2,-y+1/2,-z
x,y+1/2,-z-1/2
-x+1/2,y+1/2,z
x,-y+1/2,z-1/2
loop_
_atom_site_label
_atom_site_type_symbol
_atom_site_fract_x
_atom_site_fract_y
_atom_site_fract_z
_atom_site_occupancy
_atom_site_U_iso_or_equiv
I1 I-1 0.12518 0.08942 0.24741 1 0.0
I5 I-1 0.24686 0 0 1 0.0
I2 I-1 0.12579 0.25582 0.00729 1 0.0
I4 I-1 0 0.1562 0.7765 1 0.0
I3 I-1 0.25 0.3459 0.25 1 0.0
Zr2 Zr+2 0 0.361 0.8977 1 0.0
Zr1 Zr+2 0.3905 0.0662 0.8881 1 0.0
K1 K+1 0.5 0.5 0.5 0.46 0.0
