#------------------------------------------------------------------------------
#$Date: 2016-02-16 22:30:59 +0200 (Tue, 16 Feb 2016) $
#$Revision: 176467 $
#$URL: svn://www.crystallography.net/cod/cif/4/33/72/4337225.cif $
#------------------------------------------------------------------------------
#
# This file is available in the Crystallography Open Database (COD),
# http://www.crystallography.net/
#
# All data on this site have been placed in the public domain by the
# contributors.
#
data_4337225
loop_
_publ_author_name
'Han, Jing'
'Nishihara, Sadafumi'
'Inoue, Katsuya'
'Kurmoo, Mohamedally'
_publ_section_title
;
 On the Nature of the Structural and Magnetic Phase Transitions in the
 Layered Perovskite-Like (CH3NH3)2[Fe(II)Cl4].
;
_journal_issue                   4
_journal_name_full               'Inorganic chemistry'
_journal_page_first              2068
_journal_page_last               2075
_journal_paper_doi               10.1021/ic402535u
_journal_volume                  53
_journal_year                    2014
_chemical_formula_sum            'C H6 Cl2 Fe0.5 N'
_chemical_formula_weight         130.89
_chemical_name_systematic
; 
 ? 
;
_space_group_IT_number           56
_symmetry_space_group_name_Hall  '-P 2ab 2ac'
_symmetry_space_group_name_H-M   'P c c n'
_atom_sites_solution_hydrogens   geom
_atom_sites_solution_primary     direct
_atom_sites_solution_secondary   difmap
_audit_creation_method           SHELXL-97
_cell_angle_alpha                90.00
_cell_angle_beta                 90.00
_cell_angle_gamma                90.00
_cell_formula_units_Z            8
_cell_length_a                   7.1809(15)
_cell_length_b                   7.1809(15)
_cell_length_c                   19.083(6)
_cell_measurement_temperature    130(2)
_cell_volume                     984.0(4)
_computing_structure_refinement  'SHELXL-97 (Sheldrick, 1997)'
_computing_structure_solution    'SHELXS-97 (Sheldrick, 1990)'
_diffrn_ambient_temperature      130(2)
_diffrn_measured_fraction_theta_full 0.992
_diffrn_measured_fraction_theta_max 0.992
_diffrn_radiation_monochromator  graphite
_diffrn_radiation_source         'fine-focus sealed tube'
_diffrn_radiation_type           MoK\a
_diffrn_radiation_wavelength     0.71073
_diffrn_reflns_av_R_equivalents  0.0265
_diffrn_reflns_av_sigmaI/netI    0.0111
_diffrn_reflns_limit_h_max       9
_diffrn_reflns_limit_h_min       -9
_diffrn_reflns_limit_k_max       9
_diffrn_reflns_limit_k_min       -9
_diffrn_reflns_limit_l_max       24
_diffrn_reflns_limit_l_min       -25
_diffrn_reflns_number            19548
_diffrn_reflns_theta_full        28.02
_diffrn_reflns_theta_max         28.02
_diffrn_reflns_theta_min         2.13
_exptl_absorpt_coefficient_mu    2.549
_exptl_absorpt_correction_T_max  0.4000
_exptl_absorpt_correction_T_min  0.1956
_exptl_crystal_density_diffrn    1.767
_exptl_crystal_density_method    'not measured'
_exptl_crystal_F_000             528
_exptl_crystal_size_max          0.95
_exptl_crystal_size_mid          0.46
_exptl_crystal_size_min          0.44
_refine_diff_density_max         0.912
_refine_diff_density_min         -0.776
_refine_diff_density_rms         0.111
_refine_ls_extinction_method     none
_refine_ls_goodness_of_fit_ref   1.475
_refine_ls_hydrogen_treatment    mixed
_refine_ls_matrix_type           full
_refine_ls_number_parameters     46
_refine_ls_number_reflns         1190
_refine_ls_number_restraints     0
_refine_ls_restrained_S_all      1.475
_refine_ls_R_factor_all          0.0318
_refine_ls_R_factor_gt           0.0310
_refine_ls_shift/su_max          0.000
_refine_ls_shift/su_mean         0.000
_refine_ls_structure_factor_coef Fsqd
_refine_ls_weighting_details
'calc w=1/[σ²(Fo²)+(0.0000P)²+2.9993P] where P=(Fo²+2Fc²)/3'
_refine_ls_weighting_scheme      calc
_refine_ls_wR_factor_gt          0.0718
_refine_ls_wR_factor_ref         0.0726
_reflns_number_gt                1175
_reflns_number_total             1190
_reflns_threshold_expression     >2sigma(I)
_cod_data_source_file            C-130K-Pccn.cif
_cod_data_source_block           C-130K-Pccn
_cod_original_sg_symbol_H-M      '? P ccn'
_cod_original_formula_sum        'C H6 Cl2 Fe0.50 N'
_cod_database_code               4337225
loop_
_symmetry_equiv_pos_as_xyz
'x, y, z'
'-x+1/2, -y+1/2, z'
'x+1/2, -y, -z+1/2'
'-x, y+1/2, -z+1/2'
'-x, -y, -z'
'x-1/2, y-1/2, -z'
'-x-1/2, y, z-1/2'
'x, -y-1/2, z-1/2'
loop_
_atom_site_label
_atom_site_type_symbol
_atom_site_fract_x
_atom_site_fract_y
_atom_site_fract_z
_atom_site_U_iso_or_equiv
_atom_site_adp_type
_atom_site_occupancy
_atom_site_symmetry_multiplicity
_atom_site_calc_flag
_atom_site_refinement_flags
Fe1 Fe 0.0000 0.0000 0.0000 0.00904(14) Uani 1 2 d S
Cl1 Cl 0.02540(10) -0.02535(10) 0.12578(3) 0.01627(16) Uani 1 1 d .
Cl2 Cl 0.2500 0.2500 0.00000(5) 0.0140(2) Uani 1 2 d S
Cl3 Cl -0.2500 0.2500 0.01534(5) 0.01335(19) Uani 1 2 d S
N1 N -0.0130(4) 0.0130(4) 0.38630(13) 0.0183(5) Uani 1 1 d .
H1 H 0.0615 -0.0614 0.4128 0.027 Uiso 1 1 calc R
H1A H -0.1345 -0.0119 0.3961 0.027 Uiso 1 1 calc R
H1B H 0.0118 0.1345 0.3961 0.027 Uiso 1 1 calc R
C1 C 0.0230(5) -0.0228(5) 0.31174(17) 0.0297(8) Uani 1 1 d .
H1C H -0.0558 0.0587 0.2832 0.045 Uiso 1 1 calc R
H1D H -0.0056 -0.1532 0.3010 0.045 Uiso 1 1 calc R
H1E H 0.1542 0.0022 0.3013 0.045 Uiso 1 1 calc R
loop_
_atom_site_aniso_label
_atom_site_aniso_U_11
_atom_site_aniso_U_22
_atom_site_aniso_U_33
_atom_site_aniso_U_23
_atom_site_aniso_U_13
_atom_site_aniso_U_12
Fe1 0.0076(2) 0.0081(2) 0.0114(2) 0.00007(18) -0.00010(18) -0.0009(2)
Cl1 0.0178(3) 0.0185(3) 0.0125(3) -0.0004(2) 0.0003(2) 0.0008(3)
Cl2 0.0089(4) 0.0093(4) 0.0240(5) 0.000 0.000 -0.0034(3)
Cl3 0.0103(4) 0.0111(4) 0.0187(4) 0.000 0.000 0.0026(3)
N1 0.0200(12) 0.0203(12) 0.0147(11) 0.0015(9) -0.0011(9) 0.0046(11)
C1 0.0362(19) 0.0368(19) 0.0162(14) -0.0051(13) 0.0046(13) -0.0003(17)
loop_
_atom_type_symbol
_atom_type_description
_atom_type_scat_dispersion_real
_atom_type_scat_dispersion_imag
_atom_type_scat_source
C C 0.0033 0.0016 'International Tables Vol C Tables 4.2.6.8 and 6.1.1.4'
H H 0.0000 0.0000 'International Tables Vol C Tables 4.2.6.8 and 6.1.1.4'
N N 0.0061 0.0033 'International Tables Vol C Tables 4.2.6.8 and 6.1.1.4'
Cl Cl 0.1484 0.1585 'International Tables Vol C Tables 4.2.6.8 and 6.1.1.4'
Fe Fe 0.3463 0.8444 'International Tables Vol C Tables 4.2.6.8 and 6.1.1.4'
loop_
_geom_angle_atom_site_label_1
_geom_angle_atom_site_label_2
_geom_angle_atom_site_label_3
_geom_angle
_geom_angle_site_symmetry_1
_geom_angle_site_symmetry_3
Cl1 Fe1 Cl1 180.0 . 5
Cl1 Fe1 Cl2 90.00(3) . 5
Cl1 Fe1 Cl2 89.99(3) 5 5
Cl1 Fe1 Cl2 89.99(3) . .
Cl1 Fe1 Cl2 90.01(3) 5 .
Cl2 Fe1 Cl2 180.0 5 .
Cl1 Fe1 Cl3 90.45(3) . 5
Cl1 Fe1 Cl3 89.55(3) 5 5
Cl2 Fe1 Cl3 90.001(17) 5 5
Cl2 Fe1 Cl3 90.000(17) . 5
Cl1 Fe1 Cl3 89.55(3) . .
Cl1 Fe1 Cl3 90.45(3) 5 .
Cl2 Fe1 Cl3 89.999(17) 5 .
Cl2 Fe1 Cl3 90.000(17) . .
Cl3 Fe1 Cl3 180.0 5 .
Fe1 Cl2 Fe1 180.00(4) . 2
Fe1 Cl3 Fe1 166.85(4) . 2_455
loop_
_geom_bond_atom_site_label_1
_geom_bond_atom_site_label_2
_geom_bond_distance
_geom_bond_site_symmetry_2
Fe1 Cl1 2.4141(9) .
Fe1 Cl1 2.4141(9) 5
Fe1 Cl2 2.5388(4) 5
Fe1 Cl2 2.5388(4) .
Fe1 Cl3 2.5556(4) 5
Fe1 Cl3 2.5556(4) .
Cl2 Fe1 2.5388(4) 2
Cl3 Fe1 2.5557(4) 2_455
N1 C1 1.469(4) .
loop_
_geom_torsion_atom_site_label_1
_geom_torsion_atom_site_label_2
_geom_torsion_atom_site_label_3
_geom_torsion_atom_site_label_4
_geom_torsion
_geom_torsion_site_symmetry_1
_geom_torsion_site_symmetry_4
Cl1 Fe1 Cl2 Fe1 -25(40) . 2
Cl1 Fe1 Cl2 Fe1 155(33) 5 2
Cl2 Fe1 Cl2 Fe1 6(7) 5 2
Cl3 Fe1 Cl2 Fe1 -115(40) 5 2
Cl3 Fe1 Cl2 Fe1 65(33) . 2
Cl1 Fe1 Cl3 Fe1 179.992(17) . 2_455
Cl1 Fe1 Cl3 Fe1 -0.009(17) 5 2_455
Cl2 Fe1 Cl3 Fe1 -90.00(2) 5 2_455
Cl2 Fe1 Cl3 Fe1 90.00(2) . 2_455
Cl3 Fe1 Cl3 Fe1 40(4) 5 2_455
