#------------------------------------------------------------------------------
#$Date: 2016-03-23 22:59:06 +0200 (Wed, 23 Mar 2016) $
#$Revision: 179498 $
#$URL: svn://www.crystallography.net/cod/cif/4/33/95/4339510.cif $
#------------------------------------------------------------------------------
#
# This file is available in the Crystallography Open Database (COD),
# http://www.crystallography.net/
#
# All data on this site have been placed in the public domain by the
# contributors.
#
data_4339510
loop_
_publ_author_name
'Denehy, Emma'
'White, Jonathan M.'
'Williams, Spencer J.'
_publ_section_title
;
 Electronic structure of the sulfonyl and phosphonyl groups: a
 computational and crystallographic study.
;
_journal_issue                   21
_journal_name_full               'Inorganic chemistry'
_journal_page_first              8871
_journal_page_last               8886
_journal_paper_doi               10.1021/ic700687t
_journal_volume                  46
_journal_year                    2007
_chemical_formula_sum            'C7 H6 N2 O7 S'
_chemical_formula_weight         262.20
_chemical_name_common            '2,4-dinitrophenyl mesylate'
_chemical_name_systematic
;
 ?
;
_space_group_IT_number           14
_symmetry_cell_setting           monoclinic
_symmetry_space_group_name_Hall  '-P 2ybc'
_symmetry_space_group_name_H-M   'P 1 21/c 1'
_atom_sites_solution_hydrogens   geom
_atom_sites_solution_primary     direct
_atom_sites_solution_secondary   difmap
_audit_creation_method           SHELXL-97
_cell_angle_alpha                90.00
_cell_angle_beta                 95.454(2)
_cell_angle_gamma                90.00
_cell_formula_units_Z            4
_cell_length_a                   5.0702(5)
_cell_length_b                   11.5985(12)
_cell_length_c                   16.9817(17)
_cell_measurement_reflns_used    3877
_cell_measurement_temperature    130(2)
_cell_measurement_theta_max      27.42
_cell_measurement_theta_min      2.41
_cell_volume                     994.12(17)
_computing_cell_refinement       'Bruker SMART'
_computing_data_collection       'Bruker SMART'
_computing_data_reduction        'Bruker SAINT'
_computing_molecular_graphics    'Bruker SHELXTL'
_computing_publication_material  'Bruker SHELXTL'
_computing_structure_refinement  'Bruker SHELXTL'
_computing_structure_solution    'Bruker SHELXTL'
_diffrn_ambient_temperature      130(2)
_diffrn_measured_fraction_theta_full 0.999
_diffrn_measured_fraction_theta_max 0.999
_diffrn_measurement_device_type  'CCD area detector'
_diffrn_measurement_method       'phi and omega scans'
_diffrn_radiation_monochromator  graphite
_diffrn_radiation_source         'fine-focus sealed tube'
_diffrn_radiation_type           MoK\a
_diffrn_radiation_wavelength     0.71073
_diffrn_reflns_av_R_equivalents  0.0138
_diffrn_reflns_av_sigmaI/netI    0.0148
_diffrn_reflns_limit_h_max       6
_diffrn_reflns_limit_h_min       -5
_diffrn_reflns_limit_k_max       13
_diffrn_reflns_limit_k_min       -13
_diffrn_reflns_limit_l_max       20
_diffrn_reflns_limit_l_min       -17
_diffrn_reflns_number            5100
_diffrn_reflns_theta_full        24.99
_diffrn_reflns_theta_max         24.99
_diffrn_reflns_theta_min         2.13
_exptl_absorpt_coefficient_mu    0.355
_exptl_absorpt_correction_T_max  1.00
_exptl_absorpt_correction_T_min  0.88
_exptl_absorpt_correction_type   multi-scan
_exptl_absorpt_process_details   SADABS
_exptl_crystal_colour            colourless
_exptl_crystal_density_diffrn    1.752
_exptl_crystal_density_method    'not measured'
_exptl_crystal_description       block
_exptl_crystal_F_000             536
_exptl_crystal_size_max          0.40
_exptl_crystal_size_mid          0.30
_exptl_crystal_size_min          0.25
_refine_diff_density_max         0.280
_refine_diff_density_min         -0.356
_refine_diff_density_rms         0.050
_refine_ls_extinction_method     none
_refine_ls_goodness_of_fit_ref   1.064
_refine_ls_hydrogen_treatment    mixed
_refine_ls_matrix_type           full
_refine_ls_number_parameters     155
_refine_ls_number_reflns         1740
_refine_ls_number_restraints     0
_refine_ls_restrained_S_all      1.064
_refine_ls_R_factor_all          0.0283
_refine_ls_R_factor_gt           0.0269
_refine_ls_shift/su_max          0.000
_refine_ls_shift/su_mean         0.000
_refine_ls_structure_factor_coef Fsqd
_refine_ls_weighting_details
'calc w=1/[σ²(Fo²)+(0.0387P)²+0.4940P] where P=(Fo²+2Fc²)/3'
_refine_ls_weighting_scheme      calc
_refine_ls_wR_factor_gt          0.0737
_refine_ls_wR_factor_ref         0.0747
_reflns_number_gt                1652
_reflns_number_total             1740
_reflns_threshold_expression     >2sigma(I)
_cod_data_source_file            ic700687t-file003.cif
_cod_data_source_block           jmwsw33
_cod_depositor_comments
;
The following automatic conversions were performed:

'_symmetry_cell_setting' value 'Monoclinic' changed to 'monoclinic'
according to
/usr/data/users/saulius/automatic-downloads/retrospective/ACS/lib/dictionaries/cif_core.dic
dictionary named 'cif_core.dic' version 2.4.2 from
2011-04-26.

'_exptl_absorpt_correction_type' value 'multiscan'
changed to 'multi-scan' according to
/usr/data/users/saulius/automatic-downloads/retrospective/ACS/lib/dictionaries/cif_core.dic
dictionary named 'cif_core.dic' version 2.4.2 from 2011-04-26.

Automatic conversion script
Id: cif_fix_values 2281 2013-09-26 08:29:07Z andrius 
;
_cod_original_sg_symbol_H-M      'P2(1)/c  '
_cod_database_code               4339510
loop_
_symmetry_equiv_pos_as_xyz
'x, y, z'
'-x, y+1/2, -z+1/2'
'-x, -y, -z'
'x, -y-1/2, z-1/2'
loop_
_atom_site_label
_atom_site_type_symbol
_atom_site_fract_x
_atom_site_fract_y
_atom_site_fract_z
_atom_site_U_iso_or_equiv
_atom_site_adp_type
_atom_site_occupancy
_atom_site_symmetry_multiplicity
_atom_site_calc_flag
_atom_site_refinement_flags
C1 C 0.2513(3) 0.51925(13) 0.21370(9) 0.0211(3) Uani 1 1 d .
C2 C 0.0322(3) 0.46513(13) 0.17360(9) 0.0202(3) Uani 1 1 d .
C3 C -0.1056(3) 0.51605(13) 0.10863(9) 0.0202(3) Uani 1 1 d .
H3 H -0.2594 0.4810 0.0827 0.024 Uiso 1 1 calc R
C4 C -0.0117(3) 0.61959(13) 0.08281(9) 0.0215(3) Uani 1 1 d .
C5 C 0.2074(3) 0.67455(14) 0.12015(9) 0.0243(3) Uani 1 1 d .
H5 H 0.2676 0.7456 0.1006 0.029 Uiso 1 1 calc R
C6 C 0.3374(3) 0.62382(14) 0.18670(9) 0.0241(3) Uani 1 1 d .
H6 H 0.4862 0.6610 0.2139 0.029 Uiso 1 1 calc R
C7 C 0.4195(3) 0.59237(14) 0.40791(10) 0.0285(4) Uani 1 1 d .
H7A H 0.3649 0.6011 0.4614 0.043 Uiso 1 1 calc R
H7B H 0.3657 0.6607 0.3765 0.043 Uiso 1 1 calc R
H7C H 0.6124 0.5838 0.4108 0.043 Uiso 1 1 calc R
N1 N -0.0606(3) 0.35130(11) 0.19702(7) 0.0227(3) Uani 1 1 d .
N2 N -0.1505(3) 0.67197(11) 0.01133(8) 0.0251(3) Uani 1 1 d .
O1 O 0.3915(2) 0.46959(10) 0.27916(6) 0.0247(3) Uani 1 1 d .
O2 O 0.3733(2) 0.36937(10) 0.40232(7) 0.0292(3) Uani 1 1 d .
O3 O -0.0101(2) 0.48500(11) 0.34976(7) 0.0308(3) Uani 1 1 d .
O4 O 0.1029(2) 0.28172(10) 0.22578(7) 0.0339(3) Uani 1 1 d .
O5 O -0.2983(2) 0.33240(10) 0.18414(6) 0.0271(3) Uani 1 1 d .
O6 O -0.3720(2) 0.63616(10) -0.01122(7) 0.0334(3) Uani 1 1 d .
O7 O -0.0345(2) 0.74729(11) -0.02232(7) 0.0358(3) Uani 1 1 d .
S1 S 0.26893(7) 0.47045(3) 0.36362(2) 0.02145(14) Uani 1 1 d .
loop_
_atom_site_aniso_label
_atom_site_aniso_U_11
_atom_site_aniso_U_22
_atom_site_aniso_U_33
_atom_site_aniso_U_23
_atom_site_aniso_U_13
_atom_site_aniso_U_12
C1 0.0191(8) 0.0264(8) 0.0176(7) -0.0040(6) 0.0012(6) 0.0035(6)
C2 0.0215(8) 0.0193(8) 0.0201(8) -0.0021(6) 0.0041(6) -0.0001(6)
C3 0.0196(8) 0.0221(8) 0.0187(7) -0.0042(6) 0.0016(6) -0.0009(6)
C4 0.0238(8) 0.0225(8) 0.0185(7) -0.0010(6) 0.0033(6) 0.0021(6)
C5 0.0260(8) 0.0218(8) 0.0258(8) -0.0015(6) 0.0068(6) -0.0034(6)
C6 0.0202(8) 0.0276(8) 0.0248(8) -0.0077(6) 0.0028(6) -0.0036(6)
C7 0.0371(9) 0.0220(8) 0.0251(8) -0.0044(6) -0.0032(7) 0.0045(7)
N1 0.0270(8) 0.0208(7) 0.0202(6) -0.0019(5) 0.0024(5) -0.0005(6)
N2 0.0307(8) 0.0236(7) 0.0213(7) 0.0000(5) 0.0037(6) 0.0032(6)
O1 0.0209(6) 0.0334(6) 0.0194(6) -0.0027(4) -0.0008(4) 0.0063(5)
O2 0.0351(7) 0.0232(6) 0.0289(6) 0.0029(5) -0.0003(5) 0.0047(5)
O3 0.0240(6) 0.0433(7) 0.0251(6) -0.0005(5) 0.0021(5) 0.0047(5)
O4 0.0353(7) 0.0251(6) 0.0404(7) 0.0075(5) -0.0010(5) 0.0051(5)
O5 0.0256(6) 0.0255(6) 0.0302(6) -0.0014(5) 0.0024(5) -0.0058(5)
O6 0.0338(7) 0.0354(7) 0.0289(6) 0.0025(5) -0.0080(5) -0.0034(5)
O7 0.0415(7) 0.0345(7) 0.0322(7) 0.0125(5) 0.0079(5) -0.0018(6)
S1 0.0228(2) 0.0224(2) 0.0188(2) -0.00089(14) -0.00015(15) 0.00408(14)
loop_
_atom_type_symbol
_atom_type_description
_atom_type_scat_dispersion_real
_atom_type_scat_dispersion_imag
_atom_type_scat_source
C C 0.0033 0.0016 'International Tables Vol C Tables 4.2.6.8 and 6.1.1.4'
H H 0.0000 0.0000 'International Tables Vol C Tables 4.2.6.8 and 6.1.1.4'
N N 0.0061 0.0033 'International Tables Vol C Tables 4.2.6.8 and 6.1.1.4'
O O 0.0106 0.0060 'International Tables Vol C Tables 4.2.6.8 and 6.1.1.4'
S S 0.1246 0.1234 'International Tables Vol C Tables 4.2.6.8 and 6.1.1.4'
loop_
_geom_angle_atom_site_label_1
_geom_angle_atom_site_label_2
_geom_angle_atom_site_label_3
_geom_angle
C6 C1 O1 118.47(14)
C6 C1 C2 119.64(14)
O1 C1 C2 121.87(14)
C3 C2 C1 121.07(14)
C3 C2 N1 116.74(13)
C1 C2 N1 122.18(14)
C4 C3 C2 117.57(14)
C4 C3 H3 121.2
C2 C3 H3 121.2
C3 C4 C5 122.89(15)
C3 C4 N2 117.92(14)
C5 C4 N2 119.18(14)
C4 C5 C6 118.57(15)
C4 C5 H5 120.7
C6 C5 H5 120.7
C1 C6 C5 120.21(14)
C1 C6 H6 119.9
C5 C6 H6 119.9
S1 C7 H7A 109.5
S1 C7 H7B 109.5
H7A C7 H7B 109.5
S1 C7 H7C 109.5
H7A C7 H7C 109.5
H7B C7 H7C 109.5
O5 N1 O4 124.80(13)
O5 N1 C2 116.59(13)
O4 N1 C2 118.58(13)
O6 N2 O7 124.26(14)
O6 N2 C4 118.00(13)
O7 N2 C4 117.73(13)
C1 O1 S1 119.86(9)
O2 S1 O3 119.68(8)
O2 S1 O1 104.34(6)
O3 S1 O1 108.31(6)
O2 S1 C7 109.94(7)
O3 S1 C7 111.29(8)
O1 S1 C7 101.44(7)
loop_
_geom_bond_atom_site_label_1
_geom_bond_atom_site_label_2
_geom_bond_distance
C1 C6 1.382(2)
C1 O1 1.3865(19)
C1 C2 1.396(2)
C2 C3 1.381(2)
C2 N1 1.4690(19)
C3 C4 1.379(2)
C3 H3 0.9500
C4 C5 1.381(2)
C4 N2 1.475(2)
C5 C6 1.384(2)
C5 H5 0.9500
C6 H6 0.9500
C7 S1 1.7432(16)
C7 H7A 0.9800
C7 H7B 0.9800
C7 H7C 0.9800
N1 O5 1.2239(17)
N1 O4 1.2246(17)
N2 O6 1.2241(18)
N2 O7 1.2243(17)
O1 S1 1.6163(11)
O2 S1 1.4214(12)
O3 S1 1.4219(12)
