#------------------------------------------------------------------------------
#$Date: 2016-03-23 22:59:06 +0200 (Wed, 23 Mar 2016) $
#$Revision: 179498 $
#$URL: svn://www.crystallography.net/cod/cif/4/33/95/4339514.cif $
#------------------------------------------------------------------------------
#
# This file is available in the Crystallography Open Database (COD),
# http://www.crystallography.net/
#
# All data on this site have been placed in the public domain by the
# contributors.
#
data_4339514
loop_
_publ_author_name
'Denehy, Emma'
'White, Jonathan M.'
'Williams, Spencer J.'
_publ_section_title
;
 Electronic structure of the sulfonyl and phosphonyl groups: a
 computational and crystallographic study.
;
_journal_issue                   21
_journal_name_full               'Inorganic chemistry'
_journal_page_first              8871
_journal_page_last               8886
_journal_paper_doi               10.1021/ic700687t
_journal_volume                  46
_journal_year                    2007
_chemical_formula_sum            'C8 H7 N O3 S'
_chemical_formula_weight         197.21
_chemical_name_common            '4-cyanophenyl mesylate'
_chemical_name_systematic
;
 ?
;
_space_group_IT_number           15
_symmetry_cell_setting           monoclinic
_symmetry_space_group_name_Hall  '-C 2yc'
_symmetry_space_group_name_H-M   'C 1 2/c 1'
_atom_sites_solution_hydrogens   geom
_atom_sites_solution_primary     direct
_atom_sites_solution_secondary   difmap
_audit_creation_method           SHELXL-97
_cell_angle_alpha                90.00
_cell_angle_beta                 116.664(2)
_cell_angle_gamma                90.00
_cell_formula_units_Z            8
_cell_length_a                   14.240(2)
_cell_length_b                   8.8459(12)
_cell_length_c                   15.721(2)
_cell_measurement_reflns_used    2824
_cell_measurement_temperature    130(2)
_cell_measurement_theta_max      27.39
_cell_measurement_theta_min      2.80
_cell_volume                     1769.7(4)
_computing_cell_refinement       'Bruker SMART'
_computing_data_collection       'Bruker SMART'
_computing_data_reduction        'Bruker SAINT'
_computing_molecular_graphics    'Bruker SHELXTL'
_computing_publication_material  'Bruker SHELXTL'
_computing_structure_refinement  'Bruker SHELXTL'
_computing_structure_solution    'Bruker SHELXTL'
_diffrn_ambient_temperature      130(2)
_diffrn_measured_fraction_theta_full 0.999
_diffrn_measured_fraction_theta_max 0.999
_diffrn_measurement_device_type  'CCD area detector'
_diffrn_measurement_method       'phi and omega scans'
_diffrn_radiation_monochromator  graphite
_diffrn_radiation_source         'fine-focus sealed tube'
_diffrn_radiation_type           MoK\a
_diffrn_radiation_wavelength     0.71073
_diffrn_reflns_av_R_equivalents  0.0166
_diffrn_reflns_av_sigmaI/netI    0.0200
_diffrn_reflns_limit_h_max       16
_diffrn_reflns_limit_h_min       -16
_diffrn_reflns_limit_k_max       10
_diffrn_reflns_limit_k_min       -8
_diffrn_reflns_limit_l_max       16
_diffrn_reflns_limit_l_min       -18
_diffrn_reflns_number            4233
_diffrn_reflns_theta_full        24.98
_diffrn_reflns_theta_max         24.98
_diffrn_reflns_theta_min         2.80
_exptl_absorpt_coefficient_mu    0.337
_exptl_absorpt_correction_T_max  1.00
_exptl_absorpt_correction_T_min  0.83
_exptl_absorpt_correction_type   multi-scan
_exptl_absorpt_process_details   SADABS
_exptl_crystal_colour            colourless
_exptl_crystal_density_diffrn    1.480
_exptl_crystal_density_method    'not measured'
_exptl_crystal_description       block
_exptl_crystal_F_000             816
_exptl_crystal_size_max          0.45
_exptl_crystal_size_mid          0.30
_exptl_crystal_size_min          0.20
_refine_diff_density_max         0.393
_refine_diff_density_min         -0.256
_refine_diff_density_rms         0.050
_refine_ls_extinction_method     none
_refine_ls_goodness_of_fit_ref   1.082
_refine_ls_hydrogen_treatment    mixed
_refine_ls_matrix_type           full
_refine_ls_number_parameters     119
_refine_ls_number_reflns         1553
_refine_ls_number_restraints     0
_refine_ls_restrained_S_all      1.082
_refine_ls_R_factor_all          0.0367
_refine_ls_R_factor_gt           0.0340
_refine_ls_shift/su_max          0.000
_refine_ls_shift/su_mean         0.000
_refine_ls_structure_factor_coef Fsqd
_refine_ls_weighting_details
'calc w=1/[σ²(Fo²)+(0.0452P)²+2.1352P] where P=(Fo²+2Fc²)/3'
_refine_ls_weighting_scheme      calc
_refine_ls_wR_factor_gt          0.0875
_refine_ls_wR_factor_ref         0.0887
_reflns_number_gt                1435
_reflns_number_total             1553
_reflns_threshold_expression     >2sigma(I)
_cod_data_source_file            ic700687t-file003.cif
_cod_data_source_block           jmwsw31
_cod_depositor_comments
;
The following automatic conversions were performed:

'_symmetry_cell_setting' value 'Monoclinic' changed to 'monoclinic'
according to
/usr/data/users/saulius/automatic-downloads/retrospective/ACS/lib/dictionaries/cif_core.dic
dictionary named 'cif_core.dic' version 2.4.2 from
2011-04-26.

'_exptl_absorpt_correction_type' value 'multiscan'
changed to 'multi-scan' according to
/usr/data/users/saulius/automatic-downloads/retrospective/ACS/lib/dictionaries/cif_core.dic
dictionary named 'cif_core.dic' version 2.4.2 from 2011-04-26.

Automatic conversion script
Id: cif_fix_values 2281 2013-09-26 08:29:07Z andrius 
;
_cod_original_cell_volume        1769.8(4)
_cod_original_sg_symbol_H-M      'C2/c  '
_cod_database_code               4339514
loop_
_symmetry_equiv_pos_as_xyz
'x, y, z'
'-x, y, -z+1/2'
'x+1/2, y+1/2, z'
'-x+1/2, y+1/2, -z+1/2'
'-x, -y, -z'
'x, -y, z-1/2'
'-x+1/2, -y+1/2, -z'
'x+1/2, -y+1/2, z-1/2'
loop_
_atom_site_label
_atom_site_type_symbol
_atom_site_fract_x
_atom_site_fract_y
_atom_site_fract_z
_atom_site_U_iso_or_equiv
_atom_site_adp_type
_atom_site_occupancy
_atom_site_symmetry_multiplicity
_atom_site_calc_flag
_atom_site_refinement_flags
C1 C 0.37771(14) 0.1167(2) 0.40951(12) 0.0214(4) Uani 1 1 d .
C2 C 0.41478(14) -0.0018(2) 0.37628(13) 0.0234(4) Uani 1 1 d .
H2 H 0.3777 -0.0949 0.3588 0.028 Uiso 1 1 calc R
C3 C 0.50737(15) 0.0178(2) 0.36890(13) 0.0248(4) Uani 1 1 d .
H3 H 0.5345 -0.0619 0.3459 0.030 Uiso 1 1 calc R
C4 C 0.56036(14) 0.1553(2) 0.39541(13) 0.0238(4) Uani 1 1 d .
C5 C 0.52130(15) 0.2734(2) 0.42935(14) 0.0261(4) Uani 1 1 d .
H5 H 0.5583 0.3664 0.4477 0.031 Uiso 1 1 calc R
C6 C 0.42852(15) 0.2542(2) 0.43618(13) 0.0244(4) Uani 1 1 d .
H6 H 0.4005 0.3336 0.4586 0.029 Uiso 1 1 calc R
C7 C 0.65660(16) 0.1768(2) 0.38748(14) 0.0284(4) Uani 1 1 d .
C8 C 0.15171(15) 0.0333(2) 0.24389(14) 0.0294(5) Uani 1 1 d .
H8A H 0.0813 0.0542 0.1929 0.044 Uiso 1 1 calc R
H8B H 0.1562 -0.0730 0.2629 0.044 Uiso 1 1 calc R
H8C H 0.2041 0.0537 0.2210 0.044 Uiso 1 1 calc R
N1 N 0.73219(14) 0.1966(2) 0.37970(14) 0.0378(5) Uani 1 1 d .
O1 O 0.28637(9) 0.09082(15) 0.42203(9) 0.0239(3) Uani 1 1 d .
O2 O 0.10462(10) 0.11338(17) 0.37987(10) 0.0319(4) Uani 1 1 d .
O3 O 0.18560(11) 0.30243(16) 0.31884(10) 0.0325(4) Uani 1 1 d .
S1 S 0.17585(3) 0.14928(5) 0.34181(3) 0.02311(17) Uani 1 1 d .
loop_
_atom_site_aniso_label
_atom_site_aniso_U_11
_atom_site_aniso_U_22
_atom_site_aniso_U_33
_atom_site_aniso_U_23
_atom_site_aniso_U_13
_atom_site_aniso_U_12
C1 0.0173(9) 0.0269(10) 0.0194(9) 0.0041(7) 0.0077(7) 0.0015(7)
C2 0.0206(9) 0.0216(9) 0.0236(9) -0.0002(7) 0.0062(8) -0.0006(7)
C3 0.0231(9) 0.0258(10) 0.0244(10) 0.0001(8) 0.0098(8) 0.0040(8)
C4 0.0191(9) 0.0303(10) 0.0212(9) 0.0038(8) 0.0084(8) 0.0014(8)
C5 0.0242(10) 0.0237(10) 0.0299(10) 0.0003(8) 0.0118(8) -0.0026(8)
C6 0.0237(10) 0.0234(10) 0.0263(10) -0.0007(8) 0.0115(8) 0.0034(8)
C7 0.0265(11) 0.0307(11) 0.0286(10) -0.0008(8) 0.0129(8) -0.0002(8)
C8 0.0232(10) 0.0365(11) 0.0275(10) -0.0041(8) 0.0105(8) -0.0005(8)
N1 0.0313(10) 0.0432(11) 0.0463(11) -0.0065(9) 0.0241(9) -0.0058(8)
O1 0.0182(7) 0.0293(7) 0.0247(7) 0.0029(5) 0.0101(6) -0.0002(5)
O2 0.0216(7) 0.0443(9) 0.0333(8) -0.0021(6) 0.0154(6) -0.0018(6)
O3 0.0284(8) 0.0263(8) 0.0414(8) 0.0050(6) 0.0145(7) 0.0048(6)
S1 0.0176(3) 0.0265(3) 0.0264(3) 0.00061(18) 0.0109(2) 0.00143(18)
loop_
_atom_type_symbol
_atom_type_description
_atom_type_scat_dispersion_real
_atom_type_scat_dispersion_imag
_atom_type_scat_source
C C 0.0033 0.0016 'International Tables Vol C Tables 4.2.6.8 and 6.1.1.4'
H H 0.0000 0.0000 'International Tables Vol C Tables 4.2.6.8 and 6.1.1.4'
N N 0.0061 0.0033 'International Tables Vol C Tables 4.2.6.8 and 6.1.1.4'
O O 0.0106 0.0060 'International Tables Vol C Tables 4.2.6.8 and 6.1.1.4'
S S 0.1246 0.1234 'International Tables Vol C Tables 4.2.6.8 and 6.1.1.4'
loop_
_geom_angle_atom_site_label_1
_geom_angle_atom_site_label_2
_geom_angle_atom_site_label_3
_geom_angle
C2 C1 C6 123.22(17)
C2 C1 O1 117.44(16)
C6 C1 O1 119.21(16)
C1 C2 C3 118.50(17)
C1 C2 H2 120.8
C3 C2 H2 120.8
C2 C3 C4 119.52(17)
C2 C3 H3 120.2
C4 C3 H3 120.2
C3 C4 C5 120.79(17)
C3 C4 C7 119.79(17)
C5 C4 C7 119.42(17)
C6 C5 C4 119.76(18)
C6 C5 H5 120.1
C4 C5 H5 120.1
C1 C6 C5 118.21(17)
C1 C6 H6 120.9
C5 C6 H6 120.9
N1 C7 C4 178.4(2)
S1 C8 H8A 109.5
S1 C8 H8B 109.5
H8A C8 H8B 109.5
S1 C8 H8C 109.5
H8A C8 H8C 109.5
H8B C8 H8C 109.5
C1 O1 S1 118.55(11)
O3 S1 O2 119.13(9)
O3 S1 O1 109.53(8)
O2 S1 O1 103.35(8)
O3 S1 C8 109.72(10)
O2 S1 C8 110.04(9)
O1 S1 C8 103.86(8)
loop_
_geom_bond_atom_site_label_1
_geom_bond_atom_site_label_2
_geom_bond_distance
C1 C2 1.378(3)
C1 C6 1.381(3)
C1 O1 1.419(2)
C2 C3 1.385(3)
C2 H2 0.9500
C3 C4 1.393(3)
C3 H3 0.9500
C4 C5 1.397(3)
C4 C7 1.443(3)
C5 C6 1.383(3)
C5 H5 0.9500
C6 H6 0.9500
C7 N1 1.150(3)
C8 S1 1.751(2)
C8 H8A 0.9800
C8 H8B 0.9800
C8 H8C 0.9800
O1 S1 1.5980(13)
O2 S1 1.4257(14)
O3 S1 1.4248(15)
