#------------------------------------------------------------------------------
#$Date: 2025-08-21 03:19:08 +0300 (Thu, 21 Aug 2025) $
#$Revision: 301842 $
#$URL: file:///home/coder/svn-repositories/cod/cif/4/50/80/4508017.cif $
#------------------------------------------------------------------------------
#
# This file is available in the Crystallography Open Database (COD),
# http://www.crystallography.net/
#
# All data on this site have been placed in the public domain by the
# contributors.
#
data_4508017
loop_
_publ_author_name
'Bhattacharya, Suman'
'Saraswatula, Viswanadha G.'
'Saha, Binoy K.'
_publ_section_title
;
 Thermal Expansion in Alkane Diacids---Another Property Showing
 Alternation in an Odd--Even Series
;
_journal_issue                   8
_journal_name_full               'Crystal Growth & Design'
_journal_page_first              3651
_journal_paper_doi               10.1021/cg400668w
_journal_volume                  13
_journal_year                    2013
_chemical_formula_moiety         'C7 H12 O4'
_chemical_formula_sum            'C7 H12 O4'
_chemical_formula_weight         160.17
_chemical_name_common            C7-180-alpha-polymorph
_chemical_name_systematic        'Heptane-1,7-dioic acid'
_space_group_crystal_system      monoclinic
_space_group_IT_number           14
_space_group_name_Hall           '-P 2ybc'
_space_group_name_H-M_alt        'P 1 21/c 1'
_symmetry_space_group_name_Hall  '-P 2ybc'
_symmetry_space_group_name_H-M   'P 1 21/c 1'
_atom_sites_solution_hydrogens   geom
_atom_sites_solution_primary     direct
_atom_sites_solution_secondary   difmap
_audit_creation_date             2012-12-09
_audit_creation_method
;
  Olex2 1.2
  (compiled 2012.05.09 svn.r2324, GUI svn.r4230)
;
_cell_angle_alpha                90.00
_cell_angle_beta                 109.001(6)
_cell_angle_gamma                90.00
_cell_formula_units_Z            4
_cell_length_a                   5.5782(4)
_cell_length_b                   9.5993(6)
_cell_length_c                   16.0146(10)
_cell_measurement_reflns_used    1437
_cell_measurement_temperature    228(2)
_cell_measurement_theta_max      29.2077
_cell_measurement_theta_min      4.5519
_cell_volume                     810.81(10)
_computing_cell_refinement
;
CrysAlisPro, Agilent Technologies,
Version 1.171.36.21 (release 14-08-2012 CrysAlis171 .NET)
(compiled Sep 14 2012,17:21:16)
;
_computing_data_collection
;
CrysAlisPro, Agilent Technologies,
Version 1.171.36.21 (release 14-08-2012 CrysAlis171 .NET)
(compiled Sep 14 2012,17:21:16)
;
_computing_data_reduction
;
CrysAlisPro, Agilent Technologies,
Version 1.171.36.21 (release 14-08-2012 CrysAlis171 .NET)
(compiled Sep 14 2012,17:21:16)
;
_computing_molecular_graphics
;
O. V. Dolomanov, L. J. Bourhis, R. J. Gildea, J. A. K. Howard and H. Puschmann,
OLEX2: a complete structure solution, refinement and analysis program.
J. Appl. Cryst. (2009). 42, 339-341.
;
_computing_publication_material
;
O. V. Dolomanov, L. J. Bourhis, R. J. Gildea, J. A. K. Howard and H. Puschmann,
OLEX2: a complete structure solution, refinement and analysis program.
J. Appl. Cryst. (2009). 42, 339-341.
;
_computing_structure_refinement
;
SHELXL, G.M. Sheldrick, Acta Cryst.
(2008). A64, 112-122
;
_computing_structure_solution
;
SHELXS, G.M. Sheldrick, Acta Cryst.
(2008). A64, 112-122
;
_diffrn_ambient_temperature      228(2)
_diffrn_detector_area_resol_mean 15.9821
_diffrn_measured_fraction_theta_full 0.9886
_diffrn_measured_fraction_theta_max 0.8977
_diffrn_measurement_details
;
  1 omega  -61.00  -35.00   1.0000    5.0000
omega____ theta____ kappa____ phi______ frames
    -      -17.5741 -178.0000 -180.0000 26

  2 omega  -82.00   -7.00   1.0000    5.0000
omega____ theta____ kappa____ phi______ frames
    -      -17.5741  -57.0000  -30.0000 75

  3 omega  -81.00    4.00   1.0000    5.0000
omega____ theta____ kappa____ phi______ frames
    -      -17.5741  -37.0000   30.0000 85

  4 omega   39.00   73.00   1.0000    5.0000
omega____ theta____ kappa____ phi______ frames
    -       19.2928  178.0000  -60.0000 34

  5 omega  -48.00    3.00   1.0000    5.0000
omega____ theta____ kappa____ phi______ frames
    -      -17.5741   77.0000   60.0000 51
;
_diffrn_measurement_device_type  'Xcalibur, Eos'
_diffrn_measurement_method       'ω scans'
_diffrn_orient_matrix_UB_11      -0.0258324000
_diffrn_orient_matrix_UB_12      0.0100794000
_diffrn_orient_matrix_UB_13      0.0451627000
_diffrn_orient_matrix_UB_21      0.1139448000
_diffrn_orient_matrix_UB_22      0.0313132000
_diffrn_orient_matrix_UB_23      0.0069476000
_diffrn_orient_matrix_UB_31      -0.0499490000
_diffrn_orient_matrix_UB_32      0.0661666000
_diffrn_orient_matrix_UB_33      -0.0101756000
_diffrn_radiation_monochromator  graphite
_diffrn_radiation_type           'Mo K\a'
_diffrn_radiation_wavelength     0.7107
_diffrn_reflns_av_R_equivalents  0.0202
_diffrn_reflns_av_unetI/netI     0.0297
_diffrn_reflns_limit_h_max       7
_diffrn_reflns_limit_h_min       -6
_diffrn_reflns_limit_k_max       13
_diffrn_reflns_limit_k_min       -12
_diffrn_reflns_limit_l_max       21
_diffrn_reflns_limit_l_min       -20
_diffrn_reflns_number            4063
_diffrn_reflns_theta_full        25.00
_diffrn_reflns_theta_max         29.28
_diffrn_reflns_theta_min         4.56
_diffrn_source                   'Enhance (Mo) X-ray Source'
_exptl_absorpt_coefficient_mu    0.108
_exptl_absorpt_correction_T_max  0.985
_exptl_absorpt_correction_T_min  0.954
_exptl_absorpt_correction_type   multi-scan
_exptl_absorpt_process_details
;
CrysAlisPro, Agilent Technologies,
Version 1.171.36.21 (release 14-08-2012 CrysAlis171 .NET)
(compiled Sep 14 2012,17:21:16)
Empirical absorption correction using spherical harmonics,
 implemented in SCALE3 ABSPACK scaling algorithm.
;
_exptl_crystal_colour            colourless
_exptl_crystal_density_diffrn    1.312
_exptl_crystal_density_method    'not measured'
_exptl_crystal_description       plate
_exptl_crystal_F_000             344
_exptl_crystal_size_max          0.44
_exptl_crystal_size_mid          0.42
_exptl_crystal_size_min          0.14
_refine_diff_density_max         0.245
_refine_diff_density_min         -0.177
_refine_diff_density_rms         0.040
_refine_ls_extinction_method     none
_refine_ls_goodness_of_fit_ref   1.033
_refine_ls_hydrogen_treatment    mixed
_refine_ls_matrix_type           full
_refine_ls_number_parameters     108
_refine_ls_number_reflns         1831
_refine_ls_number_restraints     2
_refine_ls_restrained_S_all      1.036
_refine_ls_R_factor_all          0.0564
_refine_ls_R_factor_gt           0.0415
_refine_ls_shift/su_max          0.000
_refine_ls_shift/su_mean         0.000
_refine_ls_structure_factor_coef Fsqd
_refine_ls_weighting_details
'calc w=1/[σ²(Fo²)+(0.0581P)²+0.1501P] where P=(Fo²+2Fc²)/3'
_refine_ls_weighting_scheme      calc
_refine_ls_wR_factor_gt          0.1091
_refine_ls_wR_factor_ref         0.1179
_reflns_number_gt                1423
_reflns_number_total             2215
_reflns_threshold_expression     >2sigma(I)
_cod_data_source_file            cg400668w_si_002.cif
_cod_data_source_block           C7-228
_cod_database_code               4508017
loop_
_space_group_symop_id
_space_group_symop_operation_xyz
1 'x, y, z'
2 '-x, y+1/2, -z+1/2'
3 '-x, -y, -z'
4 'x, -y-1/2, z-1/2'
loop_
_atom_site_label
_atom_site_type_symbol
_atom_site_fract_x
_atom_site_fract_y
_atom_site_fract_z
_atom_site_U_iso_or_equiv
_atom_site_adp_type
_atom_site_occupancy
_atom_site_symmetry_multiplicity
_atom_site_calc_flag
_atom_site_refinement_flags
O3 O 0.7497(2) 0.59962(12) 0.50716(6) 0.0428(3) Uani 1 1 d .
O4 O 0.5104(2) 0.48563(13) 0.38911(7) 0.0470(3) Uani 1 1 d D
O2 O 1.3940(2) 0.67063(12) 0.02008(8) 0.0474(4) Uani 1 1 d D
O1 O 1.3440(2) 0.45980(11) 0.06881(8) 0.0448(3) Uani 1 1 d .
C1 C 1.3120(3) 0.58519(15) 0.06891(8) 0.0287(3) Uani 1 1 d .
C4 C 0.9738(3) 0.64780(15) 0.24105(9) 0.0312(3) Uani 1 1 d .
H4A H 0.8495 0.7149 0.2076 0.037 Uiso 1 1 calc R
H4B H 1.1152 0.6994 0.2804 0.037 Uiso 1 1 calc R
C2 C 1.1822(3) 0.65814(15) 0.12416(9) 0.0325(3) Uani 1 1 d .
H2A H 1.0484 0.7158 0.0859 0.039 Uiso 1 1 calc R
H2B H 1.3033 0.7197 0.1646 0.039 Uiso 1 1 calc R
C7 C 0.6867(3) 0.57277(14) 0.42710(9) 0.0292(3) Uani 1 1 d .
C3 C 1.0675(3) 0.56427(14) 0.17742(9) 0.0295(3) Uani 1 1 d .
H3A H 0.9272 0.5126 0.1376 0.035 Uiso 1 1 calc R
H3B H 1.1939 0.4977 0.2103 0.035 Uiso 1 1 calc R
C6 C 0.8130(3) 0.64536(16) 0.37016(10) 0.0374(4) Uani 1 1 d .
H6A H 0.9763 0.6792 0.4078 0.045 Uiso 1 1 calc R
H6B H 0.7117 0.7261 0.3441 0.045 Uiso 1 1 calc R
C5 C 0.8550(3) 0.56022(14) 0.29639(9) 0.0284(3) Uani 1 1 d .
H5A H 0.6940 0.5234 0.2589 0.034 Uiso 1 1 calc R
H5B H 0.9652 0.4821 0.3215 0.034 Uiso 1 1 calc R
H2 H 1.477(4) 0.625(2) -0.0073(12) 0.069(7) Uiso 1 1 d D
H4 H 0.438(5) 0.456(3) 0.4299(14) 0.116(10) Uiso 1 1 d D
loop_
_atom_site_aniso_label
_atom_site_aniso_U_11
_atom_site_aniso_U_22
_atom_site_aniso_U_33
_atom_site_aniso_U_23
_atom_site_aniso_U_13
_atom_site_aniso_U_12
O3 0.0467(7) 0.0579(7) 0.0312(5) -0.0089(5) 0.0230(5) -0.0139(6)
O4 0.0481(7) 0.0648(8) 0.0332(6) -0.0046(5) 0.0203(5) -0.0240(6)
O2 0.0719(9) 0.0331(6) 0.0609(7) 0.0077(5) 0.0541(7) 0.0051(5)
O1 0.0685(8) 0.0306(6) 0.0554(7) 0.0026(5) 0.0479(6) 0.0034(5)
C1 0.0326(7) 0.0312(7) 0.0279(6) 0.0019(6) 0.0174(6) -0.0002(6)
C4 0.0376(8) 0.0310(7) 0.0333(7) 0.0012(6) 0.0230(6) 0.0010(6)
C2 0.0401(8) 0.0316(7) 0.0348(7) 0.0034(6) 0.0247(7) 0.0052(6)
C7 0.0341(8) 0.0291(7) 0.0311(7) -0.0018(6) 0.0198(6) 0.0017(6)
C3 0.0340(8) 0.0313(7) 0.0302(7) 0.0002(6) 0.0199(6) 0.0001(6)
C6 0.0517(9) 0.0329(7) 0.0399(8) -0.0037(6) 0.0319(7) -0.0065(7)
C5 0.0333(7) 0.0294(7) 0.0287(6) -0.0011(5) 0.0185(6) -0.0017(6)
loop_
_atom_type_symbol
_atom_type_description
_atom_type_scat_dispersion_real
_atom_type_scat_dispersion_imag
_atom_type_scat_source
C C 0.0033 0.0016 'International Tables Vol C Tables 4.2.6.8 and 6.1.1.4'
H H 0.0000 0.0000 'International Tables Vol C Tables 4.2.6.8 and 6.1.1.4'
O O 0.0106 0.0060 'International Tables Vol C Tables 4.2.6.8 and 6.1.1.4'
loop_
_geom_angle_atom_site_label_1
_geom_angle_atom_site_label_2
_geom_angle_atom_site_label_3
_geom_angle
C7 O4 H4 108.2(17)
C1 O2 H2 109.8(14)
O2 C1 C2 113.03(12)
O1 C1 O2 122.48(12)
O1 C1 C2 124.49(12)
H4A C4 H4B 107.6
C3 C4 H4A 108.7
C3 C4 H4B 108.7
C3 C4 C5 114.20(12)
C5 C4 H4A 108.7
C5 C4 H4B 108.7
C1 C2 H2A 108.4
C1 C2 H2B 108.4
C1 C2 C3 115.49(12)
H2A C2 H2B 107.5
C3 C2 H2A 108.4
C3 C2 H2B 108.4
O3 C7 O4 122.72(13)
O3 C7 C6 120.17(13)
O4 C7 C6 117.09(12)
C4 C3 C2 111.35(11)
C4 C3 H3A 109.4
C4 C3 H3B 109.4
C2 C3 H3A 109.4
C2 C3 H3B 109.4
H3A C3 H3B 108.0
C7 C6 H6A 108.1
C7 C6 H6B 108.1
C7 C6 C5 116.59(12)
H6A C6 H6B 107.3
C5 C6 H6A 108.1
C5 C6 H6B 108.1
C4 C5 H5A 109.4
C4 C5 H5B 109.4
C6 C5 C4 111.30(11)
C6 C5 H5A 109.4
C6 C5 H5B 109.4
H5A C5 H5B 108.0
loop_
_geom_bond_atom_site_label_1
_geom_bond_atom_site_label_2
_geom_bond_distance
O3 C7 1.2410(16)
O4 C7 1.2837(17)
O4 H4 0.918(16)
O2 C1 1.3139(17)
O2 H2 0.854(15)
O1 C1 1.2169(17)
C1 C2 1.4884(18)
C4 H4A 0.9700
C4 H4B 0.9700
C4 C3 1.5171(17)
C4 C5 1.5208(17)
C2 H2A 0.9700
C2 H2B 0.9700
C2 C3 1.5179(18)
C7 C6 1.4938(18)
C3 H3A 0.9700
C3 H3B 0.9700
C6 H6A 0.9700
C6 H6B 0.9700
C6 C5 1.5163(18)
C5 H5A 0.9700
C5 H5B 0.9700
loop_
_cod_related_entry_id
_cod_related_entry_database
_cod_related_entry_code
1 PubChem 385
