#------------------------------------------------------------------------------
#$Date: 2025-08-21 03:19:08 +0300 (Thu, 21 Aug 2025) $
#$Revision: 301842 $
#$URL: file:///home/coder/svn-repositories/cod/cif/4/50/80/4508029.cif $
#------------------------------------------------------------------------------
#
# This file is available in the Crystallography Open Database (COD),
# http://www.crystallography.net/
#
# All data on this site have been placed in the public domain by the
# contributors.
#
data_4508029
loop_
_publ_author_name
'Bhattacharya, Suman'
'Saraswatula, Viswanadha G.'
'Saha, Binoy K.'
_publ_section_title
;
 Thermal Expansion in Alkane Diacids---Another Property Showing
 Alternation in an Odd--Even Series
;
_journal_issue                   8
_journal_name_full               'Crystal Growth & Design'
_journal_page_first              3651
_journal_paper_doi               10.1021/cg400668w
_journal_volume                  13
_journal_year                    2013
_chemical_formula_moiety         'C9 H16 O4'
_chemical_formula_sum            'C9 H16 O4'
_chemical_formula_weight         188.21
_chemical_name_common            C9-180-alpha-polymorph
_chemical_name_systematic        'Heptane-1,7-dicarboxylic acid'
_space_group_crystal_system      monoclinic
_space_group_IT_number           14
_space_group_name_Hall           '-P 2ybc'
_space_group_name_H-M_alt        'P 1 21/c 1'
_symmetry_space_group_name_Hall  '-P 2ybc'
_symmetry_space_group_name_H-M   'P 1 21/c 1'
_atom_sites_solution_hydrogens   geom
_atom_sites_solution_primary     direct
_atom_sites_solution_secondary   difmap
_audit_creation_date             2012-12-05
_audit_creation_method
;
  Olex2 1.2
  (compiled 2012.05.09 svn.r2324, GUI svn.r4230)
;
_cell_angle_alpha                90.00
_cell_angle_beta                 96.618(6)
_cell_angle_gamma                90.00
_cell_formula_units_Z            4
_cell_length_a                   5.5365(3)
_cell_length_b                   9.4886(10)
_cell_length_c                   18.9601(14)
_cell_measurement_reflns_used    1781
_cell_measurement_temperature    180(2)
_cell_measurement_theta_max      29.1382
_cell_measurement_theta_min      3.8867
_cell_volume                     989.41(14)
_computing_cell_refinement
;
CrysAlisPro, Agilent Technologies,
Version 1.171.36.21 (release 14-08-2012 CrysAlis171 .NET)
(compiled Sep 14 2012,17:21:16)
;
_computing_data_collection
;
CrysAlisPro, Agilent Technologies,
Version 1.171.36.21 (release 14-08-2012 CrysAlis171 .NET)
(compiled Sep 14 2012,17:21:16)
;
_computing_data_reduction
;
CrysAlisPro, Agilent Technologies,
Version 1.171.36.21 (release 14-08-2012 CrysAlis171 .NET)
(compiled Sep 14 2012,17:21:16)
;
_computing_molecular_graphics
;
O. V. Dolomanov, L. J. Bourhis, R. J. Gildea, J. A. K. Howard and H. Puschmann,
OLEX2: a complete structure solution, refinement and analysis program.
J. Appl. Cryst. (2009). 42, 339-341.
;
_computing_publication_material
;
O. V. Dolomanov, L. J. Bourhis, R. J. Gildea, J. A. K. Howard and H. Puschmann,
OLEX2: a complete structure solution, refinement and analysis program.
J. Appl. Cryst. (2009). 42, 339-341.
;
_computing_structure_refinement
;
SHELXL, G.M. Sheldrick, Acta Cryst.
(2008). A64, 112-122
;
_computing_structure_solution
;
SHELXS, G.M. Sheldrick, Acta Cryst.
(2008). A64, 112-122
;
_diffrn_ambient_temperature      180(2)
_diffrn_detector_area_resol_mean 15.9821
_diffrn_measured_fraction_theta_full 0.9869
_diffrn_measured_fraction_theta_max 0.8832
_diffrn_measurement_details
;
  1 omega  -86.00  -24.00   1.0000    5.0000
omega____ theta____ kappa____ phi______ frames
    -      -17.4960  -77.0000   60.0000 62

  2 omega  -68.00   11.00   1.0000    5.0000
omega____ theta____ kappa____ phi______ frames
    -      -17.4960  -77.0000 -120.0000 79

  3 omega    7.00   83.00   1.0000    5.0000
omega____ theta____ kappa____ phi______ frames
    -       19.2928   57.0000    0.0000 76

  4 omega  -50.00    0.00   1.0000    5.0000
omega____ theta____ kappa____ phi______ frames
    -       19.2928  -57.0000  -30.0000 50
;
_diffrn_measurement_device_type  'Xcalibur, Eos'
_diffrn_measurement_method       'ω scans'
_diffrn_orient_matrix_UB_11      -0.0594555000
_diffrn_orient_matrix_UB_12      0.0153189000
_diffrn_orient_matrix_UB_13      -0.0343367000
_diffrn_orient_matrix_UB_21      0.1144075000
_diffrn_orient_matrix_UB_22      0.0112319000
_diffrn_orient_matrix_UB_23      -0.0125315000
_diffrn_orient_matrix_UB_31      0.0051256000
_diffrn_orient_matrix_UB_32      -0.0722795000
_diffrn_orient_matrix_UB_33      -0.0092460000
_diffrn_radiation_monochromator  graphite
_diffrn_radiation_type           'Mo K\a'
_diffrn_radiation_wavelength     0.7107
_diffrn_reflns_av_R_equivalents  0.0319
_diffrn_reflns_av_unetI/netI     0.0485
_diffrn_reflns_limit_h_max       7
_diffrn_reflns_limit_h_min       -7
_diffrn_reflns_limit_k_max       12
_diffrn_reflns_limit_k_min       -8
_diffrn_reflns_limit_l_max       24
_diffrn_reflns_limit_l_min       -21
_diffrn_reflns_number            5012
_diffrn_reflns_theta_full        25.00
_diffrn_reflns_theta_max         29.19
_diffrn_reflns_theta_min         3.89
_diffrn_source                   'Enhance (Mo) X-ray Source'
_exptl_absorpt_coefficient_mu    0.098
_exptl_absorpt_correction_T_max  1.00000
_exptl_absorpt_correction_T_min  0.89799
_exptl_absorpt_correction_type   multi-scan
_exptl_absorpt_process_details
;
CrysAlisPro, Agilent Technologies,
Version 1.171.36.21 (release 14-08-2012 CrysAlis171 .NET)
(compiled Sep 14 2012,17:21:16)
Empirical absorption correction using spherical harmonics,
 implemented in SCALE3 ABSPACK scaling algorithm.
;
_exptl_crystal_colour            colourless
_exptl_crystal_density_diffrn    1.257
_exptl_crystal_density_method    'not measured'
_exptl_crystal_description       plate
_exptl_crystal_F_000             404
_exptl_crystal_size_max          0.42
_exptl_crystal_size_mid          0.38
_exptl_crystal_size_min          0.18
_refine_diff_density_max         0.283
_refine_diff_density_min         -0.313
_refine_diff_density_rms         0.065
_refine_ls_extinction_method     none
_refine_ls_goodness_of_fit_ref   1.205
_refine_ls_hydrogen_treatment    mixed
_refine_ls_matrix_type           full
_refine_ls_number_parameters     126
_refine_ls_number_reflns         2267
_refine_ls_number_restraints     0
_refine_ls_restrained_S_all      1.205
_refine_ls_R_factor_all          0.0993
_refine_ls_R_factor_gt           0.0753
_refine_ls_shift/su_max          0.000
_refine_ls_shift/su_mean         0.000
_refine_ls_structure_factor_coef Fsqd
_refine_ls_weighting_details
'calc w=1/[σ²(Fo²)+(0.0535P)²+1.9901P] where P=(Fo²+2Fc²)/3'
_refine_ls_weighting_scheme      calc
_refine_ls_wR_factor_gt          0.2071
_refine_ls_wR_factor_ref         0.2169
_reflns_number_gt                1684
_reflns_number_total             2267
_reflns_threshold_expression     >2sigma(I)
_cod_data_source_file            cg400668w_si_002.cif
_cod_data_source_block           C9-180
_cod_original_cell_volume        989.40(14)
_cod_database_code               4508029
loop_
_space_group_symop_id
_space_group_symop_operation_xyz
1 'x, y, z'
2 '-x, y+1/2, -z+1/2'
3 '-x, -y, -z'
4 'x, -y-1/2, z-1/2'
loop_
_atom_site_label
_atom_site_type_symbol
_atom_site_fract_x
_atom_site_fract_y
_atom_site_fract_z
_atom_site_U_iso_or_equiv
_atom_site_adp_type
_atom_site_occupancy
_atom_site_symmetry_multiplicity
_atom_site_calc_flag
_atom_site_refinement_flags
O1 O -0.7545(4) 0.5423(3) 0.05453(14) 0.0370(7) Uani 1 1 d .
O4 O 0.8510(5) 0.5151(3) 0.40957(13) 0.0379(7) Uani 1 1 d .
O2 O -0.8678(5) 0.3278(3) 0.01720(14) 0.0375(7) Uani 1 1 d .
C3 C -0.3407(5) 0.4389(3) 0.14311(17) 0.0251(7) Uani 1 1 d .
H3A H -0.4291 0.5016 0.1714 0.030 Uiso 1 1 calc R
H3B H -0.2559 0.4963 0.1115 0.030 Uiso 1 1 calc R
O3 O 0.7570(4) 0.4023(3) 0.50502(12) 0.0340(6) Uani 1 1 d .
C5 C 0.0318(5) 0.4447(4) 0.23644(17) 0.0266(7) Uani 1 1 d .
H5A H 0.1300 0.4941 0.2052 0.032 Uiso 1 1 calc R
H5B H -0.0517 0.5148 0.2620 0.032 Uiso 1 1 calc R
C6 C 0.1973(6) 0.3577(4) 0.28944(17) 0.0268(7) Uani 1 1 d .
H6A H 0.2789 0.2872 0.2637 0.032 Uiso 1 1 calc R
H6B H 0.0982 0.3086 0.3205 0.032 Uiso 1 1 calc R
C7 C 0.3888(5) 0.4444(3) 0.33475(16) 0.0230(7) Uani 1 1 d .
H7A H 0.5067 0.4801 0.3051 0.028 Uiso 1 1 calc R
H7B H 0.3114 0.5245 0.3547 0.028 Uiso 1 1 calc R
C4 C -0.1559(5) 0.3545(4) 0.19199(17) 0.0260(7) Uani 1 1 d .
H4A H -0.2423 0.2981 0.2236 0.031 Uiso 1 1 calc R
H4B H -0.0717 0.2903 0.1634 0.031 Uiso 1 1 calc R
C1 C -0.7226(5) 0.4158(3) 0.05531(16) 0.0232(7) Uani 1 1 d .
C2 C -0.5187(5) 0.3426(4) 0.09959(16) 0.0247(7) Uani 1 1 d .
H2A H -0.4296 0.2866 0.0685 0.030 Uiso 1 1 calc R
H2B H -0.5878 0.2783 0.1316 0.030 Uiso 1 1 calc R
C9 C 0.7191(5) 0.4286(3) 0.44110(16) 0.0238(7) Uani 1 1 d .
C8 C 0.5185(6) 0.3563(4) 0.39452(18) 0.0312(8) Uani 1 1 d .
H8A H 0.3987 0.3236 0.4243 0.037 Uiso 1 1 calc R
H8B H 0.5861 0.2738 0.3738 0.037 Uiso 1 1 calc R
H2 H -0.991(9) 0.366(5) -0.001(3) 0.051(13) Uiso 1 1 d .
H4 H 0.978(11) 0.539(6) 0.441(3) 0.085(18) Uiso 1 1 d .
loop_
_atom_site_aniso_label
_atom_site_aniso_U_11
_atom_site_aniso_U_22
_atom_site_aniso_U_33
_atom_site_aniso_U_23
_atom_site_aniso_U_13
_atom_site_aniso_U_12
O1 0.0331(13) 0.0263(14) 0.0457(15) -0.0024(11) -0.0205(11) 0.0017(10)
O4 0.0344(13) 0.0519(17) 0.0250(12) 0.0043(11) -0.0066(10) -0.0198(12)
O2 0.0324(13) 0.0281(14) 0.0457(15) -0.0038(11) -0.0231(11) 0.0003(11)
C3 0.0217(14) 0.0254(17) 0.0259(15) 0.0003(13) -0.0074(12) 0.0004(12)
O3 0.0299(12) 0.0461(16) 0.0232(12) 0.0077(11) -0.0089(9) -0.0101(11)
C5 0.0213(14) 0.0305(18) 0.0260(16) -0.0022(13) -0.0055(12) -0.0001(13)
C6 0.0246(15) 0.0269(17) 0.0265(16) -0.0019(13) -0.0074(12) 0.0001(13)
C7 0.0212(14) 0.0240(16) 0.0220(15) 0.0026(12) -0.0043(11) -0.0039(12)
C4 0.0209(14) 0.0292(18) 0.0255(15) -0.0008(13) -0.0078(11) 0.0004(13)
C1 0.0187(14) 0.0278(17) 0.0220(15) 0.0006(13) -0.0030(11) -0.0019(12)
C2 0.0216(14) 0.0247(17) 0.0259(16) -0.0009(13) -0.0062(12) 0.0015(12)
C9 0.0198(14) 0.0236(16) 0.0261(16) -0.0001(13) -0.0046(11) 0.0009(12)
C8 0.0287(16) 0.0295(18) 0.0317(18) 0.0016(14) -0.0131(13) -0.0045(14)
loop_
_atom_type_symbol
_atom_type_description
_atom_type_scat_dispersion_real
_atom_type_scat_dispersion_imag
_atom_type_scat_source
C C 0.0033 0.0016 'International Tables Vol C Tables 4.2.6.8 and 6.1.1.4'
H H 0.0000 0.0000 'International Tables Vol C Tables 4.2.6.8 and 6.1.1.4'
O O 0.0106 0.0060 'International Tables Vol C Tables 4.2.6.8 and 6.1.1.4'
loop_
_geom_angle_atom_site_label_1
_geom_angle_atom_site_label_2
_geom_angle_atom_site_label_3
_geom_angle
C9 O4 H4 108(4)
C1 O2 H2 112(3)
H3A C3 H3B 108.0
C4 C3 H3A 109.4
C4 C3 H3B 109.4
C2 C3 H3A 109.4
C2 C3 H3B 109.4
C2 C3 C4 111.2(3)
H5A C5 H5B 107.9
C6 C5 H5A 109.1
C6 C5 H5B 109.1
C6 C5 C4 112.3(3)
C4 C5 H5A 109.1
C4 C5 H5B 109.1
C5 C6 H6A 108.8
C5 C6 H6B 108.8
C5 C6 C7 113.9(3)
H6A C6 H6B 107.7
C7 C6 H6A 108.8
C7 C6 H6B 108.8
C6 C7 H7A 109.4
C6 C7 H7B 109.4
H7A C7 H7B 108.0
C8 C7 C6 111.1(3)
C8 C7 H7A 109.4
C8 C7 H7B 109.4
C3 C4 H4A 108.7
C3 C4 H4B 108.7
C5 C4 C3 114.0(3)
C5 C4 H4A 108.7
C5 C4 H4B 108.7
H4A C4 H4B 107.6
O1 C1 O2 122.8(3)
O1 C1 C2 124.4(3)
O2 C1 C2 112.8(3)
C3 C2 H2A 108.5
C3 C2 H2B 108.5
C1 C2 C3 115.2(3)
C1 C2 H2A 108.5
C1 C2 H2B 108.5
H2A C2 H2B 107.5
O4 C9 C8 116.0(3)
O3 C9 O4 122.9(3)
O3 C9 C8 121.1(3)
C7 C8 H8A 108.3
C7 C8 H8B 108.3
C9 C8 C7 116.1(3)
C9 C8 H8A 108.3
C9 C8 H8B 108.3
H8A C8 H8B 107.4
loop_
_geom_bond_atom_site_label_1
_geom_bond_atom_site_label_2
_geom_bond_distance
O1 C1 1.213(4)
O4 C9 1.291(4)
O4 H4 0.90(6)
O2 C1 1.316(4)
O2 H2 0.81(5)
C3 H3A 0.9700
C3 H3B 0.9700
C3 C4 1.526(4)
C3 C2 1.517(4)
O3 C9 1.231(4)
C5 H5A 0.9700
C5 H5B 0.9700
C5 C6 1.523(4)
C5 C4 1.524(4)
C6 H6A 0.9700
C6 H6B 0.9700
C6 C7 1.526(4)
C7 H7A 0.9700
C7 H7B 0.9700
C7 C8 1.521(4)
C4 H4A 0.9700
C4 H4B 0.9700
C1 C2 1.498(4)
C2 H2A 0.9700
C2 H2B 0.9700
C9 C8 1.503(4)
C8 H8A 0.9700
C8 H8B 0.9700
loop_
_geom_torsion_atom_site_label_1
_geom_torsion_atom_site_label_2
_geom_torsion_atom_site_label_3
_geom_torsion_atom_site_label_4
_geom_torsion
O1 C1 C2 C3 -2.4(5)
O4 C9 C8 C7 -37.1(4)
O2 C1 C2 C3 178.3(3)
O3 C9 C8 C7 145.0(3)
C5 C6 C7 C8 170.3(3)
C6 C5 C4 C3 174.5(3)
C6 C7 C8 C9 177.5(3)
C4 C3 C2 C1 174.1(3)
C4 C5 C6 C7 179.7(3)
C2 C3 C4 C5 179.0(3)
loop_
_cod_related_entry_id
_cod_related_entry_database
_cod_related_entry_code
1 PubChem 2266
