#------------------------------------------------------------------------------
#$Date: 2025-08-21 03:19:08 +0300 (Thu, 21 Aug 2025) $
#$Revision: 301842 $
#$URL: file:///home/coder/svn-repositories/cod/cif/4/50/80/4508031.cif $
#------------------------------------------------------------------------------
#
# This file is available in the Crystallography Open Database (COD),
# http://www.crystallography.net/
#
# All data on this site have been placed in the public domain by the
# contributors.
#
data_4508031
loop_
_publ_author_name
'Bhattacharya, Suman'
'Saraswatula, Viswanadha G.'
'Saha, Binoy K.'
_publ_section_title
;
 Thermal Expansion in Alkane Diacids---Another Property Showing
 Alternation in an Odd--Even Series
;
_journal_issue                   8
_journal_name_full               'Crystal Growth & Design'
_journal_page_first              3651
_journal_paper_doi               10.1021/cg400668w
_journal_volume                  13
_journal_year                    2013
_chemical_formula_moiety         'C9 H16 O4'
_chemical_formula_sum            'C9 H16 O4'
_chemical_formula_weight         188.21
_chemical_name_common            C9-260-alpha-polymorph
_chemical_name_systematic        'Heptane-1,7-dicarboxylic acid'
_space_group_crystal_system      monoclinic
_space_group_IT_number           14
_space_group_name_Hall           '-P 2ybc'
_space_group_name_H-M_alt        'P 1 21/c 1'
_symmetry_space_group_name_Hall  '-P 2ybc'
_symmetry_space_group_name_H-M   'P 1 21/c 1'
_atom_sites_solution_hydrogens   geom
_atom_sites_solution_primary     direct
_atom_sites_solution_secondary   difmap
_audit_creation_date             2012-12-05
_audit_creation_method
;
  Olex2 1.2
  (compiled 2012.05.09 svn.r2324, GUI svn.r4230)
;
_cell_angle_alpha                90.00
_cell_angle_beta                 97.704(7)
_cell_angle_gamma                90.00
_cell_formula_units_Z            4
_cell_length_a                   5.5902(4)
_cell_length_b                   9.5563(9)
_cell_length_c                   19.0914(14)
_cell_measurement_reflns_used    1491
_cell_measurement_temperature    260(2)
_cell_measurement_theta_max      29.1162
_cell_measurement_theta_min      4.2570
_cell_volume                     1010.69(14)
_computing_cell_refinement
;
CrysAlisPro, Agilent Technologies,
Version 1.171.36.21 (release 14-08-2012 CrysAlis171 .NET)
(compiled Sep 14 2012,17:21:16)
;
_computing_data_collection
;
CrysAlisPro, Agilent Technologies,
Version 1.171.36.21 (release 14-08-2012 CrysAlis171 .NET)
(compiled Sep 14 2012,17:21:16)
;
_computing_data_reduction
;
CrysAlisPro, Agilent Technologies,
Version 1.171.36.21 (release 14-08-2012 CrysAlis171 .NET)
(compiled Sep 14 2012,17:21:16)
;
_computing_molecular_graphics
;
O. V. Dolomanov, L. J. Bourhis, R. J. Gildea, J. A. K. Howard and H. Puschmann,
OLEX2: a complete structure solution, refinement and analysis program.
J. Appl. Cryst. (2009). 42, 339-341.
;
_computing_publication_material
;
O. V. Dolomanov, L. J. Bourhis, R. J. Gildea, J. A. K. Howard and H. Puschmann,
OLEX2: a complete structure solution, refinement and analysis program.
J. Appl. Cryst. (2009). 42, 339-341.
;
_computing_structure_refinement
;
SHELXL, G.M. Sheldrick, Acta Cryst.
(2008). A64, 112-122
;
_computing_structure_solution
;
SHELXS, G.M. Sheldrick, Acta Cryst.
(2008). A64, 112-122
;
_diffrn_ambient_temperature      260(2)
_diffrn_detector_area_resol_mean 15.9821
_diffrn_measured_fraction_theta_full 0.9863
_diffrn_measured_fraction_theta_max 0.8807
_diffrn_measurement_details
;
  1 omega  -87.00  -20.00   1.0000    5.0000
omega____ theta____ kappa____ phi______ frames
    -      -17.4960  -77.0000   60.0000 67

  2 omega  -66.00   13.00   1.0000    5.0000
omega____ theta____ kappa____ phi______ frames
    -      -17.4960  -77.0000 -120.0000 79

  3 omega   10.00   82.00   1.0000    5.0000
omega____ theta____ kappa____ phi______ frames
    -       19.2928   57.0000    0.0000 72

  4 omega   35.00   84.00   1.0000    5.0000
omega____ theta____ kappa____ phi______ frames
    -       19.2928  178.0000  120.0000 49
;
_diffrn_measurement_device_type  'Xcalibur, Eos'
_diffrn_measurement_method       'ω scans'
_diffrn_orient_matrix_UB_11      0.0604528000
_diffrn_orient_matrix_UB_12      0.0151532000
_diffrn_orient_matrix_UB_13      0.0342598000
_diffrn_orient_matrix_UB_21      -0.1129021000
_diffrn_orient_matrix_UB_22      0.0111631000
_diffrn_orient_matrix_UB_23      0.0122063000
_diffrn_orient_matrix_UB_31      -0.0047838000
_diffrn_orient_matrix_UB_32      -0.0717998000
_diffrn_orient_matrix_UB_33      0.0091632000
_diffrn_radiation_monochromator  graphite
_diffrn_radiation_type           'Mo K\a'
_diffrn_radiation_wavelength     0.7107
_diffrn_reflns_av_R_equivalents  0.0294
_diffrn_reflns_av_unetI/netI     0.0386
_diffrn_reflns_limit_h_max       6
_diffrn_reflns_limit_h_min       -6
_diffrn_reflns_limit_k_max       11
_diffrn_reflns_limit_k_min       -7
_diffrn_reflns_limit_l_max       22
_diffrn_reflns_limit_l_min       -22
_diffrn_reflns_number            4260
_diffrn_reflns_theta_full        25.00
_diffrn_reflns_theta_max         25.00
_diffrn_reflns_theta_min         4.26
_diffrn_source                   'Enhance (Mo) X-ray Source'
_exptl_absorpt_coefficient_mu    0.096
_exptl_absorpt_correction_T_max  1.00000
_exptl_absorpt_correction_T_min  0.94489
_exptl_absorpt_correction_type   multi-scan
_exptl_absorpt_process_details
;
CrysAlisPro, Agilent Technologies,
Version 1.171.36.21 (release 14-08-2012 CrysAlis171 .NET)
(compiled Sep 14 2012,17:21:16)
Empirical absorption correction using spherical harmonics,
 implemented in SCALE3 ABSPACK scaling algorithm.
;
_exptl_crystal_colour            colourless
_exptl_crystal_density_diffrn    1.230
_exptl_crystal_density_method    'not measured'
_exptl_crystal_description       plate
_exptl_crystal_F_000             404
_exptl_crystal_size_max          0.42
_exptl_crystal_size_mid          0.38
_exptl_crystal_size_min          0.18
_refine_diff_density_max         0.336
_refine_diff_density_min         -0.320
_refine_diff_density_rms         0.088
_refine_ls_extinction_method     none
_refine_ls_goodness_of_fit_ref   1.243
_refine_ls_hydrogen_treatment    mixed
_refine_ls_matrix_type           full
_refine_ls_number_parameters     126
_refine_ls_number_reflns         1762
_refine_ls_number_restraints     2
_refine_ls_restrained_S_all      1.242
_refine_ls_R_factor_all          0.1138
_refine_ls_R_factor_gt           0.0936
_refine_ls_shift/su_max          0.001
_refine_ls_shift/su_mean         0.000
_refine_ls_structure_factor_coef Fsqd
_refine_ls_weighting_details
'calc w=1/[σ²(Fo²)+(0.1426P)²+2.5110P] where P=(Fo²+2Fc²)/3'
_refine_ls_weighting_scheme      calc
_refine_ls_wR_factor_gt          0.3371
_refine_ls_wR_factor_ref         0.3498
_reflns_number_gt                1356
_reflns_number_total             1762
_reflns_threshold_expression     >2sigma(I)
_cod_data_source_file            cg400668w_si_002.cif
_cod_data_source_block           C9-260
_cod_database_code               4508031
loop_
_space_group_symop_id
_space_group_symop_operation_xyz
1 'x, y, z'
2 '-x, y+1/2, -z+1/2'
3 '-x, -y, -z'
4 'x, -y-1/2, z-1/2'
loop_
_atom_site_label
_atom_site_type_symbol
_atom_site_fract_x
_atom_site_fract_y
_atom_site_fract_z
_atom_site_U_iso_or_equiv
_atom_site_adp_type
_atom_site_occupancy
_atom_site_symmetry_multiplicity
_atom_site_calc_flag
_atom_site_refinement_flags
O1 O -0.7588(7) 0.5399(4) 0.0566(2) 0.0590(13) Uani 1 1 d .
O4 O 0.8507(8) 0.5109(5) 0.4111(2) 0.0612(14) Uani 1 1 d D
O2 O -0.8639(8) 0.3302(5) 0.0149(2) 0.0610(14) Uani 1 1 d D
C3 C -0.3421(9) 0.4356(6) 0.1439(3) 0.0412(13) Uani 1 1 d .
H3A H -0.2595 0.4937 0.1130 0.049 Uiso 1 1 calc R
H3B H -0.4289 0.4970 0.1722 0.049 Uiso 1 1 calc R
O3 O 0.7585(7) 0.3997(5) 0.50461(18) 0.0557(13) Uani 1 1 d .
C5 C 0.0280(9) 0.4420(6) 0.2376(3) 0.0410(13) Uani 1 1 d .
H5A H -0.0553 0.5099 0.2633 0.049 Uiso 1 1 calc R
H5B H 0.1229 0.4931 0.2071 0.049 Uiso 1 1 calc R
C6 C 0.1970(9) 0.3558(6) 0.2900(3) 0.0442(14) Uani 1 1 d .
H6A H 0.1015 0.3059 0.3208 0.053 Uiso 1 1 calc R
H6B H 0.2771 0.2867 0.2641 0.053 Uiso 1 1 calc R
C7 C 0.3875(9) 0.4411(5) 0.3353(2) 0.0369(12) Uani 1 1 d .
H7A H 0.3110 0.5199 0.3555 0.044 Uiso 1 1 calc R
H7B H 0.5015 0.4778 0.3059 0.044 Uiso 1 1 calc R
C4 C -0.1577(9) 0.3531(6) 0.1921(3) 0.0424(13) Uani 1 1 d .
H4A H -0.0738 0.2908 0.1635 0.051 Uiso 1 1 calc R
H4B H -0.2416 0.2955 0.2228 0.051 Uiso 1 1 calc R
C1 C -0.7226(9) 0.4148(6) 0.0554(3) 0.0382(12) Uani 1 1 d .
C2 C -0.5202(9) 0.3425(6) 0.0994(3) 0.0429(14) Uani 1 1 d .
H2A H -0.4329 0.2876 0.0684 0.052 Uiso 1 1 calc R
H2B H -0.5880 0.2777 0.1306 0.052 Uiso 1 1 calc R
C9 C 0.7210(9) 0.4261(6) 0.4409(3) 0.0403(13) Uani 1 1 d .
C8 C 0.5228(10) 0.3541(6) 0.3948(3) 0.0493(15) Uani 1 1 d .
H8A H 0.4069 0.3203 0.4244 0.059 Uiso 1 1 calc R
H8B H 0.5901 0.2730 0.3740 0.059 Uiso 1 1 calc R
H2 H -0.990(8) 0.372(7) -0.002(4) 0.07(2) Uiso 1 1 d D
H4 H 0.948(12) 0.545(8) 0.445(3) 0.09(3) Uiso 1 1 d D
loop_
_atom_site_aniso_label
_atom_site_aniso_U_11
_atom_site_aniso_U_22
_atom_site_aniso_U_33
_atom_site_aniso_U_23
_atom_site_aniso_U_13
_atom_site_aniso_U_12
O1 0.055(2) 0.040(3) 0.070(3) -0.005(2) -0.031(2) 0.006(2)
O4 0.060(3) 0.078(3) 0.041(2) 0.009(2) -0.0106(19) -0.032(2)
O2 0.053(3) 0.043(2) 0.075(3) -0.008(2) -0.034(2) 0.003(2)
C3 0.036(3) 0.041(3) 0.043(3) 0.000(2) -0.009(2) 0.002(2)
O3 0.049(2) 0.079(3) 0.034(2) 0.0100(19) -0.0105(16) -0.018(2)
C5 0.036(3) 0.043(3) 0.040(3) -0.001(2) -0.009(2) 0.000(2)
C6 0.041(3) 0.045(3) 0.043(3) 0.001(2) -0.009(2) -0.004(2)
C7 0.036(3) 0.037(3) 0.034(2) 0.002(2) -0.006(2) -0.003(2)
C4 0.037(3) 0.047(3) 0.040(3) 0.000(2) -0.007(2) 0.001(2)
C1 0.033(3) 0.042(3) 0.036(3) 0.000(2) -0.005(2) -0.004(2)
C2 0.039(3) 0.042(3) 0.044(3) -0.004(2) -0.009(2) 0.004(2)
C9 0.036(3) 0.041(3) 0.041(3) 0.004(2) -0.007(2) 0.003(2)
C8 0.047(3) 0.043(3) 0.051(3) 0.003(2) -0.017(2) -0.007(3)
loop_
_atom_type_symbol
_atom_type_description
_atom_type_scat_dispersion_real
_atom_type_scat_dispersion_imag
_atom_type_scat_source
C C 0.0033 0.0016 'International Tables Vol C Tables 4.2.6.8 and 6.1.1.4'
H H 0.0000 0.0000 'International Tables Vol C Tables 4.2.6.8 and 6.1.1.4'
O O 0.0106 0.0060 'International Tables Vol C Tables 4.2.6.8 and 6.1.1.4'
loop_
_geom_angle_atom_site_label_1
_geom_angle_atom_site_label_2
_geom_angle_atom_site_label_3
_geom_angle
C9 O4 H4 105(6)
C1 O2 H2 110(5)
H3A C3 H3B 107.9
C4 C3 H3A 109.1
C4 C3 H3B 109.1
C4 C3 C2 112.3(5)
C2 C3 H3A 109.1
C2 C3 H3B 109.1
H5A C5 H5B 107.8
C6 C5 H5A 109.0
C6 C5 H5B 109.0
C4 C5 H5A 109.0
C4 C5 H5B 109.0
C4 C5 C6 112.9(5)
C5 C6 H6A 108.7
C5 C6 H6B 108.7
H6A C6 H6B 107.6
C7 C6 C5 114.3(5)
C7 C6 H6A 108.7
C7 C6 H6B 108.7
C6 C7 H7A 109.2
C6 C7 H7B 109.2
C6 C7 C8 111.8(4)
H7A C7 H7B 107.9
C8 C7 H7A 109.2
C8 C7 H7B 109.2
C3 C4 C5 114.5(5)
C3 C4 H4A 108.6
C3 C4 H4B 108.6
C5 C4 H4A 108.6
C5 C4 H4B 108.6
H4A C4 H4B 107.6
O1 C1 O2 122.1(5)
O1 C1 C2 124.3(5)
O2 C1 C2 113.6(5)
C3 C2 H2A 108.3
C3 C2 H2B 108.3
C1 C2 C3 116.0(5)
C1 C2 H2A 108.3
C1 C2 H2B 108.3
H2A C2 H2B 107.4
O4 C9 C8 117.0(5)
O3 C9 O4 122.7(5)
O3 C9 C8 120.2(5)
C7 C8 H8A 108.2
C7 C8 H8B 108.2
C9 C8 C7 116.4(5)
C9 C8 H8A 108.2
C9 C8 H8B 108.2
H8A C8 H8B 107.3
loop_
_geom_bond_atom_site_label_1
_geom_bond_atom_site_label_2
_geom_bond_distance
O1 C1 1.213(7)
O4 C9 1.271(7)
O4 H4 0.85(2)
O2 C1 1.308(6)
O2 H2 0.84(2)
C3 H3A 0.9700
C3 H3B 0.9700
C3 C4 1.509(7)
C3 C2 1.509(7)
O3 C9 1.233(6)
C5 H5A 0.9700
C5 H5B 0.9700
C5 C6 1.523(7)
C5 C4 1.521(7)
C6 H6A 0.9700
C6 H6B 0.9700
C6 C7 1.516(7)
C7 H7A 0.9700
C7 H7B 0.9700
C7 C8 1.523(7)
C4 H4A 0.9700
C4 H4B 0.9700
C1 C2 1.486(7)
C2 H2A 0.9700
C2 H2B 0.9700
C9 C8 1.488(7)
C8 H8A 0.9700
C8 H8B 0.9700
loop_
_geom_torsion_atom_site_label_1
_geom_torsion_atom_site_label_2
_geom_torsion_atom_site_label_3
_geom_torsion_atom_site_label_4
_geom_torsion
O1 C1 C2 C3 -4.6(8)
O4 C9 C8 C7 -38.2(8)
O2 C1 C2 C3 176.3(5)
O3 C9 C8 C7 143.8(6)
C5 C6 C7 C8 170.3(5)
C6 C5 C4 C3 174.9(5)
C6 C7 C8 C9 177.6(5)
C4 C3 C2 C1 174.3(5)
C4 C5 C6 C7 178.9(5)
C2 C3 C4 C5 179.4(5)
loop_
_cod_related_entry_id
_cod_related_entry_database
_cod_related_entry_code
1 PubChem 2266
