#------------------------------------------------------------------------------
#$Date: 2016-02-09 20:42:54 +0200 (Tue, 09 Feb 2016) $
#$Revision: 176292 $
#$URL: svn://www.crystallography.net/cod/cif/6/00/00/6000007.cif $
#------------------------------------------------------------------------------
#
# This file is available in the Crystallography Open Database (COD),
# http://www.crystallography.net/
#
# All data on this site have been placed in the public domain by the
# contributors.
#
data_6000007
loop_
_publ_author_name
'Christensen, A. N.'
'Hazell, R. G.'
'Hewat, A. W.'
_publ_section_title
;
 Synthesis, crystal growth and structure investigations of rare-earth
 disilicates and rare-earth oxyapatites
;
_journal_issue                   1
_journal_name_full               'Acta Chemica Scandinavica'
_journal_page_first              37
_journal_page_last               43
_journal_paper_doi               10.3891/acta.chem.scand.51-0037
_journal_volume                  51
_journal_year                    1997
_chemical_formula_sum            'Nd9.33 O26 Si6'
_space_group_name_H-M_alt        'P 63/m'
_cell_angle_alpha                90.000
_cell_angle_beta                 90.000
_cell_angle_gamma                120.000
_cell_length_a                   9.5731
_cell_length_b                   9.5731
_cell_length_c                   7.0336
_cell_volume                     558.23
_cod_database_code               6000007
loop_
_atom_site_label
_atom_site_fract_x
_atom_site_fract_y
_atom_site_fract_z
? ? ? ?
