#------------------------------------------------------------------------------
#$Date: 2016-02-09 20:42:54 +0200 (Tue, 09 Feb 2016) $
#$Revision: 176292 $
#$URL: svn://www.crystallography.net/cod/cif/6/00/00/6000038.cif $
#------------------------------------------------------------------------------
#
# This file is available in the Crystallography Open Database (COD),
# http://www.crystallography.net/
#
# All data on this site have been placed in the public domain by the
# contributors.
#
data_6000038
loop_
_publ_author_name
'Kim, J. Y.'
'Fenton, R. R.'
'Hunter, B. A.'
'Kennedy, B. J.'
_publ_section_title
;
 Powder diffraction studies of synthetic calcium and lead apatites
;
_journal_name_full               'Australian Journal of Chemistry'
_journal_page_first              679
_journal_page_last               686
_journal_paper_doi               10.1071/CH00060
_journal_volume                  53
_journal_year                    2000
_chemical_formula_sum            'Ca10 Cl2 O24 P6'
_space_group_name_H-M_alt        'P 63/m'
_cell_angle_alpha                90.000
_cell_angle_beta                 90.000
_cell_angle_gamma                120.000
_cell_length_a                   9.5902
_cell_length_b                   9.5902
_cell_length_c                   6.7666
_cell_volume                     538.96
_cod_database_code               6000038
loop_
_atom_site_label
_atom_site_fract_x
_atom_site_fract_y
_atom_site_fract_z
? ? ? ?
