#------------------------------------------------------------------------------
#$Date: 2016-03-26 00:35:06 +0200 (Sat, 26 Mar 2016) $
#$Revision: 180086 $
#$URL: svn://www.crystallography.net/cod/cif/7/05/32/7053273.cif $
#------------------------------------------------------------------------------
#
# This file is available in the Crystallography Open Database (COD),
# http://www.crystallography.net/
#
# All data on this site have been placed in the public domain by the
# contributors.
#
data_7053273
loop_
_publ_author_name
'Adam, Martin S.'
'Gutmann, Matthias J.'
'Leech, Charlotte K.'
'Middlemiss, Derek S.'
'Parkin, Andrew'
'Thomas, Lynne H.'
'Wilson, Chick C.'
_publ_section_title
;
 Stability and cooperativity of hydrogen bonds in dihydroxybenzoic acids
;
_journal_issue                   1
_journal_name_full               'New Journal of Chemistry'
_journal_page_first              85
_journal_paper_doi               10.1039/b9nj00353c
_journal_volume                  34
_journal_year                    2010
_chemical_formula_moiety         'C7 H6 O4'
_chemical_formula_sum            'C7 H6 O4'
_chemical_formula_weight         154.12
_chemical_name_systematic        '2,5-dihydroxybenzoic acid'
_space_group_IT_number           14
_symmetry_cell_setting           monoclinic
_symmetry_space_group_name_Hall  '-P 2yn'
_symmetry_space_group_name_H-M   'P 1 21/n 1'
_atom_sites_solution_hydrogens   difmap
_atom_sites_solution_primary     direct
_atom_sites_solution_secondary   difmap
_cell_angle_alpha                90
_cell_angle_beta                 92.277(3)
_cell_angle_gamma                90
_cell_formula_units_Z            4
_cell_length_a                   5.6491(3)
_cell_length_b                   4.9306(3)
_cell_length_c                   23.6191(11)
_cell_measurement_reflns_used    0
_cell_measurement_temperature    350(2)
_cell_measurement_theta_max      0
_cell_measurement_theta_min      0
_cell_volume                     657.35(6)
_computing_cell_refinement       'DENZO/SCALEPACK (Otwinowski & Minor, 1997)'
_computing_data_collection       'Nonius (1997-2001). COLLECT.'
_computing_data_reduction        'DENZO/SCALEPACK (Otwinowski & Minor, 1997)'
_computing_molecular_graphics
'ORTEP (Farrugia, 1997), Mercury (McRae, 2006)'
_computing_structure_refinement  'SHELXL-97 (Sheldrick, 2008)'
_computing_structure_solution    'SIR92 (Altomare et al., 1994)'
_diffrn_ambient_temperature      350(2)
_diffrn_measured_fraction_theta_full 0.959
_diffrn_measured_fraction_theta_max 0.959
_diffrn_measurement_device_type  'Nonius Kappa CCD'
_diffrn_measurement_method       'φ & ω scans'
_diffrn_radiation_monochromator  graphite
_diffrn_radiation_type           'Mo K\a'
_diffrn_radiation_wavelength     0.71073
_diffrn_reflns_av_R_equivalents  0.103
_diffrn_reflns_av_unetI/netI     0.0797
_diffrn_reflns_limit_h_max       7
_diffrn_reflns_limit_h_min       -7
_diffrn_reflns_limit_k_max       6
_diffrn_reflns_limit_k_min       -6
_diffrn_reflns_limit_l_max       32
_diffrn_reflns_limit_l_min       -29
_diffrn_reflns_theta_full        30.08
_diffrn_reflns_theta_max         30.08
_diffrn_reflns_theta_min         1.73
_exptl_absorpt_coefficient_mu    0.130
_exptl_absorpt_correction_type   none
_exptl_crystal_colour            clear
_exptl_crystal_density_diffrn    1.537
_exptl_crystal_density_method    'not measured'
_exptl_crystal_description       block
_exptl_crystal_F_000             320
_refine_diff_density_max         0.232
_refine_diff_density_min         -0.226
_refine_diff_density_rms         0.062
_refine_ls_extinction_coef       0.038(13)
_refine_ls_extinction_method     SHELXL
_refine_ls_goodness_of_fit_ref   1.066
_refine_ls_hydrogen_treatment    refall
_refine_ls_matrix_type           full
_refine_ls_number_parameters     125
_refine_ls_number_reflns         1839
_refine_ls_number_restraints     0
_refine_ls_restrained_S_all      1.066
_refine_ls_R_factor_all          0.159
_refine_ls_R_factor_gt           0.0626
_refine_ls_shift/su_max          0
_refine_ls_shift/su_mean         0
_refine_ls_structure_factor_coef Fsqd
_refine_ls_weighting_details
'calc w=1/[σ²(Fo²)+(0.0999P)²+0.1309P] where P=(Fo²+2Fc²)/3'
_refine_ls_weighting_scheme      calc
_refine_ls_wR_factor_ref         0.2239
_reflns_number_gt                835
_reflns_number_total             1839
_reflns_threshold_expression     >2σ(I)
_cod_data_source_file            b9nj00353c.txt
_cod_data_source_block           25dhoba350k
_cod_depositor_comments
;
The following automatic conversions were performed:

'_symmetry_cell_setting' value 'Monoclinic' changed to 'monoclinic'
according to /home/saulius/struct/CIF-dictionaries/cif_core.dic
dictionary named 'cif_core.dic' version 2.4.2 from 2011-04-26.

Automatic conversion script
Id: cif_fix_values 1891 2012-01-12 08:04:46Z andrius 
;
_cod_original_sg_symbol_H-M      'P 1 21/n 1 '
_cod_database_code               7053273
loop_
_symmetry_equiv_pos_as_xyz
'x, y, z'
'-x+1/2, y+1/2, -z+1/2'
'-x, -y, -z'
'x-1/2, -y-1/2, z-1/2'
loop_
_atom_site_label
_atom_site_fract_x
_atom_site_fract_y
_atom_site_fract_z
_atom_site_U_iso_or_equiv
_atom_site_adp_type
_atom_site_calc_flag
_atom_site_occupancy
_atom_site_type_symbol
C1 0.0855(5) 0.5250(5) 0.10462(10) 0.0405(7) Uani d 1 C
C2 0.2859(6) 0.3617(6) 0.10136(12) 0.0491(8) Uani d 1 C
O2 0.4391(4) 0.3787(6) 0.05844(11) 0.0732(8) Uani d 1 O
C3 0.3331(6) 0.1676(7) 0.14335(13) 0.0523(9) Uani d 1 C
C4 0.1882(6) 0.1414(6) 0.18746(12) 0.0480(8) Uani d 1 C
C5 -0.0117(5) 0.3047(6) 0.19164(11) 0.0412(7) Uani d 1 C
O5 -0.1508(4) 0.2695(5) 0.23787(8) 0.0551(7) Uani d 1 O
C6 -0.0638(5) 0.4954(6) 0.15013(11) 0.0412(7) Uani d 1 C
C7 0.0350(6) 0.7304(6) 0.06037(12) 0.0470(8) Uani d 1 C
O8 0.1645(4) 0.7631(5) 0.02077(9) 0.0657(8) Uani d 1 O
O9 -0.1573(4) 0.8750(5) 0.06639(9) 0.0580(7) Uani d 1 O
H3 0.481(7) 0.055(8) 0.1400(14) 0.079(11) Uiso d 1 H
H4 0.225(5) -0.002(7) 0.2160(13) 0.060(9) Uiso d 1 H
H6 -0.203(6) 0.623(7) 0.1505(12) 0.057(9) Uiso d 1 H
H5 -0.219(8) 0.421(9) 0.2441(18) 0.106(16) Uiso d 1 H
H1 -0.156(8) 0.997(10) 0.0337(19) 0.113(15) Uiso d 1 H
H2 0.377(9) 0.523(10) 0.0375(19) 0.110(16) Uiso d 1 H
loop_
_atom_site_aniso_label
_atom_site_aniso_U_11
_atom_site_aniso_U_22
_atom_site_aniso_U_33
_atom_site_aniso_U_12
_atom_site_aniso_U_13
_atom_site_aniso_U_23
C1 0.0494(17) 0.0378(15) 0.0347(15) -0.0029(13) 0.0073(12) 0.0000(11)
C2 0.0534(19) 0.0500(19) 0.0446(17) -0.0024(15) 0.0096(13) -0.0030(14)
O2 0.0661(17) 0.0878(19) 0.0684(17) 0.0145(14) 0.0357(13) 0.0163(15)
C3 0.049(2) 0.0546(19) 0.0538(19) 0.0102(16) 0.0036(14) 0.0035(15)
C4 0.057(2) 0.0457(18) 0.0411(17) 0.0016(15) -0.0016(13) 0.0044(14)
C5 0.0490(18) 0.0395(15) 0.0353(15) -0.0064(13) 0.0052(12) -0.0018(12)
O5 0.0761(17) 0.0510(14) 0.0397(12) 0.0041(12) 0.0200(10) 0.0077(10)
C6 0.0488(18) 0.0391(16) 0.0361(15) 0.0016(13) 0.0064(12) 0.0013(12)
C7 0.061(2) 0.0451(17) 0.0354(15) -0.0027(15) 0.0090(13) 0.0033(13)
O8 0.0804(17) 0.0688(16) 0.0497(13) 0.0074(12) 0.0260(12) 0.0183(11)
O9 0.0665(15) 0.0582(15) 0.0502(13) 0.0101(12) 0.0119(10) 0.0178(11)
loop_
_atom_type_symbol
_atom_type_description
_atom_type_scat_dispersion_real
_atom_type_scat_dispersion_imag
_atom_type_scat_source
C C 0.0033 0.0016 'International Tables Vol C Tables 4.2.6.8 and 6.1.1.4'
H H 0 0 'International Tables Vol C Tables 4.2.6.8 and 6.1.1.4'
O O 0.0106 0.006 'International Tables Vol C Tables 4.2.6.8 and 6.1.1.4'
loop_
_geom_angle_atom_site_label_1
_geom_angle_atom_site_label_2
_geom_angle_atom_site_label_3
_geom_angle
C2 C1 C6 119.8(3)
C2 C1 C7 119.5(3)
C6 C1 C7 120.7(3)
O2 C2 C1 123.2(3)
O2 C2 C3 117.5(3)
C1 C2 C3 119.3(3)
C2 O2 H2 102(3)
C4 C3 C2 120.4(3)
C4 C3 H3 122(2)
C2 C3 H3 117(2)
C3 C4 C5 121.0(3)
C3 C4 H4 118.2(18)
C5 C4 H4 120.8(18)
O5 C5 C6 122.3(3)
O5 C5 C4 118.1(3)
C6 C5 C4 119.6(3)
C5 O5 H5 107(3)
C5 C6 C1 119.9(3)
C5 C6 H6 124.3(17)
C1 C6 H6 115.8(17)
O8 C7 O9 122.4(3)
O8 C7 C1 121.9(3)
O9 C7 C1 115.7(2)
C7 O9 H1 102(3)
loop_
_geom_bond_atom_site_label_1
_geom_bond_atom_site_label_2
_geom_bond_distance
C1 C2 1.394(4)
C1 C6 1.400(4)
C1 C7 1.475(4)
C2 O2 1.362(4)
C2 C3 1.396(4)
O2 H2 0.93(5)
C3 C4 1.356(4)
C3 H3 1.01(4)
C4 C5 1.394(4)
C4 H4 0.99(3)
C5 O5 1.381(3)
C5 C6 1.382(4)
O5 H5 0.86(5)
C6 H6 1.01(3)
C7 O8 1.221(3)
C7 O9 1.312(4)
O9 H1 0.98(5)
loop_
_geom_torsion_atom_site_label_1
_geom_torsion_atom_site_label_2
_geom_torsion_atom_site_label_3
_geom_torsion_atom_site_label_4
_geom_torsion
C6 C1 C2 O2 -180.0(3)
C7 C1 C2 O2 -0.9(4)
C6 C1 C2 C3 0.8(4)
C7 C1 C2 C3 180.0(3)
O2 C2 C3 C4 179.6(3)
C1 C2 C3 C4 -1.2(5)
C2 C3 C4 C5 0.7(5)
C3 C4 C5 O5 -179.4(3)
C3 C4 C5 C6 0.3(4)
O5 C5 C6 C1 179.1(3)
C4 C5 C6 C1 -0.6(4)
C2 C1 C6 C5 0.1(4)
C7 C1 C6 C5 -179.0(3)
C2 C1 C7 O8 -0.3(4)
C6 C1 C7 O8 178.8(3)
C2 C1 C7 O9 179.7(3)
C6 C1 C7 O9 -1.1(4)
