#------------------------------------------------------------------------------
#$Date: 2016-05-06 05:19:40 +0300 (Fri, 06 May 2016) $
#$Revision: 182798 $
#$URL: svn://www.crystallography.net/cod/cif/7/22/48/7224879.cif $
#------------------------------------------------------------------------------
#
# This file is available in the Crystallography Open Database (COD),
# http://www.crystallography.net/
#
# All data on this site have been placed in the public domain by the
# contributors.
#
data_7224879
loop_
_publ_author_name
'Patyk, Ewa'
'Jenczak, Anna'
'Katrusiak, Andrzej'
_publ_section_title
;
 Giant strain geared to transformable H-bonded network in compressed
 β-d-mannose.
;
_journal_issue                   16
_journal_name_full               'Physical chemistry chemical physics : PCCP'
_journal_page_first              11474
_journal_page_last               11479
_journal_paper_doi               10.1039/c6cp01286h
_journal_volume                  18
_journal_year                    2016
_chemical_absolute_configuration rm
_chemical_formula_moiety         'C6 H12 O6'
_chemical_formula_sum            'C6 H12 O6'
_chemical_formula_weight         180.16
_chemical_melting_point          400
_chemical_name_common            β-D-mannose
_chemical_name_systematic        β-D-mannopyranose
_space_group_crystal_system      orthorhombic
_space_group_IT_number           19
_space_group_name_Hall           'P 2ac 2ab'
_space_group_name_H-M_alt        'P 21 21 21'
_symmetry_space_group_name_Hall  'P 2ac 2ab'
_symmetry_space_group_name_H-M   'P 21 21 21'
_atom_sites_solution_hydrogens   geom
_audit_creation_method           SHELXL-2014/7
_audit_update_record
;
2016-02-04 deposited with the CCDC.
2016-04-08 downloaded from the CCDC.
;
_cell_angle_alpha                90
_cell_angle_beta                 90
_cell_angle_gamma                90
_cell_formula_units_Z            4
_cell_length_a                   5.577(2)
_cell_length_b                   7.5481(7)
_cell_length_c                   18.060(3)
_cell_measurement_reflns_used    465
_cell_measurement_temperature    295(2)
_cell_measurement_theta_max      25.988
_cell_measurement_theta_min      4.295
_cell_volume                     760.2(3)
_computing_cell_refinement
'CrysAlisPro, Agilent Technologies,Version 1.171.36.20'
_computing_data_collection
'CrysAlisPro, Agilent Technologies,Version 1.171.36.20'
_computing_data_reduction
'CrysAlisPro, Agilent Technologies,Version 1.171.36.20'
_computing_structure_refinement  'SHELXL-2014/7 (Sheldrick, 2014)'
_computing_structure_solution    'ShelXS (Sheldrick, 2008)'
_diffrn_ambient_environment      'diamond-anvil cell'
_diffrn_ambient_pressure         480000
_diffrn_ambient_temperature      295(2)
_diffrn_detector_area_resol_mean 8.1207
_diffrn_measured_fraction_theta_full 0.363
_diffrn_measured_fraction_theta_max 0.344
_diffrn_measurement_device_type  'Xcalibur, Eos'
_diffrn_measurement_method       'φ- and ω-scans'
_diffrn_radiation_type           MoK\a
_diffrn_radiation_wavelength     0.71073
_diffrn_reflns_av_R_equivalents  0.1296
_diffrn_reflns_av_unetI/netI     0.1237
_diffrn_reflns_Laue_measured_fraction_full 0.363
_diffrn_reflns_Laue_measured_fraction_max 0.344
_diffrn_reflns_limit_h_max       4
_diffrn_reflns_limit_h_min       -4
_diffrn_reflns_limit_k_max       9
_diffrn_reflns_limit_k_min       -9
_diffrn_reflns_limit_l_max       17
_diffrn_reflns_limit_l_min       -17
_diffrn_reflns_number            2169
_diffrn_reflns_point_group_measured_fraction_full 0.362
_diffrn_reflns_point_group_measured_fraction_max 0.340
_diffrn_reflns_theta_full        25.242
_diffrn_reflns_theta_max         25.988
_diffrn_reflns_theta_min         4.295
_diffrn_source                   'Enhance (Mo) X-ray Source'
_exptl_absorpt_coefficient_mu    0.143
_exptl_absorpt_correction_type   none
_exptl_crystal_colour            colourless
_exptl_crystal_density_diffrn    1.574
_exptl_crystal_density_method    'not measured'
_exptl_crystal_description       plate
_exptl_crystal_F_000             384
_exptl_crystal_size_max          0.20
_exptl_crystal_size_mid          0.15
_exptl_crystal_size_min          0.1
_refine_diff_density_max         0.243
_refine_diff_density_min         -0.242
_refine_diff_density_rms         0.074
_refine_ls_abs_structure_details
; 
 Flack x determined using 88 quotients [(I+)-(I-)]/[(I+)+(I-)] 
 (Parsons, Flack and Wagner, Acta Cryst. B69 (2013) 249-259). 
;
_refine_ls_abs_structure_Flack   3.0(10)
_refine_ls_extinction_coef       0.10(2)
_refine_ls_extinction_expression Fc^*^=kFc[1+0.001xFc²λ³/sin(2θ)]^-1/4^
_refine_ls_extinction_method     'SHELXL-2014/7 (Sheldrick 2014'
_refine_ls_goodness_of_fit_ref   1.006
_refine_ls_hydrogen_treatment    constr
_refine_ls_matrix_type           full
_refine_ls_number_parameters     50
_refine_ls_number_reflns         507
_refine_ls_number_restraints     0
_refine_ls_restrained_S_all      1.006
_refine_ls_R_factor_all          0.0933
_refine_ls_R_factor_gt           0.0744
_refine_ls_shift/su_max          0.000
_refine_ls_shift/su_mean         0.000
_refine_ls_structure_factor_coef Fsqd
_refine_ls_weighting_details
'w=1/[σ²(Fo²)+(0.0637P)²] where P=(Fo²+2Fc²)/3'
_refine_ls_weighting_scheme      calc
_refine_ls_wR_factor_gt          0.1512
_refine_ls_wR_factor_ref         0.1591
_reflns_Friedel_coverage         0.630
_reflns_Friedel_fraction_full    0.361
_reflns_Friedel_fraction_max     0.333
_reflns_number_gt                358
_reflns_number_total             507
_reflns_threshold_expression     'I > 2σ(I)'
_cod_data_source_file            c6cp01286h6.cif
_cod_data_source_block           bman1_480MPa
_cod_depositor_comments
'Adding full bibliography for 7224879--7224889.cif.'
_cod_original_cell_volume        760.3(3)
_cod_database_code               7224879
_shelx_space_group_comment
; 
The symmetry employed for this shelxl refinement is uniquely defined 
by the following loop, which should always be used as a source of 
symmetry information in preference to the above space-group names. 
They are only intended as comments. 
;
_shelx_res_file
; 
  
    bman1.res created by SHELXL-2014/7 
  
  
TITL 1 in P2(1)2(1)2(1) 
CELL 0.71073   5.5772   7.5481  18.0598  90.000  90.000  90.000 
ZERR    4.00   0.0023   0.0007   0.0030   0.000   0.000   0.000 
LATT -1 
SYMM 0.5-X, -Y, 0.5+Z 
SYMM -X, 0.5+Y, 0.5-Z 
SYMM 0.5+X, 0.5-Y, -Z 
SFAC C H O 
UNIT 24 48 24 
  
L.S. 100 
BOND 
FMAP 2 
PLAN 5 
acta 
EQIV $1 1-X, -0.5+Y, 0.5-Z 
EQIV $2 1-X, 0.5+Y, 0.5-Z 
EQIV $3 0.5+X, 1.5-Y, -Z 
EQIV $4 0.5+X, 0.5-Y, -Z 
EQIV $5 -X, -0.5+Y, 0.5-Z 
EQIV $6 -0.5+X, 1.5-Y, -Z 
EQIV $7 X, 1+Y, Z 
EQIV $8 X, -1+Y, Z 
EQIV $9 -1+X, Y, Z 
EQIV $10 -X, 0.5+Y, 0.5-Z 
EQIV $11 -0.5+X, 0.5-Y, -Z 
  
RTAB oho1 O1 O3_$1 
RTAB oho1 H8 O3_$1 
RTAB oho1 O1 H8 O3_$1 
RTAB oho1 C1 O1 O3_$1 
RTAB oho1 O1 O3_$1 c3_$1 
  
RTAB oho2 O1 O6_$2 
RTAB oho2 H8 O6_$2 
RTAB oho2 O1 H8 O6_$2 
RTAB oho2 C1 O1 O6_$2 
RTAB oho2 O1 O6_$2 c6_$2 
  
RTAB oho3 O2 O5_$2 
RTAB oho3 H9 O5_$2 
RTAB oho3 O2 H9 O5_$2 
RTAB oho3 C2 O2 O5_$2 
  
RTAB oho4 O2 O1_$2 
RTAB oho4 H9 O1_$2 
RTAB oho4 O2 H9 O1_$2 
RTAB oho4 C2 O2 O1_$2 
RTAB oho4 O2 O1_$2 c1_$2 
  
RTAB oho5 O3 O4_$3 
RTAB oho5 H10 O4_$3 
RTAB oho5 O3 H10 O4_$3 
RTAB oho5 C3 O3 O4_$3 
RTAB oho5 O3 O4_$3 c4_$3 
  
RTAB oho6 O3 O4_$6 
RTAB oho6 H10 O4_$6 
RTAB oho6 O3 H10 O4_$6 
RTAB oho6 C3 O3 O4_$6 
RTAB oho6 O3 O4_$6 c4_$6 
  
RTAB oho7 O3 O3_$6 
RTAB oho7 H10 O3_$6 
RTAB oho7 O3 H10 O3_$6 
RTAB oho7 C3 O3 O3_$6 
RTAB oho7 O3 O3_$6 c3_$6 
  
RTAB oo1 O3 O6_$7 
RTAB oo1 H10 O6_$7 
RTAB oo1 O3 H10 O6_$7 
RTAB oo1 C3 O3 O6_$7 
RTAB oo1 O3 O6_$7 c6_$7 
  
RTAB oho8 O4 O6_$4 
RTAB oho8 H11 O6_$4 
RTAB oho8 O4 H11 O6_$4 
RTAB oho8 C4 O4 O6_$4 
RTAB oho8 O4 O6_$4 c6_$4 
  
RTAB oho9 O4 O3_$6 
RTAB oho9 H11 O3_$6 
RTAB oho9 O4 H11 O3_$6 
RTAB oho9 C4 O4 O3_$6 
RTAB oho9 O4 O3_$6 c3_$6 
  
RTAB oh10 O6 O1_$5 
RTAB oh10 H12 O1_$5 
RTAB oh10 O6 H12 O1_$5 
RTAB oh10 C6 O6 O1_$5 
RTAB oh10 O6 O1_$5 c1_$5 
  
RTAB oo2 O6 O3_$8 
RTAB oo2 H12 O3_$8 
RTAB oo2 O6 H12 O3_$8 
RTAB oo2 C6 O6 O3_$8 
RTAB oo2 O6 O3_$8 c3_$8 
  
RTAB cho1 C1 O2_$9 
RTAB cho1 H1 O2_$9 
RTAB cho1 C1 H1 O2_$9 
RTAB cho1 C1 O2_$9 c2_$9 
  
RTAB cho2 C2 O1_$10 
RTAB cho2 H2 O1_$10 
RTAB cho2 C2 H2 O1_$10 
RTAB cho2 C2 O1_$10 c1_$10 
  
RTAB cho3 C2 O2_$9 
RTAB cho3 H2 O2_$9 
RTAB cho3 C2 H2 O2_$9 
RTAB cho3 C2 O2_$9 c2_$9 
  
RTAB cho4 C2 O2_$2 
RTAB cho4 H2 O2_$2 
RTAB cho4 C2 H2 O2_$2 
RTAB cho4 C2 O2_$2 c2_$2 
  
RTAB cho5 C2 O5_$10 
RTAB cho5 H2 O5_$10 
RTAB cho5 C2 H2 O5_$10 
  
RTAB cho6 C3 O2_$9 
RTAB cho6 H3 O2_$9 
RTAB cho6 C3 H3 O2_$9 
RTAB cho6 C3 O2_$9 c2_$9 
  
RTAB cho7 C3 O3_$6 
RTAB cho7 H3 O3_$6 
RTAB cho7 C3 H3 O3_$6 
RTAB cho7 C3 O3_$6 c3_$6 
  
RTAB cho8 C3 O4_$6 
RTAB cho8 H3 O4_$6 
RTAB cho8 C3 H3 O4_$6 
RTAB cho8 C3 O4_$6 c4_$6 
  
RTAB cho9 C3 O6_$7 
RTAB cho9 H3 O6_$7 
RTAB cho9 C3 H3 O6_$7 
RTAB cho9 C3 O6_$7 c6_$7 
  
RTAB ch10 C4 O3_$3 
RTAB ch10 H4 O3_$3 
RTAB ch10 C4 H4 O3_$3 
RTAB ch10 C4 O3_$3 c3_$3 
  
RTAB ch11 C6 O6_$4 
RTAB ch11 H6 O6_$4 
RTAB ch11 C6 H6 O6_$4 
RTAB ch11 C6 O6_$4 c6_$4 
  
RTAB ch12 C6 O3_$8 
RTAB ch12 H7 O3_$8 
RTAB ch12 C6 H7 O3_$8 
RTAB ch12 C6 O3_$8 c3_$8 
  
RTAB hh1 H1 H9_$9 
RTAB hh2 H3 H4_$9 
RTAB hh3 H3 H10_$6 
RTAB hh4 H3 H11_$6 
RTAB hh5 H4 H10_$3 
RTAB hh6 H5 H7_$9 
RTAB hh7 H6 H7_$11 
RTAB hh8 H7 H8_$1 
RTAB hh9 H8 H9_$1 
RTAB hh10 H8 H12_$10 
RTAB hh11 H10 H11_$3 
RTAB hh12 H10 H11_$6 
RTAB hh13 H11 H12_$4 
  
WGHT    0.063700 
EXTI    0.101261 
FVAR       2.14651 
C1    1    0.151549    0.582038    0.218655    11.00000    0.03159 
AFIX  13 
H1    2    0.003832    0.631380    0.197719    11.00000   -1.20000 
AFIX   0 
C2    1    0.347752    0.714896    0.208055    11.00000    0.03032 
AFIX  13 
H2    2    0.305018    0.827201    0.231872    11.00000   -1.20000 
AFIX   0 
C3    1    0.380688    0.742012    0.124377    11.00000    0.03497 
AFIX  13 
H3    2    0.235314    0.798214    0.104952    11.00000   -1.20000 
AFIX   0 
C4    1    0.418153    0.573958    0.083849    11.00000    0.03094 
AFIX  13 
H4    2    0.574590    0.524405    0.097331    11.00000   -1.20000 
AFIX   0 
C5    1    0.226731    0.443344    0.102177    11.00000    0.02641 
AFIX  13 
H5    2    0.073499    0.486870    0.082827    11.00000   -1.20000 
AFIX   0 
C6    1    0.278805    0.263224    0.068390    11.00000    0.04585 
AFIX  23 
H6    2    0.307081    0.276418    0.015681    11.00000   -1.20000 
H7    2    0.422650    0.214235    0.090577    11.00000   -1.20000 
AFIX   0 
O1    3    0.106272    0.534074    0.290418    11.00000    0.04296 
AFIX  83 
H8    2    0.225058    0.485597    0.307894    11.00000   -1.50000 
AFIX   0 
O2    3    0.551275    0.643189    0.241210    11.00000    0.04264 
AFIX  83 
H9    2    0.622452    0.720885    0.264100    11.00000   -1.50000 
AFIX   0 
O3    3    0.575955    0.861756    0.114171    11.00000    0.04573 
AFIX  83 
H10   2    0.594943    0.880395    0.069825    11.00000   -1.50000 
AFIX   0 
O4    3    0.418456    0.618545    0.006715    11.00000    0.04667 
AFIX  83 
H11   2    0.473089    0.535519   -0.017219    11.00000   -1.50000 
AFIX   0 
O5    3    0.205208    0.417873    0.179830    11.00000    0.03472 
O6    3    0.082230    0.144436    0.080089    11.00000    0.05447 
AFIX  83 
H12   2    0.058845    0.132858    0.124654    11.00000   -1.50000 
  
AFIX   0 
HKLF 4 
  
REM  1 in P2(1)2(1)2(1) 
REM R1 =  0.0744 for     358 Fo > 4sig(Fo)  and  0.0933 for all     507 data 
REM     50 parameters refined using      0 restraints 
  
END 
  
WGHT      0.0750      0.0000 
  
REM Highest difference peak  0.243,  deepest hole -0.242,  1-sigma level  0.074 
Q1    1  -0.0938  0.4069  0.1395  11.00000  0.05    0.24 
Q2    1  -0.1312  0.1930  0.0583  11.00000  0.05    0.24 
Q3    1  -0.1483  0.1459  0.0979  11.00000  0.05    0.24 
Q4    1   0.6764  0.8945  0.1179  11.00000  0.05    0.23 
Q5    1   0.6886  0.7857  0.1400  11.00000  0.05    0.22 
;
_shelx_res_checksum              76636
loop_
_space_group_symop_operation_xyz
'x, y, z'
'-x+1/2, -y, z+1/2'
'-x, y+1/2, -z+1/2'
'x+1/2, -y+1/2, -z'
loop_
_atom_site_label
_atom_site_type_symbol
_atom_site_fract_x
_atom_site_fract_y
_atom_site_fract_z
_atom_site_U_iso_or_equiv
_atom_site_adp_type
_atom_site_occupancy
_atom_site_site_symmetry_order
_atom_site_calc_flag
_atom_site_refinement_flags_posn
_atom_site_refinement_flags_adp
C1 C 0.152(3) 0.5820(11) 0.2187(7) 0.032(3) Uiso 1 1 d . .
H1 H 0.0038 0.6314 0.1977 0.038 Uiso 1 1 calc R U
C2 C 0.348(3) 0.7149(13) 0.2081(7) 0.030(3) Uiso 1 1 d . .
H2 H 0.3050 0.8272 0.2319 0.036 Uiso 1 1 calc R U
C3 C 0.381(3) 0.7420(13) 0.1244(6) 0.035(3) Uiso 1 1 d . .
H3 H 0.2353 0.7982 0.1050 0.042 Uiso 1 1 calc R U
C4 C 0.418(3) 0.5740(12) 0.0838(6) 0.031(3) Uiso 1 1 d . .
H4 H 0.5746 0.5244 0.0973 0.037 Uiso 1 1 calc R U
C5 C 0.227(3) 0.4433(11) 0.1022(6) 0.026(3) Uiso 1 1 d . .
H5 H 0.0735 0.4869 0.0828 0.032 Uiso 1 1 calc R U
C6 C 0.279(3) 0.2632(14) 0.0684(7) 0.046(4) Uiso 1 1 d . .
H6 H 0.3071 0.2764 0.0157 0.055 Uiso 1 1 calc R U
H7 H 0.4226 0.2142 0.0906 0.055 Uiso 1 1 calc R U
O1 O 0.106(2) 0.5341(8) 0.2904(5) 0.043(3) Uiso 1 1 d . .
H8 H 0.2251 0.4856 0.3079 0.064 Uiso 1 1 calc R U
O2 O 0.551(2) 0.6432(8) 0.2412(4) 0.043(2) Uiso 1 1 d . .
H9 H 0.6225 0.7209 0.2641 0.064 Uiso 1 1 calc R U
O3 O 0.576(2) 0.8618(8) 0.1142(4) 0.046(3) Uiso 1 1 d . .
H10 H 0.5949 0.8804 0.0698 0.069 Uiso 1 1 calc R U
O4 O 0.418(2) 0.6185(8) 0.0067(4) 0.047(3) Uiso 1 1 d . .
H11 H 0.4731 0.5355 -0.0172 0.070 Uiso 1 1 calc R U
O5 O 0.2052(18) 0.4179(7) 0.1798(4) 0.035(2) Uiso 1 1 d . .
O6 O 0.082(2) 0.1444(8) 0.0801(5) 0.054(3) Uiso 1 1 d . .
H12 H 0.0588 0.1329 0.1247 0.082 Uiso 1 1 calc R U
loop_
_atom_type_symbol
_atom_type_description
_atom_type_scat_dispersion_real
_atom_type_scat_dispersion_imag
_atom_type_scat_source
C C 0.0033 0.0016 'International Tables Vol C Tables 4.2.6.8 and 6.1.1.4'
H H 0.0000 0.0000 'International Tables Vol C Tables 4.2.6.8 and 6.1.1.4'
O O 0.0106 0.0060 'International Tables Vol C Tables 4.2.6.8 and 6.1.1.4'
loop_
_geom_angle_atom_site_label_1
_geom_angle_atom_site_label_2
_geom_angle_atom_site_label_3
_geom_angle
O1 C1 O5 105.6(7)
O1 C1 C2 115.7(10)
O5 C1 C2 111.0(11)
O2 C2 C1 106.3(9)
O2 C2 C3 112.2(13)
C1 C2 C3 107.6(9)
O3 C3 C4 111.8(11)
O3 C3 C2 107.6(9)
C4 C3 C2 112.9(9)
O4 C4 C3 106.2(8)
O4 C4 C5 111.8(9)
C3 C4 C5 110.9(11)
O5 C5 C4 111.7(9)
O5 C5 C6 107.0(8)
C4 C5 C6 111.5(10)
O6 C6 C5 110.8(12)
C5 O5 C1 112.2(7)
loop_
_geom_bond_atom_site_label_1
_geom_bond_atom_site_label_2
_geom_bond_distance
C1 O1 1.369(12)
C1 O5 1.455(11)
C1 C2 1.497(18)
C2 O2 1.393(16)
C2 C3 1.536(15)
C3 O3 1.427(16)
C3 C4 1.479(14)
C4 O4 1.433(11)
C4 C5 1.490(16)
C5 O5 1.421(11)
C5 C6 1.518(14)
C6 O6 1.432(16)
