#------------------------------------------------------------------------------
#$Date: 2025-08-23 03:11:47 +0300 (Sat, 23 Aug 2025) $
#$Revision: 301881 $
#$URL: file:///home/coder/svn-repositories/cod/cif/9/00/97/9009743.cif $
#------------------------------------------------------------------------------
#
# This file is available in the Crystallography Open Database (COD),
# http://www.crystallography.net/. The original data for this entry
# were provided the American Mineralogist Crystal Structure Database,
# http://rruff.geo.arizona.edu/AMS/amcsd.php
#
# The file may be used within the scientific community so long as
# proper attribution is given to the journal article from which the
# data were obtained.
#
data_9009743
loop_
_publ_author_name
'Ahtee, M.'
_publ_section_title
;
 Lattice constants of some binary alkali halide solid solutions.
;
_journal_name_full
'Annales Academiae Scientiarum Fennicae Series A6: Physica'
_journal_page_first              1
_journal_page_last               11
_journal_paper_doi               10.1177/000271625731300103
_journal_volume                  313
_journal_year                    1969
_chemical_formula_structural     CsCl
_chemical_formula_sum            'Cl Cs'
_space_group_IT_number           221
_symmetry_space_group_name_Hall  '-P 4 2 3'
_symmetry_space_group_name_H-M   'P m -3 m'
_cell_angle_alpha                90
_cell_angle_beta                 90
_cell_angle_gamma                90
_cell_formula_units_Z            1
_cell_length_a                   4.1150
_cell_length_b                   4.1150
_cell_length_c                   4.1150
_cell_volume                     69.680
_database_code_amcsd             0012004
_exptl_crystal_density_diffrn    4.012
_cod_original_sg_symbol_H-M      'P m 3 m'
_cod_original_formula_sum        'Cs Cl'
_cod_database_code               9009743
_amcsd_formula_title             CsCl
loop_
_space_group_symop_operation_xyz
x,y,z
z,-x,y
-y,z,-x
x,-y,z
-z,x,-y
y,-z,x
-x,y,-z
x,-z,-y
-z,y,x
y,-x,-z
-x,z,y
z,-y,-x
-y,x,z
x,z,y
-z,-y,-x
y,x,z
-x,-z,-y
z,y,x
-y,-x,-z
z,x,-y
-y,-z,x
x,y,-z
-z,-x,y
y,z,-x
-x,-y,z
-z,x,y
y,-z,-x
-x,y,z
z,-x,-y
-y,z,x
x,-y,-z
-x,z,-y
z,-y,x
-y,x,-z
x,-z,y
-z,y,-x
y,-x,z
-x,-z,y
z,y,-x
-y,-x,z
x,z,-y
-z,-y,x
y,x,-z
-z,-x,-y
y,z,x
-x,-y,-z
z,x,y
-y,-z,-x
loop_
_atom_site_label
_atom_site_fract_x
_atom_site_fract_y
_atom_site_fract_z
Cs 0.00000 0.00000 0.00000
Cl 0.50000 0.50000 0.50000
loop_
_cod_related_entry_id
_cod_related_entry_database
_cod_related_entry_code
1 AMCSD 0012004
2 PubChem 24293
