#------------------------------------------------------------------------------
#$Date: 2023-03-27 10:00:38 +0300 (Mon, 27 Mar 2023) $
#$Revision: 282074 $
#$URL: file:///home/coder/svn-repositories/cod/cif/9/01/78/9017870.cif $
#------------------------------------------------------------------------------
#
# This file is available in the Crystallography Open Database (COD),
# http://www.crystallography.net/. The original data for this entry
# were provided the American Mineralogist Crystal Structure Database,
# http://rruff.geo.arizona.edu/AMS/amcsd.php
#
# The file may be used within the scientific community so long as
# proper attribution is given to the journal article from which the
# data were obtained.
#
data_9017870
loop_
_publ_author_name
'Talla, D.'
'Balla, M.'
'Aicher, C.'
'Lengauer, C. L.'
'Wildner, M.'
_publ_section_title
;
 Structural and spectroscopic study of the kieserite-dwornikite solid-solution
 series, (Mg,Ni)SO4*H2O, at ambient and low temperatures, with cosmochemical
 implications for icy moons and Mars
 Note: T = -160 C
;
_journal_name_full               'American Mineralogist'
_journal_page_first              1472
_journal_page_last               1489
_journal_volume                  105
_journal_year                    2020
_chemical_compound_source        Synthetic
_chemical_formula_sum            'H2 Ni O5 S'
_chemical_name_mineral           Dwornikite
_space_group_IT_number           15
_space_group_name_Hall           '-C 2yc'
_space_group_name_H-M_alt        'C 1 2/c 1'
_symmetry_space_group_name_H-M   'C 1 2/c 1'
_cell_angle_alpha                90
_cell_angle_beta                 117.580
_cell_angle_gamma                90
_cell_length_a                   6.8037
_cell_length_b                   7.6178
_cell_length_c                   7.4371
_cell_volume                     341.658
_database_code_amcsd             0020998
_diffrn_ambient_temperature      113.15
_exptl_crystal_density_diffrn    3.359
_cod_data_source_file            inputs/fixed/split/05889.cif
_cod_data_source_block           05889
_cod_original_formula_sum        'Ni S O5 H2'
_cod_database_code               9017870
loop_
_space_group_symop_operation_xyz
x,y,z
1/2+x,1/2+y,z
x,-y,1/2+z
1/2+x,1/2-y,1/2+z
-x,y,1/2-z
1/2-x,1/2+y,1/2-z
-x,-y,-z
1/2-x,1/2-y,-z
loop_
_atom_site_aniso_label
_atom_site_aniso_U_11
_atom_site_aniso_U_22
_atom_site_aniso_U_33
_atom_site_aniso_U_12
_atom_site_aniso_U_13
_atom_site_aniso_U_23
Ni 0.00272 0.00320 0.00283 -0.00010 0.00127 0.00010
S 0.00228 0.00297 0.00321 0.00000 0.00121 0.00000
O1 0.00390 0.00700 0.00670 0.00183 0.00202 0.00315
O2 0.00510 0.00470 0.00670 0.00031 0.00378 0.00181
O3 0.00420 0.00560 0.00500 0.00000 0.00220 0.00000
loop_
_atom_site_label
_atom_site_fract_x
_atom_site_fract_y
_atom_site_fract_z
_atom_site_U_iso_or_equiv
Ni 0.00000 0.50000 0.00000 0.00292
S 0.00000 0.15763 0.25000 0.00284
O1 0.17257 0.04772 0.40473 0.00604
O2 0.10507 0.27108 0.15552 0.00506
O3 0.00000 0.63055 0.25000 0.00491
H 0.10900 0.69500 0.29400 0.02000
loop_
_cod_related_entry_id
_cod_related_entry_database
_cod_related_entry_code
1 AMCSD 0020998
