#------------------------------------------------------------------------------
#$Date: 2016-02-14 16:26:36 +0200 (Sun, 14 Feb 2016) $
#$Revision: 176435 $
#$URL: svn://www.crystallography.net/cod/cif/1/50/94/1509452.cif $
#------------------------------------------------------------------------------
#
# This file is available in the Crystallography Open Database (COD),
# http://www.crystallography.net/
#
# All data on this site have been placed in the public domain by the
# contributors.
#
data_1509452
loop_
_publ_author_name
'Minamigawa, S.'
'Katada, K.'
'Matsuo, Y.'
_publ_section_title
;
 Phase relation and superlattice formation in the Ag Zn - Ag Mg
 quasibinary alloys
;
_journal_name_full               'Acta Metallurgica'
_journal_page_first              1179
_journal_page_last               1186
_journal_paper_doi               10.1016/0001-6160(77)90205-X
_journal_volume                  25
_journal_year                    1977
_chemical_formula_sum            'Ag Mg0.2 Zn0.8'
_chemical_name_systematic        'Ag (Mg0.2 Zn0.8)'
_space_group_IT_number           221
_symmetry_space_group_name_Hall  '-P 4 2 3'
_symmetry_space_group_name_H-M   'P m -3 m'
_cell_angle_alpha                90
_cell_angle_beta                 90
_cell_angle_gamma                90
_cell_formula_units_Z            1
_cell_length_a                   3.1814
_cell_length_b                   3.1814
_cell_length_c                   3.1814
_cell_volume                     32.200
_citation_journal_id_ASTM        AMETAR
_cod_data_source_file            silver1-2_409.cif
_cod_data_source_block           Ag1Mg0.2Zn0.8
_cod_original_cell_volume        32.19992
_cod_original_formula_sum        'Ag1 Mg0.2 Zn0.8'
_cod_database_code               1509452
loop_
_symmetry_equiv_pos_as_xyz
x,y,z
-y,x,z
-x,-y,z
y,-x,z
x,-y,-z
y,x,-z
-x,y,-z
-y,-x,-z
z,x,y
-x,z,y
-z,-x,y
x,-z,y
z,-x,-y
x,z,-y
-z,x,-y
-x,-z,-y
y,z,x
y,-z,-x
z,y,-x
-y,z,-x
-z,-y,-x
-y,-z,x
z,-y,x
-z,y,x
-x,-y,-z
y,-x,-z
x,y,-z
-y,x,-z
-x,y,z
-y,-x,z
x,-y,z
y,x,z
-z,-x,-y
x,-z,-y
z,x,-y
-x,z,-y
-z,x,y
-x,-z,y
z,-x,y
x,z,y
-y,-z,-x
-y,z,x
-z,-y,x
y,-z,x
z,y,x
y,z,-x
-z,y,-x
z,-y,-x
loop_
_atom_site_label
_atom_site_type_symbol
_atom_site_fract_x
_atom_site_fract_y
_atom_site_fract_z
_atom_site_occupancy
_atom_site_U_iso_or_equiv
Ag1 Ag 0 0 0 1 0.0
Zn1 Zn 0.5 0.5 0.5 0.8 0.0
Mg1 Mg 0.5 0.5 0.5 0.2 0.0
