#------------------------------------------------------------------------------
#$Date: 2018-09-27 07:13:35 +0300 (Thu, 27 Sep 2018) $
#$Revision: 211196 $
#$URL: file:///home/coder/svn-repositories/cod/cif/1/50/94/1509459.cif $
#------------------------------------------------------------------------------
#
# This file is available in the Crystallography Open Database (COD),
# http://www.crystallography.net/
#
# All data on this site have been placed in the public domain by the
# contributors.
#
data_1509459
loop_
_publ_author_name
'Iandelli, A.'
_publ_section_title
;
 The structure of some ternary intermetallic compounds of the rare earths
;
_journal_name_full               'Journal of Alloys Compd.'
_journal_page_first              137
_journal_page_last               138
_journal_paper_doi               10.1016/0925-8388(94)90724-2
_journal_volume                  203
_journal_year                    1994
_chemical_formula_sum            'Ag Mg Y'
_space_group_IT_number           189
_symmetry_space_group_name_Hall  'P -6 -2'
_symmetry_space_group_name_H-M   'P -6 2 m'
_cell_angle_alpha                90
_cell_angle_beta                 90
_cell_angle_gamma                120
_cell_formula_units_Z            3
_cell_length_a                   7.661
_cell_length_b                   7.661
_cell_length_c                   4.138
_cell_volume                     210.326
_citation_journal_id_ASTM        JALCEU
_cod_data_source_file            silver1-2_416.cif
_cod_data_source_block           Ag1Mg1Y1
_cod_original_cell_volume        210.3255
_cod_original_formula_sum        'Ag1 Mg1 Y1'
_cod_database_code               1509459
loop_
_symmetry_equiv_pos_as_xyz
x,y,z
-x+y,-x,-z
-y,x-y,z
x,y,-z
-x+y,-x,z
-y,x-y,-z
y,x,z
x-y,-y,-z
-x,-x+y,z
y,x,-z
x-y,-y,z
-x,-x+y,-z
loop_
_atom_site_label
_atom_site_type_symbol
_atom_site_fract_x
_atom_site_fract_y
_atom_site_fract_z
_atom_site_occupancy
_atom_site_U_iso_or_equiv
Y1 Y 0.595 0 0.5 1 0.0
Ag2 Ag 0.3333 0.6667 0 1 0.0
Ag1 Ag 0 0 0.5 1 0.0
Mg1 Mg 0.25 0 0 1 0.0
