#------------------------------------------------------------------------------
#$Date: 2016-02-14 16:26:36 +0200 (Sun, 14 Feb 2016) $
#$Revision: 176435 $
#$URL: svn://www.crystallography.net/cod/cif/1/50/95/1509573.cif $
#------------------------------------------------------------------------------
#
# This file is available in the Crystallography Open Database (COD),
# http://www.crystallography.net/
#
# All data on this site have been placed in the public domain by the
# contributors.
#
data_1509573
loop_
_publ_author_name
'Poettgen, R.'
'Fickenscher, T.'
_publ_section_title
;
 Synthesis and Crystal Structures of REAgMg (RE = La, Ce, Nd, Eu, Gd, Tb,
 Ho, Tm, and Yb)
;
_journal_name_full               'Journal of Solid State Chemistry'
_journal_page_first              67
_journal_page_last               72
_journal_paper_doi               10.1006/jssc.2001.9268
_journal_volume                  161
_journal_year                    2001
_chemical_formula_sum            'Ag1.034 Ce Mg0.966'
_chemical_name_systematic        'Ce Ag Mg'
_space_group_IT_number           189
_symmetry_space_group_name_Hall  'P -6 -2'
_symmetry_space_group_name_H-M   'P -6 2 m'
_cell_angle_alpha                90
_cell_angle_beta                 90
_cell_angle_gamma                120
_cell_formula_units_Z            3
_cell_length_a                   7.825
_cell_length_b                   7.825
_cell_length_c                   4.328
_cell_volume                     229.502
_citation_journal_id_ASTM        JSSCBI
_cod_data_source_file            silver1-2_571.cif
_cod_data_source_block           Ag1.034Ce1Mg0.966
_cod_original_formula_sum        'Ag1.034 Ce1 Mg0.966'
_cod_database_code               1509573
loop_
_symmetry_equiv_pos_as_xyz
x,y,z
-x+y,-x,-z
-y,x-y,z
x,y,-z
-x+y,-x,z
-y,x-y,-z
y,x,z
x-y,-y,-z
-x,-x+y,z
y,x,-z
x-y,-y,z
-x,-x+y,-z
loop_
_atom_site_label
_atom_site_type_symbol
_atom_site_fract_x
_atom_site_fract_y
_atom_site_fract_z
_atom_site_occupancy
_atom_site_U_iso_or_equiv
Mg1 Mg 0.2402 0 0.5 0.966 0.0
Ag1 Ag 0.3333 0.6667 0.5 1 0.0
Ce1 Ce 0.58422 0 0 1 0.0
Ag2 Ag 0 0 0 1 0.0
Ag3 Ag 0.2402 0 0.5 0.034 0.0
