#------------------------------------------------------------------------------
#$Date: 2015-07-10 15:18:45 +0300 (Fri, 10 Jul 2015) $
#$Revision: 142297 $
#$URL: svn://www.crystallography.net/cod/cif/1/52/20/1522078.cif $
#------------------------------------------------------------------------------
#
# This file is available in the Crystallography Open Database (COD),
# http://www.crystallography.net/
#
# All data on this site have been placed in the public domain by the
# contributors.
#
data_1522078
loop_
_publ_author_name
'Valldor, M.'
'Boullay, P.'
'Axnas, J.'
'Bryntse, I.'
_publ_section_title
;
 X-ray diffraction studies of 2212-type superconductors in the Tl - Hg -
 Ba - Sr - Ca - Cu - O system
;
_journal_name_full               'Journal of Solid State Chemistry'
_journal_page_first              106
_journal_page_last               117
_journal_volume                  153
_journal_year                    2000
_chemical_formula_sum            'Ba1.5 Ca0.28 Cu2 Hg0.7 O7.54 Sr1.22 Tl1.3'
_chemical_name_systematic        'Tl1.3 Hg0.7 Ba1.5 Sr1.22 Ca0.28 Cu2 O7.54'
_space_group_IT_number           139
_symmetry_space_group_name_Hall  '-I 4 2'
_symmetry_space_group_name_H-M   'I 4/m m m'
_cell_angle_alpha                90
_cell_angle_beta                 90
_cell_angle_gamma                90
_cell_formula_units_Z            2
_cell_length_a                   3.86031
_cell_length_b                   3.86031
_cell_length_c                   29.60219
_cell_volume                     441.132
_citation_journal_id_ASTM        JSSCBI
_cod_data_source_file            Valldor_JSSCBI_2000_1940.cif
_cod_data_source_block           Ba1.5Ca0.28Cu2Hg0.7O7.54Sr1.22Tl1.3
_cod_original_cell_volume        441.1317
_cod_database_code               1522078
loop_
_symmetry_equiv_pos_as_xyz
x,y,z
-y,x,z
-x,-y,z
y,-x,z
x,-y,-z
y,x,-z
-x,y,-z
-y,-x,-z
-x,-y,-z
y,-x,-z
x,y,-z
-y,x,-z
-x,y,z
-y,-x,z
x,-y,z
y,x,z
x+1/2,y+1/2,z+1/2
-y+1/2,x+1/2,z+1/2
-x+1/2,-y+1/2,z+1/2
y+1/2,-x+1/2,z+1/2
x+1/2,-y+1/2,-z+1/2
y+1/2,x+1/2,-z+1/2
-x+1/2,y+1/2,-z+1/2
-y+1/2,-x+1/2,-z+1/2
-x+1/2,-y+1/2,-z+1/2
y+1/2,-x+1/2,-z+1/2
x+1/2,y+1/2,-z+1/2
-y+1/2,x+1/2,-z+1/2
-x+1/2,y+1/2,z+1/2
-y+1/2,-x+1/2,z+1/2
x+1/2,-y+1/2,z+1/2
y+1/2,x+1/2,z+1/2
loop_
_atom_site_label
_atom_site_type_symbol
_atom_site_fract_x
_atom_site_fract_y
_atom_site_fract_z
_atom_site_occupancy
_atom_site_U_iso_or_equiv
Ca1 Ca+2 0 0 0 0.28 0.0
Sr2 Sr+2 0 0 0.1232 0.25 0.0
O3 O-2 0 0 0.23 0.77 0.0
O2 O-2 0.5 0.5 0.144 1 0.0
Hg1 Hg+2 0.5 0.5 0.21325 0.35 0.0
O1 O-2 0 0.5 0.0564 1 0.0
Tl1 Tl+3 0.5 0.5 0.21325 0.65 0.0
Cu2 Cu+1 0.5 0.5 0.0591 1 0.0
Sr1 Sr+2 0 0 0 0.72 0.0
Ba1 Ba+2 0 0 0.1232 0.75 0.0
