#------------------------------------------------------------------------------
#$Date: 2018-09-27 07:13:35 +0300 (Thu, 27 Sep 2018) $
#$Revision: 211196 $
#$URL: file:///home/coder/svn-repositories/cod/cif/1/52/33/1523333.cif $
#------------------------------------------------------------------------------
#
# This file is available in the Crystallography Open Database (COD),
# http://www.crystallography.net/
#
# All data on this site have been placed in the public domain by the
# contributors.
#
data_1523333
loop_
_publ_author_name
'Buschow, K.H.J.'
'van der Goot, A.S.'
_publ_section_title
;
 The crystal structure of the two Th2 Fe7-phases
;
_journal_name_full               'Journal of the Less-Common Metals'
_journal_page_first              399
_journal_page_last               402
_journal_volume                  23
_journal_year                    1971
_chemical_formula_sum            'Fe7 Th2'
_space_group_IT_number           194
_symmetry_space_group_name_Hall  '-P 6c 2c'
_symmetry_space_group_name_H-M   'P 63/m m c'
_cell_angle_alpha                90
_cell_angle_beta                 90
_cell_angle_gamma                120
_cell_formula_units_Z            4
_cell_length_a                   5.193
_cell_length_b                   5.193
_cell_length_c                   24.785
_cell_volume                     578.837
_citation_journal_id_ASTM        JCOMAH
_cod_data_source_file            Buschow_JCOMAH_1971_85.cif
_cod_data_source_block           Fe7Th2
_cod_original_cell_volume        578.8369
_cod_database_code               1523333
loop_
_symmetry_equiv_pos_as_xyz
x,y,z
x-y,x,z+1/2
-y,x-y,z
-x,-y,z+1/2
-x+y,-x,z
y,-x+y,z+1/2
-y,-x,-z+1/2
x-y,-y,-z
x,x-y,-z+1/2
y,x,-z
-x+y,y,-z+1/2
-x,-x+y,-z
-x,-y,-z
-x+y,-x,-z-1/2
y,-x+y,-z
x,y,-z-1/2
x-y,x,-z
-y,x-y,-z-1/2
y,x,z-1/2
-x+y,y,z
-x,-x+y,z-1/2
-y,-x,z
x-y,-y,z-1/2
x,x-y,z
loop_
_atom_site_label
_atom_site_type_symbol
_atom_site_fract_x
_atom_site_fract_y
_atom_site_fract_z
_atom_site_occupancy
_atom_site_U_iso_or_equiv
Fe5 Fe 0.833 0.666 0.083 1 0.0
Fe4 Fe 0.833 0.666 0.25 1 0.0
Fe2 Fe 0 0 0.167 1 0.0
Fe1 Fe 0 0 0 1 0.0
Fe3 Fe 0.3333 0.6667 0.833 1 0.0
Th1 Th 0.3333 0.6667 0.03 1 0.0
Th2 Th 0.3333 0.6667 0.167 1 0.0
