#------------------------------------------------------------------------------
#$Date: 2016-02-13 14:50:18 +0200 (Sat, 13 Feb 2016) $
#$Revision: 176428 $
#$URL: svn://www.crystallography.net/cod/cif/1/53/65/1536535.cif $
#------------------------------------------------------------------------------
#
# This file is available in the Crystallography Open Database (COD),
# http://www.crystallography.net/
#
# All data on this site have been placed in the public domain by the
# contributors.
#
data_1536535
loop_
_publ_author_name
'Wickleder, C.'
_publ_section_title
;
 Quaternaere Chloride des zweiwertigen europiums mit dreiwertigen
 Uebergangsmetallen: Synthese und Kristallstruktur von Na6 Eu3 M4 Cl24 (M
 = Ti, V, Cr)
;
_journal_name_full
'Zeitschrift fuer Anorganische und Allgemeine Chemie'
_journal_page_first              549
_journal_page_last               553
_journal_volume                  627
_journal_year                    2001
_chemical_formula_sum            'Cl12 Cr1.97 Eu1.344 Na3.222'
_chemical_name_systematic        'Na0.566 (Na2.656 Eu1.344) Cr1.97 Cl12'
_space_group_IT_number           14
_symmetry_space_group_name_Hall  '-P 2yn'
_symmetry_space_group_name_H-M   'P 1 21/n 1'
_cell_angle_alpha                90
_cell_angle_beta                 91.07
_cell_angle_gamma                90
_cell_formula_units_Z            1
_cell_length_a                   6.5478
_cell_length_b                   7.0649
_cell_length_c                   9.454
_cell_volume                     437.262
_citation_journal_id_ASTM        ZAACAB
_cod_data_source_file            Wickleder_ZAACAB_2001_77.cif
_cod_data_source_block           Cl12Cr1.97Eu1.344Na3.222
_cod_original_cell_volume        437.2616
_cod_original_sg_symbol_Hall     '-P 2ybc (x-z,y,z)'
_cod_database_code               1536535
loop_
_symmetry_equiv_pos_as_xyz
x,y,z
-x+1/2,y+1/2,-z+1/2
-x,-y,-z
x-1/2,-y-1/2,z-1/2
loop_
_atom_site_label
_atom_site_type_symbol
_atom_site_fract_x
_atom_site_fract_y
_atom_site_fract_z
_atom_site_occupancy
_atom_site_U_iso_or_equiv
Eu1 Eu+2 0.03255 0.59379 0.74843 0.336 0.0
Na2 Na+1 0 0 0.5 0.283 0.0
Cr1 Cr+3 0.5 0.5 0.5 0.985 0.0
Cl1 Cl-1 0.2027 0.3288 0.55406 1 0.0
Cl2 Cl-1 0.1635 0.289 0.94771 1 0.0
Na1 Na+1 0.03255 0.59379 0.74843 0.664 0.0
Cl3 Cl-1 -0.1097 0.9721 0.76288 1 0.0
