#------------------------------------------------------------------------------
#$Date: 2022-09-28 18:08:17 +0300 (Wed, 28 Sep 2022) $
#$Revision: 278247 $
#$URL: file:///home/coder/svn-repositories/cod/cif/2/10/16/2101690.cif $
#------------------------------------------------------------------------------
#
# This file is available in the Crystallography Open Database (COD),
# http://www.crystallography.net/. The original data for this entry
# were provided by IUCr Journals, http://journals.iucr.org/.
#
# The file may be used within the scientific community so long as
# proper attribution is given to the journal article from which the
# data were obtained.
#
data_2101690
loop_
_publ_author_name
'Schofield, P. F.'
'Knight, K. S.'
'Redfern, S. A. T.'
'Cressey, G.'
_publ_section_title
;
 Distortion Characteristics Across the Structural Phase Transition in
 (Cu~1{-~x}Znₓ)WO₄
;
_journal_issue                   1
_journal_name_full               'Acta Crystallographica Section B'
_journal_page_first              102
_journal_page_last               112
_journal_paper_doi               10.1107/S0108768196010403
_journal_volume                  53
_journal_year                    1997
_chemical_formula_sum            'Cu0.9 O4 W Zn0.1'
_space_group_IT_number           2
_space_group_name_Hall           '-P 1'
_space_group_name_H-M_alt        'P -1'
_symmetry_cell_setting           triclinic
_symmetry_space_group_name_Hall  '-P 1'
_symmetry_space_group_name_H-M   'P -1'
_cell_angle_alpha                88.413(2)
_cell_angle_beta                 92.5035(18)
_cell_angle_gamma                97.095(2)
_cell_formula_units_Z            2
_cell_length_a                   4.7095(2)
_cell_length_b                   5.8403(2)
_cell_length_c                   4.88323(11)
_cell_volume                     133.123(8)
_diffrn_radiation_probe          neutron
_diffrn_radiation_type           neutron
_diffrn_radiation_wavelength     1.227
_cod_data_source_file            ha0150.cif
_cod_data_source_block           10
_cod_original_cell_volume        133.122(9)
_cod_original_formula_sum        'Cu0.90 O4 W1 Zn0.10'
_cod_database_code               2101690
loop_
_space_group_symop_id
_space_group_symop_operation_xyz
1 x,y,z
2 -x,-y,-z
loop_
_atom_site_label
_atom_site_fract_x
_atom_site_fract_y
_atom_site_fract_z
Zn 0.5063(8) 0.6629(5) 0.2557(8)
W -0.0203(9) 0.1710(8) 0.2428(11)
O1 0.2606(9) 0.3804(7) 0.4028(9)
O2 0.2186(8) 0.9089(8) 0.4468(9)
O3 0.7497(9) 0.3566(8) 0.0739(10)
O4 0.7843(9) 0.8772(8) 0.0720(10)
loop_
_geom_bond_atom_site_label_1
_geom_bond_atom_site_label_2
_geom_bond_site_symmetry_2
_geom_bond_distance
_geom_bond_publ_flag
Zn O2 . 2.331(5) no
Zn O1 . 2.028(4) no
Zn O3 . 2.447(5) no
Zn O4 . 1.929(5) no
Zn O1 2_666 1.984(5) no
Zn O3 2_665 1.966(5) no
W O1 . 1.850(4) no
W O2 1_545 2.201(5) no
W O3 1_455 1.786(5) no
W O4 1_445 2.027(5) no
W O2 2_566 1.834(4) no
W O4 2_665 1.982(5) no
