#------------------------------------------------------------------------------
#$Date: 2025-08-19 13:01:59 +0300 (Tue, 19 Aug 2025) $
#$Revision: 301802 $
#$URL: file:///home/coder/svn-repositories/cod/cif/2/10/19/2101961.cif $
#------------------------------------------------------------------------------
#
# This file is available in the Crystallography Open Database (COD),
# http://www.crystallography.net/. The original data for this entry
# were provided by IUCr Journals, http://journals.iucr.org/.
#
# The file may be used within the scientific community so long as
# proper attribution is given to the journal article from which the
# data were obtained.
#
data_2101961
loop_
_publ_author_name
'Nigović, Biljana'
'Antolić, Snježana'
'Kojić-Prodić, Biserka'
'Kiralj, Rudolf'
'Magnus, Volker'
'Salopek, Branka'
_publ_section_title
;
 Correlation of structural and physico-chemical parameters with the
 bioactivity of alkylated derivatives of indole-3-acetic acid, a
 phytohormone (auxin)
;
_journal_issue                   1
_journal_name_full               'Acta Crystallographica Section B'
_journal_page_first              94
_journal_page_last               111
_journal_paper_doi               10.1107/S0108768199006199
_journal_volume                  56
_journal_year                    2000
_chemical_formula_moiety         ' C11 H11 N O2'
_chemical_formula_sum            'C11 H11 N O2'
_chemical_formula_weight         189.21
_chemical_name_systematic
;
 7-Methyl-indole-3-acetic acid
;
_space_group_IT_number           14
_symmetry_cell_setting           monoclinic
_symmetry_space_group_name_Hall  '-P 2ybc'
_symmetry_space_group_name_H-M   'P 1 21/c 1'
_cell_angle_alpha                90
_cell_angle_beta                 109.000(6)
_cell_angle_gamma                90
_cell_formula_units_Z            4
_cell_length_a                   19.3530(10)
_cell_length_b                   5.0740(10)
_cell_length_c                   10.2750(10)
_cell_measurement_reflns_used    25
_cell_measurement_temperature    297
_cell_measurement_theta_max      17
_cell_measurement_theta_min      6
_cell_volume                     954.0(2)
_computing_cell_refinement
'CAD4 (Enraf Nonius 1988) software <CELDIM> routine'
_computing_data_collection       'CAD4 (Enraf Nonius 1988) software'
_computing_data_reduction        'SDP (Frenz, 1982)'
_computing_molecular_graphics
;
PLATON93 (Spek, 1982, 1990) & ORTEP (Johnson, 1965), PLUTON93 (Spek 1991)
;
_computing_publication_material  'PLATON93 (Spek 1982, 1990)'
_computing_structure_refinement  'SHELX76 (Sheldrick, 1976)'
_computing_structure_solution    'SHELXS-86 (Sheldrick,1985, 1990)'
_diffrn_ambient_temperature      297
_diffrn_measurement_device       'Enraf-Nonius CAD4'
_diffrn_measurement_method       ω/2θ
_diffrn_radiation_monochromator  graphite
_diffrn_radiation_source         'fine-focus sealed tube'
_diffrn_radiation_type           'Mo K\a'
_diffrn_radiation_wavelength     .71073
_diffrn_reflns_av_R_equivalents  .013
_diffrn_reflns_limit_h_max       21
_diffrn_reflns_limit_h_min       -22
_diffrn_reflns_limit_k_max       6
_diffrn_reflns_limit_k_min       0
_diffrn_reflns_limit_l_max       12
_diffrn_reflns_limit_l_min       0
_diffrn_reflns_number            1988
_diffrn_reflns_reduction_process
;
 ?
;
_diffrn_reflns_theta_max         25
_diffrn_reflns_theta_min         2
_diffrn_standards_decay_%        .1
_diffrn_standards_interval_count 87
_diffrn_standards_interval_time  180
_diffrn_standards_number         3
_exptl_absorpt_coefficient_mu    .09
_exptl_absorpt_correction_type   none
_exptl_crystal_colour            colorless
_exptl_crystal_density_diffrn    1.317
_exptl_crystal_density_method    'not measured'
_exptl_crystal_description       prismatic
_exptl_crystal_F_000             400
_exptl_crystal_size_max          .40
_exptl_crystal_size_mid          .30
_exptl_crystal_size_min          .10
_refine_diff_density_max         .14
_refine_diff_density_min         -.15
_refine_ls_abs_structure_details
;
 ?
;
_refine_ls_extinction_method     none
_refine_ls_goodness_of_fit_obs   .47
_refine_ls_hydrogen_treatment
;
refall, except H1, H11 normalized
;
_refine_ls_matrix_type           full
_refine_ls_number_constraints    0
_refine_ls_number_parameters     172
_refine_ls_number_reflns         1038
_refine_ls_number_restraints     0
_refine_ls_R_factor_obs          .041
_refine_ls_shift/esd_max         .05
_refine_ls_shift/esd_mean        .05
_refine_ls_structure_factor_coef F
_refine_ls_weighting_details     'w = 2.6240/[σ²(Fo)+0.000000(Fo²)]'
_refine_ls_weighting_scheme      calc
_refine_ls_wR_factor_obs         .036
_reflns_number_observed          1038
_reflns_number_total             1461
_reflns_observed_criterion       I>3\s(I)
_cod_data_source_file            ha0181.cif
_cod_data_source_block           7-Me-IAA
_cod_depositor_comments
;
The following automatic conversions were performed:
'_symmetry_cell_setting' value 'Monoclinic' changed to 'monoclinic'
according to '/home/saulius/struct/CIF-dictionaries/cif_core.dic'
dictionary named 'cif_core.dic' version 2.4.1 from 2010-06-29.

Automatic conversion script
Id: cif_fix_enum 1527 2010-12-29 10:47:43Z saulius 

The following automatic conversions were performed:

'_symmetry_cell_setting' value 'Monoclinic' changed to 'monoclinic'
according to /home/saulius/struct/CIF-dictionaries/cif_core.dic
dictionary named 'cif_core.dic' version 2.4.1 from 2010-06-29.

Automatic conversion script
Id: cif_fix_values 1715 2011-07-08 13:25:40Z adriana 

The following automatic conversions were performed:

'_refine_ls_weighting_scheme' value 'calc w =
2.6240/[\s^2^(Fo)+0.000000(Fo^2^)]' was changed to 'calc'. New tag
'_refine_ls_weighting_details' was created. The value of the new tag
was set to 'w = 2.6240/[\s^2^(Fo)+0.000000(Fo^2^)]'.

Automatic conversion script
Id: cif_fix_values 3143 2015-03-26 13:38:13Z robertas 
;
_cod_original_cell_volume        954.00(9)
_cod_original_sg_symbol_H-M      'P 21/c'
_cod_original_formula_sum        ' C11 H11 N O2'
_cod_database_code               2101961
loop_
_symmetry_equiv_pos_as_xyz
x,y,z
-x,1/2+y,1/2-z
-x,-y,-z
x,1/2-y,1/2+z
loop_
_atom_site_aniso_label
_atom_site_aniso_U_11
_atom_site_aniso_U_22
_atom_site_aniso_U_33
_atom_site_aniso_U_12
_atom_site_aniso_U_13
_atom_site_aniso_U_23
O1 .0686(9) .0768(10) .1205(11) .0191(9) .0617(9) .0362(10)
O2 .0600(9) .0844(11) .0921(10) .0192(9) .0434(8) .0401(10)
N1 .0614(10) .0485(10) .0613(10) .0011(10) .0318(9) -.0057(10)
C2 .0554(11) .0601(12) .0579(12) -.0123(10) .0238(10) .0022(11)
C3 .0505(10) .0506(12) .0616(11) -.0027(10) .0322(10) .0081(11)
C4 .0755(12) .0517(12) .0749(12) -.0022(11) .0482(10) -.0052(11)
C5 .0857(12) .0649(12) .0638(12) -.0202(12) .0387(11) -.0177(11)
C6 .0615(11) .0744(13) .0584(12) -.0098(11) .0240(10) .0032(12)
C7 .0549(11) .0514(11) .0506(11) .0007(10) .0265(10) .0080(11)
C8 .0552(11) .0650(13) .0787(12) .0017(11) .0360(10) .0179(12)
C9 .0417(10) .0624(12) .0643(12) .0012(11) .0212(10) .0048(12)
C10 .0644(12) .0791(13) .0767(12) .0117(12) .0286(11) .0047(12)
C31 .0563(10) .0400(11) .0560(11) -.0047(10) .0349(9) -.0001(10)
C71 .0556(11) .0392(11) .0507(11) -.0031(10) .0308(9) .0023(10)
loop_
_atom_site_label
_atom_site_fract_x
_atom_site_fract_y
_atom_site_fract_z
_atom_site_U_iso_or_equiv
_atom_site_thermal_displace_type
_atom_site_calc_flag
_atom_site_occupancy
O1 .01070(10) .7574(4) .3874(2) .0811(6) Uani d 1.000
O2 .07660(10) .4041(4) .4752(2) .0743(6) Uani d 1.000
N1 .26710(10) .2538(4) .3218(2) .0542(6) Uani d 1.000
C2 .19600(10) .3372(5) .2674(3) .0565(7) Uani d 1.000
C3 .18280(10) .5300(5) .3466(3) .0508(6) Uani d 1.000
C4 .27040(10) .7386(5) .5714(3) .0616(7) Uani d 1.000
C5 .34110(10) .7287(6) .6591(3) .0680(7) Uani d 1.000
C6 .39160(10) .5545(5) .6355(3) .0637(7) Uani d 1.000
C7 .37360(10) .3841(5) .5252(2) .0500(6) Uani d 1.000
C8 .11340(10) .6829(5) .3196(3) .0629(7) Uani d 1.000
C9 .06620(10) .5992(5) .4035(3) .0552(7) Uani d 1.000
C10 .4284(2) .2032(6) .4975(3) .0720(7) Uani d 1.000
C31 .24900(10) .5697(5) .4581(2) .0467(6) Uani d 1.000
C71 .30140(10) .3938(5) .4391(2) .0452(6) Uani d 1.000
H1 .2890(9) .1306(15) .2899(13) .0578(16) Uiso d 1.000
H2 .1641(8) .2645(15) .1797(13) .0567(16) Uiso d 1.000
H4 .2357(8) .8717(15) .5833(13) .0566(16) Uiso d 1.000
H5 .3579(9) .8613(15) .7394(13) .0648(16) Uiso d 1.000
H6 .4425(9) .5556(15) .6959(13) .0578(16) Uiso d 1.000
H11 -.0165(9) .6858(15) .4279(13) .0677(16) Uiso d 1.000
H81 .1225(9) .8800(15) .3356(13) .0641(16) Uiso d 1.000
H82 .0810(9) .6662(15) .2215(13) .0571(16) Uiso d 1.000
H101 .4362(9) .2409(15) .4103(13) .0625(16) Uiso d 1.000
H102 .4088(9) .0325(15) .4775(13) .0647(16) Uiso d 1.000
H103 .4772(8) .2306(15) .5713(13) .0681(16) Uiso d 1.000
loop_
_atom_type_symbol
_atom_type_description
_atom_type_scat_dispersion_real
_atom_type_scat_dispersion_imag
_atom_type_scat_source
O O .0106 .0060 'International Tables Vol C Tables 4.2.6.8 and 6.1.1.4'
N N .0061 .0033 'International Tables Vol C Tables 4.2.6.8 and 6.1.1.4'
H H .0000 .0000 'International Tables Vol C Tables 4.2.6.8 and 6.1.1.4'
C C .0033 .0016 'International Tables Vol C Tables 4.2.6.8 and 6.1.1.4'
loop_
_diffrn_standard_refln_index_h
_diffrn_standard_refln_index_k
_diffrn_standard_refln_index_l
2 -1 4
1 -1 5
0 -1 4
loop_
_geom_angle_atom_site_label_1
_geom_angle_atom_site_label_2
_geom_angle_atom_site_label_3
_geom_angle
_geom_angle_publ_flag
C2 N1 C71 109.4(2) no
N1 C2 C3 109.8(2) no
C2 C3 C8 126.8(2) no
C2 C3 C31 106.8(2) no
C8 C3 C31 126.3(2) no
C5 C4 C31 119.1(2) no
C4 C5 C6 120.9(3) no
C5 C6 C7 122.5(2) no
C6 C7 C10 122.4(2) no
C6 C7 C71 115.7(2) no
C10 C7 C71 121.9(2) no
C3 C8 C9 115.0(2) no
O1 C9 O2 123.1(2) no
O1 C9 C8 112.4(2) no
O2 C9 C8 124.5(2) no
C3 C31 C4 134.5(2) no
C3 C31 C71 107.29(19) no
C4 C31 C71 118.18(19) no
N1 C71 C7 129.8(2) no
N1 C71 C31 106.58(18) no
C7 C71 C31 123.6(2) no
C9 O1 H11 106.8(9) no
C2 N1 H1 127.6(10) no
C71 N1 H1 123.0(10) no
N1 C2 H2 120.3(8) no
C3 C2 H2 129.7(8) no
C5 C4 H4 121.1(8) no
C31 C4 H4 119.6(8) no
C4 C5 H5 119.2(9) no
C6 C5 H5 119.7(10) no
C5 C6 H6 120.2(7) no
C7 C6 H6 117.3(7) no
C3 C8 H81 112.4(10) no
C3 C8 H82 111.9(9) no
C9 C8 H81 106.8(9) no
C9 C8 H82 104.7(10) no
H81 C8 H82 105.3(9) no
C7 C10 H101 112.7(8) no
C7 C10 H102 110.2(11) no
C7 C10 H103 108.6(7) no
H101 C10 H102 98.7(10) no
H101 C10 H103 106.0(13) no
H102 C10 H103 120.2(10) no
loop_
_geom_bond_atom_site_label_1
_geom_bond_atom_site_label_2
_geom_bond_distance
_geom_bond_publ_flag
O1 C9 1.308(3) no
O2 C9 1.211(3) no
N1 C2 1.373(3) no
N1 C71 1.370(3) no
C2 C3 1.349(4) no
C3 C8 1.497(3) no
C3 C31 1.428(3) no
C4 C5 1.373(4) no
C4 C31 1.395(4) no
C5 C6 1.396(3) no
C6 C7 1.377(4) no
C7 C10 1.498(4) no
C7 C71 1.390(3) no
C8 C9 1.507(3) no
C31 C71 1.411(3) no
O1 H11 .851(16) no
N1 H1 .877(13) no
C2 H2 .983(13) no
C4 H4 .988(13) no
C5 H5 1.032(11) no
C6 H6 .979(16) no
C8 H81 1.019(8) no
C8 H82 1.002(13) no
C10 H101 .975(14) no
C10 H102 .941(10) no
C10 H103 1.010(15) no
loop_
_geom_torsion_atom_site_label_1
_geom_torsion_atom_site_label_2
_geom_torsion_atom_site_label_3
_geom_torsion_atom_site_label_4
_geom_torsion
_geom_torsion_publ_flag
C71 N1 C2 C3 .1(3) no
C2 N1 C71 C7 -177.4(2) no
C2 N1 C71 C31 .4(3) no
N1 C2 C3 C8 176.7(2) no
N1 C2 C3 C31 -.5(3) no
C2 C3 C8 C9 102.5(3) no
C31 C3 C8 C9 -80.8(3) no
C2 C3 C31 C4 179.4(3) no
C2 C3 C31 C71 .7(3) no
C8 C3 C31 C4 2.1(4) no
C8 C3 C31 C71 -176.5(2) no
C31 C4 C5 C6 .6(4) no
C5 C4 C31 C3 -178.2(3) no
C5 C4 C31 C71 .3(4) no
C4 C5 C6 C7 -.4(4) no
C5 C6 C7 C10 178.0(3) no
C5 C6 C7 C71 -.7(4) no
C6 C7 C71 N1 179.2(2) no
C6 C7 C71 C31 1.8(3) no
C10 C7 C71 N1 .4(4) no
C10 C7 C71 C31 -177.0(2) no
C3 C8 C9 O1 172.8(2) no
C3 C8 C9 O2 -9.2(4) no
C3 C31 C71 N1 -.7(3) no
C3 C31 C71 C7 177.3(2) no
C4 C31 C71 N1 -179.6(2) no
C4 C31 C71 C7 -1.6(4) no
loop_
_cod_related_entry_id
_cod_related_entry_database
_cod_related_entry_code
1 ChemSpider 198850
2 PubChem 228473
