#------------------------------------------------------------------------------
#$Date: 2016-03-24 03:30:43 +0200 (Thu, 24 Mar 2016) $
#$Revision: 179634 $
#$URL: svn://www.crystallography.net/cod/cif/4/50/98/4509813.cif $
#------------------------------------------------------------------------------
#
# This file is available in the Crystallography Open Database (COD),
# http://www.crystallography.net/. The original data for this entry
# were provided the Crystal Eye server at
# http://wwmm.ch.cam.ac.uk/crystaleye/, created by Nick Day at the
# Peter Murray-Rust laboratory.
#
# The file may be used within the scientific community so long as
# proper attribution is given to the journal article from which the
# data were obtained.
#
data_4509813
loop_
_publ_author_name
'Coles, S. J.'
'Gelbrich, T.'
'Griesser, U. J.'
'Hursthouse, M. B.'
'Pitak, M.'
'Threlfall, T.'
_publ_section_title
;
 The Elusive High Temperature Solid-State Structure ofd,l-Norleucine
;
_journal_issue                   11
_journal_name_full               'Crystal Growth & Design'
_journal_page_first              4610
_journal_paper_doi               10.1021/cg901045t
_journal_volume                  9
_journal_year                    2009
_chemical_formula_moiety         'C6 H13 N O2'
_chemical_formula_sum            'C6 H13 N O2'
_chemical_formula_weight         131.17
_chemical_name_systematic
;
 ?
;
_space_group_IT_number           15
_symmetry_cell_setting           monoclinic
_symmetry_space_group_name_Hall  '-C 2yc'
_symmetry_space_group_name_H-M   'C 1 2/c 1'
_atom_sites_solution_hydrogens   geom
_atom_sites_solution_primary     direct
_atom_sites_solution_secondary   difmap
_audit_creation_method           SHELXL-97
_cell_angle_alpha                90.00
_cell_angle_beta                 101.054(3)
_cell_angle_gamma                90.00
_cell_formula_units_Z            8
_cell_length_a                   34.171(3)
_cell_length_b                   4.8197(3)
_cell_length_c                   9.8356(7)
_cell_measurement_reflns_used    1882
_cell_measurement_temperature    395(2)
_cell_measurement_theta_max      27.48
_cell_measurement_theta_min      2.91
_cell_volume                     1589.8(2)
_computing_cell_refinement       'DENZO, COLLECT'
_computing_data_reduction        'DENZO, COLLECT'
_computing_molecular_graphics    'PLATON (Spek, 1990)'
_computing_structure_refinement  'SHELXL-97 (Sheldrick, 1997)'
_computing_structure_solution    'SHELXS-97 (Sheldrick, 1997)'
_diffrn_ambient_temperature      395(2)
_diffrn_detector_area_resol_mean 9.091
_diffrn_measured_fraction_theta_full 0.986
_diffrn_measured_fraction_theta_max 0.986
_diffrn_measurement_device_type  'Bruker-Nonius KappaCCD Area Detector'
_diffrn_measurement_method       'φ and ω scans'
_diffrn_radiation_monochromator  '10cm confocal mirrors'
_diffrn_radiation_source         'Bruker-Nonius FR591 rotating anode'
_diffrn_radiation_type           MoK\a
_diffrn_radiation_wavelength     0.71073
_diffrn_reflns_av_R_equivalents  0.0393
_diffrn_reflns_av_sigmaI/netI    0.0318
_diffrn_reflns_limit_h_max       40
_diffrn_reflns_limit_h_min       -40
_diffrn_reflns_limit_k_max       5
_diffrn_reflns_limit_k_min       -5
_diffrn_reflns_limit_l_max       11
_diffrn_reflns_limit_l_min       -11
_diffrn_reflns_number            6676
_diffrn_reflns_theta_full        24.99
_diffrn_reflns_theta_max         24.99
_diffrn_reflns_theta_min         3.65
_diffrn_standards_decay_%        negligible
_diffrn_standards_number         none
_exptl_absorpt_coefficient_mu    0.081
_exptl_absorpt_correction_T_max  0.9935
_exptl_absorpt_correction_T_min  0.9839
_exptl_absorpt_correction_type   multi-scan
_exptl_absorpt_process_details   'SADABS V2.10 (Sheldrick, G.M., 2003)'
_exptl_crystal_colour            colourless
_exptl_crystal_density_diffrn    1.096
_exptl_crystal_density_method    'not measured'
_exptl_crystal_description       plate
_exptl_crystal_F_000             576
_exptl_crystal_size_max          0.20
_exptl_crystal_size_mid          0.18
_exptl_crystal_size_min          0.08
_refine_diff_density_max         0.517
_refine_diff_density_min         -0.352
_refine_diff_density_rms         0.074
_refine_ls_extinction_coef       0.13(4)
_refine_ls_extinction_expression Fc^*^=kFc[1+0.001xFc²λ³/sin(2θ)]^-1/4^
_refine_ls_extinction_method     SHELXL
_refine_ls_goodness_of_fit_ref   1.283
_refine_ls_hydrogen_treatment    constr
_refine_ls_matrix_type           full
_refine_ls_number_parameters     84
_refine_ls_number_reflns         1371
_refine_ls_number_restraints     3
_refine_ls_restrained_S_all      1.293
_refine_ls_R_factor_all          0.1237
_refine_ls_R_factor_gt           0.1046
_refine_ls_shift/su_max          0.000
_refine_ls_shift/su_mean         0.000
_refine_ls_structure_factor_coef Fsqd
_refine_ls_weighting_details
'calc w=1/[σ²(Fo²)+(0.2000P)²+0.0000P] where P=(Fo²+2Fc²)/3'
_refine_ls_weighting_scheme      calc
_refine_ls_wR_factor_gt          0.2934
_refine_ls_wR_factor_ref         0.3192
_reflns_number_gt                1004
_reflns_number_total             1371
_reflns_threshold_expression     >2σ(I)
_cod_data_source_file            cg901045tsup1.cif
_cod_data_source_block           gamma395_c2c
_cod_depositor_comments
;
The following automatic conversions were performed:

'_symmetry_cell_setting' value 'Monoclinic' changed to 'monoclinic'
according to /home/saulius/struct/CIF-dictionaries/cif_core.dic
dictionary named 'cif_core.dic' version 2.4.2 from 2011-04-26.

Automatic conversion script
Id: cif_fix_values 1891 2012-01-12 08:04:46Z andrius 
;
_cod_original_sg_symbol_H-M      C2/c
_cod_database_code               4509813
loop_
_symmetry_equiv_pos_as_xyz
'x, y, z'
'-x, y, -z+1/2'
'x+1/2, y+1/2, z'
'-x+1/2, y+1/2, -z+1/2'
'-x, -y, -z'
'x, -y, z-1/2'
'-x+1/2, -y+1/2, -z'
'x+1/2, -y+1/2, z-1/2'
loop_
_atom_site_label
_atom_site_type_symbol
_atom_site_fract_x
_atom_site_fract_y
_atom_site_fract_z
_atom_site_U_iso_or_equiv
_atom_site_adp_type
_atom_site_occupancy
_atom_site_symmetry_multiplicity
_atom_site_calc_flag
_atom_site_refinement_flags
N1 N 0.70476(8) 0.1913(5) 0.5854(2) 0.0661(10) Uani 1 1 d .
H1A H 0.6977 0.0592 0.5222 0.099 Uiso 1 1 calc R
H1B H 0.7305 0.1728 0.6231 0.099 Uiso 1 1 calc R
H1C H 0.7007 0.3570 0.5452 0.099 Uiso 1 1 calc R
O1 O 0.71704(7) 0.5627(4) 0.7891(2) 0.0751(10) Uani 1 1 d .
O2 O 0.68833(9) 0.3019(4) 0.9281(2) 0.0875(11) Uani 1 1 d .
C2 C 0.68058(10) 0.1665(6) 0.6944(3) 0.0658(11) Uani 1 1 d .
H2 H 0.6815 -0.0255 0.7277 0.079 Uiso 1 1 calc R
C1 C 0.69726(10) 0.3593(6) 0.8149(3) 0.0613(10) Uani 1 1 d .
C3 C 0.63761(16) 0.2431(14) 0.6295(6) 0.134(2) Uani 1 1 d D
H3A H 0.6374 0.4377 0.6042 0.161 Uiso 1 1 calc R
H3B H 0.6304 0.1387 0.5440 0.161 Uiso 1 1 calc R
C4 C 0.6053(3) 0.201(3) 0.7100(11) 0.240(6) Uani 1 1 d D
H4A H 0.6090 0.3196 0.7910 0.288 Uiso 1 1 calc R
H4B H 0.6043 0.0090 0.7392 0.288 Uiso 1 1 calc R
C5 C 0.5669(4) 0.281(4) 0.605(2) 0.428(19) Uani 1 1 d D
H5A H 0.5673 0.4797 0.5907 0.513 Uiso 1 1 calc R
H5B H 0.5681 0.1931 0.5173 0.513 Uiso 1 1 calc R
C6 C 0.5265(13) 0.205(7) 0.644(7) 0.69(5) Uani 1 1 d D
H6A H 0.5123 0.3713 0.6575 1.035 Uiso 1 1 calc R
H6B H 0.5311 0.0979 0.7280 1.035 Uiso 1 1 calc R
H6C H 0.5109 0.0973 0.5708 1.035 Uiso 1 1 calc R
loop_
_atom_site_aniso_label
_atom_site_aniso_U_11
_atom_site_aniso_U_22
_atom_site_aniso_U_33
_atom_site_aniso_U_23
_atom_site_aniso_U_13
_atom_site_aniso_U_12
N1 0.095(2) 0.0602(15) 0.0446(15) -0.0047(9) 0.0167(12) 0.0027(11)
O1 0.1057(19) 0.0558(14) 0.0630(15) -0.0055(8) 0.0141(11) -0.0110(10)
O2 0.150(3) 0.0680(15) 0.0496(14) 0.0008(9) 0.0326(13) 0.0002(12)
C2 0.093(2) 0.0552(16) 0.0507(17) -0.0022(11) 0.0167(14) -0.0074(12)
C1 0.093(2) 0.0487(15) 0.0423(15) 0.0012(10) 0.0137(13) 0.0123(13)
C3 0.100(4) 0.197(5) 0.101(3) -0.034(3) 0.012(3) -0.042(3)
C4 0.141(8) 0.39(2) 0.191(9) -0.037(10) 0.043(6) -0.005(8)
C5 0.100(8) 0.57(4) 0.59(5) -0.11(3) -0.007(12) 0.015(11)
C6 0.80(12) 0.69(13) 0.64(6) -0.17(9) 0.30(10) -0.06(10)
loop_
_atom_type_symbol
_atom_type_description
_atom_type_scat_dispersion_real
_atom_type_scat_dispersion_imag
_atom_type_scat_source
C C 0.0033 0.0016 'International Tables Vol C Tables 4.2.6.8 and 6.1.1.4'
H H 0.0000 0.0000 'International Tables Vol C Tables 4.2.6.8 and 6.1.1.4'
N N 0.0061 0.0033 'International Tables Vol C Tables 4.2.6.8 and 6.1.1.4'
O O 0.0106 0.0060 'International Tables Vol C Tables 4.2.6.8 and 6.1.1.4'
loop_
_geom_angle_atom_site_label_1
_geom_angle_atom_site_label_2
_geom_angle_atom_site_label_3
_geom_angle
C2 N1 H1A 109.5
C2 N1 H1B 109.5
H1A N1 H1B 109.5
C2 N1 H1C 109.5
H1A N1 H1C 109.5
H1B N1 H1C 109.5
N1 C2 C1 109.6(2)
N1 C2 C3 107.6(3)
C1 C2 C3 111.3(3)
N1 C2 H2 109.4
C1 C2 H2 109.4
C3 C2 H2 109.4
O2 C1 O1 126.5(3)
O2 C1 C2 116.2(3)
O1 C1 C2 117.2(2)
C4 C3 C2 119.7(6)
C4 C3 H3A 107.4
C2 C3 H3A 107.4
C4 C3 H3B 107.4
C2 C3 H3B 107.4
H3A C3 H3B 106.9
C3 C4 C5 103.3(10)
C3 C4 H4A 111.1
C5 C4 H4A 111.1
C3 C4 H4B 111.1
C5 C4 H4B 111.1
H4A C4 H4B 109.1
C6 C5 C4 117(3)
C6 C5 H5A 108.0
C4 C5 H5A 108.0
C6 C5 H5B 108.0
C4 C5 H5B 108.0
H5A C5 H5B 107.2
C5 C6 H6A 109.5
C5 C6 H6B 109.5
H6A C6 H6B 109.5
C5 C6 H6C 109.5
H6A C6 H6C 109.5
H6B C6 H6C 109.5
loop_
_geom_bond_atom_site_label_1
_geom_bond_atom_site_label_2
_geom_bond_distance
N1 C2 1.479(4)
N1 H1A 0.8900
N1 H1B 0.8900
N1 H1C 0.8900
O1 C1 1.244(4)
O2 C1 1.241(3)
C2 C1 1.527(4)
C2 C3 1.530(7)
C2 H2 0.9800
C3 C4 1.491(7)
C3 H3A 0.9700
C3 H3B 0.9700
C4 C5 1.553(10)
C4 H4A 0.9700
C4 H4B 0.9700
C5 C6 1.547(19)
C5 H5A 0.9700
C5 H5B 0.9700
C6 H6A 0.9600
C6 H6B 0.9600
C6 H6C 0.9600
loop_
_geom_hbond_atom_site_label_D
_geom_hbond_atom_site_label_H
_geom_hbond_atom_site_label_A
_geom_hbond_distance_DH
_geom_hbond_distance_HA
_geom_hbond_distance_DA
_geom_hbond_angle_DHA
_geom_hbond_site_symmetry_A
N1 H1A O2 0.89 1.97 2.833(3) 163.5 6
N1 H1B O1 0.89 1.91 2.790(3) 169.2 4_646
N1 H1C O2 0.89 2.01 2.888(3) 171.3 6_565
loop_
_geom_torsion_atom_site_label_1
_geom_torsion_atom_site_label_2
_geom_torsion_atom_site_label_3
_geom_torsion_atom_site_label_4
_geom_torsion
N1 C2 C1 O2 -158.8(3)
C3 C2 C1 O2 82.2(4)
N1 C2 C1 O1 23.8(4)
C3 C2 C1 O1 -95.1(4)
N1 C2 C3 C4 171.9(7)
C1 C2 C3 C4 -68.0(8)
C2 C3 C4 C5 -175.9(11)
C3 C4 C5 C6 168(2)
