#------------------------------------------------------------------------------
#$Date: 2025-08-21 04:34:05 +0300 (Thu, 21 Aug 2025) $
#$Revision: 301843 $
#$URL: file:///home/coder/svn-repositories/cod/cif/4/51/27/4512740.cif $
#------------------------------------------------------------------------------
#
# This file is available in the Crystallography Open Database (COD),
# http://www.crystallography.net/
#
# All data on this site have been placed in the public domain by the
# contributors.
#
data_4512740
loop_
_publ_author_name
'Ostrowska, Kinga'
'Kropidłowska, Magdalena'
'Katrusiak, Andrzej'
_publ_section_title
;
 High-Pressure Crystallization and Structural Transformations in
 CompressedR,S-Ibuprofen
;
_journal_issue                   3
_journal_name_full               'Crystal Growth & Design'
_journal_page_first              1512
_journal_paper_doi               10.1021/cg5018888
_journal_volume                  15
_journal_year                    2015
_chemical_formula_moiety         'C13 H18 O2'
_chemical_formula_sum            'C13 H18 O2'
_chemical_formula_weight         206.27
_chemical_melting_point          349
_chemical_name_common
;            
(R,S)-2-(4-(2-methylpropyl)phenyl)propanoic acid
;
_chemical_name_systematic
;
 (R,S)-ibuprofen
;
_space_group_IT_number           14
_symmetry_cell_setting           monoclinic
_symmetry_space_group_name_Hall  '-P 2ybc'
_symmetry_space_group_name_H-M   'P 1 21/c 1'
_atom_sites_solution_hydrogens   geom
_atom_sites_solution_primary     direct
_atom_sites_solution_secondary   difmap
_audit_creation_method           SHELXL-97
_cell_angle_alpha                90.00
_cell_angle_beta                 99.54(8)
_cell_angle_gamma                90.00
_cell_formula_units_Z            4
_cell_length_a                   14.522(7)
_cell_length_b                   7.817(2)
_cell_length_c                   10.619(13)
_cell_measurement_pressure       230000
_cell_measurement_reflns_used    615
_cell_measurement_temperature    296(2)
_cell_measurement_theta_max      27.29
_cell_measurement_theta_min      4.27
_cell_volume                     1188.8(16)
_computing_cell_refinement       'CrysAlis (Oxford Diffraction, 2002)'
_computing_data_collection       'CrysAlis (Oxford Diffraction, 2002)'
_computing_data_reduction        'CrysAlis (Oxford Diffraction, 2002)'
_computing_molecular_graphics
;X-Seed (Barbour, 2001) 
and POV-Ray (Persistence of Vision, 2004)
Mercury (2008)
;
_computing_publication_material  'SHELXL-97 (Sheldrick, 1997)'
_computing_structure_refinement  'SHELXL-97 (Sheldrick, 1997)'
_computing_structure_solution    'SHELXS-97 (Sheldrick, 1990)'
_diffrn_ambient_temperature      296(2)
_diffrn_detector_area_resol_mean 16.4
_diffrn_measured_fraction_theta_full 0.232
_diffrn_measured_fraction_theta_max 0.232
_diffrn_measurement_device_type  'multiwire proportional'
_diffrn_measurement_method
;HP omega scans - for more details see:
A. Budzianowski, A. Katrusiak in High-Pressure Crystallography
(Eds.: A. Katrusiak, P. F. McMillan),
Dordrecht: Kluwer Acad. Publ., 2004 pp.157-168
;
_diffrn_radiation_monochromator  graphite
_diffrn_radiation_source         'fine-focus sealed tube'
_diffrn_radiation_type           MoK\a
_diffrn_radiation_wavelength     0.71073
_diffrn_reflns_av_R_equivalents  0.3307
_diffrn_reflns_av_sigmaI/netI    0.1957
_diffrn_reflns_limit_h_max       18
_diffrn_reflns_limit_h_min       -18
_diffrn_reflns_limit_k_max       10
_diffrn_reflns_limit_k_min       -9
_diffrn_reflns_limit_l_max       2
_diffrn_reflns_limit_l_min       -2
_diffrn_reflns_number            5806
_diffrn_reflns_theta_full        27.29
_diffrn_reflns_theta_max         27.29
_diffrn_reflns_theta_min         4.27
_exptl_absorpt_coefficient_mu    0.076
_exptl_absorpt_correction_T_max  0.996
_exptl_absorpt_correction_T_min  0.990
_exptl_absorpt_correction_type   multi-scan
_exptl_absorpt_process_details
; 
Correction for absorption was made using XEMP (SHELXTL, 
Sheldrick (1990)).
;
_exptl_crystal_colour            colourless
_exptl_crystal_density_diffrn    1.153
_exptl_crystal_density_method    'not measured'
_exptl_crystal_description       plate
_exptl_crystal_F_000             448
_exptl_crystal_size_max          0.35
_exptl_crystal_size_mid          0.10
_exptl_crystal_size_min          0.05
_refine_diff_density_max         0.133
_refine_diff_density_min         -0.114
_refine_diff_density_rms         0.043
_refine_ls_extinction_coef       0.07(6)
_refine_ls_extinction_expression Fc^*^=kFc[1+0.001xFc²λ³/sin(2θ)]^-1/4^
_refine_ls_extinction_method     SHELXL
_refine_ls_goodness_of_fit_ref   1.009
_refine_ls_hydrogen_treatment    constr
_refine_ls_matrix_type           full
_refine_ls_number_parameters     137
_refine_ls_number_reflns         615
_refine_ls_number_restraints     90
_refine_ls_restrained_S_all      0.999
_refine_ls_R_factor_all          0.2783
_refine_ls_R_factor_gt           0.0833
_refine_ls_shift/su_max          0.000
_refine_ls_shift/su_mean         0.000
_refine_ls_structure_factor_coef Fsqd
_refine_ls_weighting_details
'calc w=1/[σ²(Fo²)+(0.1550P)²+0.0000P] where P=(Fo²+2Fc²)/3'
_refine_ls_weighting_scheme      calc
_refine_ls_wR_factor_gt          0.1472
_refine_ls_wR_factor_ref         0.2189
_reflns_number_gt                219
_reflns_number_total             615
_reflns_threshold_expression     >2sigma(I)
_cod_data_source_file            cg5018888_si_002.cif
_cod_data_source_block           ibuprofen_023
_cod_depositor_comments
;
The following automatic conversions were performed:

'_symmetry_cell_setting' value 'Monoclinic' changed to 'monoclinic'
according to
/usr/data/users/saulius/crontab/automatic-downloads/rss-feeds/ACS/lib/dictionaries/cif_core.dic
dictionary named 'cif_core.dic' version 2.4.2 from 2011-04-26.

Automatic conversion script
Id: cif_fix_values 3008 2015-01-20 13:52:24Z robertas 

 Adding full bibliography for 4512740--4512754.cif.
;
_cod_original_cell_volume        1188.7(16)
_cod_original_sg_symbol_Hall     '-P 2y bc'
_cod_original_sg_symbol_H-M      P2(1)/c
_cod_database_code               4512740
loop_
_symmetry_equiv_pos_as_xyz
'x, y, z'
'-x, y+1/2, -z+1/2'
'-x, -y, -z'
'x, -y-1/2, z-1/2'
loop_
_atom_site_label
_atom_site_type_symbol
_atom_site_fract_x
_atom_site_fract_y
_atom_site_fract_z
_atom_site_U_iso_or_equiv
_atom_site_adp_type
_atom_site_occupancy
_atom_site_symmetry_multiplicity
_atom_site_calc_flag
_atom_site_refinement_flags
O2 O 0.5026(5) 0.1875(9) 0.557(2) 0.085(5) Uani 1 1 d U
O1 O 0.6217(5) 0.0040(10) 0.584(2) 0.093(5) Uani 1 1 d U
H01 H 0.5830 -0.0592 0.5422 0.112 Uiso 1 1 calc R
C7 C 0.6513(10) 0.2749(17) 0.678(4) 0.093(6) Uani 1 1 d U
H7A H 0.7001 0.2102 0.7326 0.111 Uiso 1 1 calc R
C1 C 0.6952(9) 0.3767(17) 0.583(3) 0.081(6) Uani 1 1 d U
C9 C 0.5823(9) 0.1498(16) 0.604(4) 0.085(6) Uani 1 1 d U
C11 C 0.9044(8) 0.7610(16) 0.364(4) 0.088(6) Uani 1 1 d U
H11A H 0.9458 0.6988 0.4313 0.106 Uiso 1 1 calc R
C4 C 0.7805(8) 0.5490(15) 0.394(3) 0.067(6) Uani 1 1 d U
C5 C 0.8220(8) 0.4142(17) 0.459(4) 0.087(6) Uani 1 1 d U
H5A H 0.8799 0.3787 0.4423 0.104 Uiso 1 1 calc R
C10 C 0.8269(8) 0.6380(15) 0.301(3) 0.084(6) Uani 1 1 d U
H10A H 0.7808 0.7027 0.2430 0.100 Uiso 1 1 calc R
H10B H 0.8541 0.5542 0.2503 0.100 Uiso 1 1 calc R
C6 C 0.7819(9) 0.3254(17) 0.550(4) 0.092(7) Uani 1 1 d U
H6A H 0.8126 0.2306 0.5900 0.111 Uiso 1 1 calc R
C3 C 0.6955(9) 0.5946(16) 0.433(3) 0.084(6) Uani 1 1 d U
H3A H 0.6674 0.6953 0.3990 0.101 Uiso 1 1 calc R
C2 C 0.6519(10) 0.5078(17) 0.512(4) 0.082(6) Uani 1 1 d U
H2A H 0.5909 0.5366 0.5195 0.098 Uiso 1 1 calc R
C13 C 0.8642(8) 0.9111(15) 0.423(3) 0.107(6) Uani 1 1 d U
H13A H 0.9137 0.9868 0.4594 0.161 Uiso 1 1 calc R
H13B H 0.8312 0.8724 0.4891 0.161 Uiso 1 1 calc R
H13C H 0.8219 0.9708 0.3590 0.161 Uiso 1 1 calc R
C12 C 0.9591(11) 0.8211(15) 0.268(5) 0.122(7) Uani 1 1 d U
H12A H 1.0073 0.8972 0.3074 0.183 Uiso 1 1 calc R
H12B H 0.9188 0.8803 0.2013 0.183 Uiso 1 1 calc R
H12C H 0.9869 0.7248 0.2326 0.183 Uiso 1 1 calc R
C8 C 0.5985(9) 0.3910(19) 0.764(4) 0.122(7) Uani 1 1 d U
H8A H 0.5726 0.3206 0.8235 0.183 Uiso 1 1 calc R
H8B H 0.5492 0.4520 0.7112 0.183 Uiso 1 1 calc R
H8C H 0.6416 0.4712 0.8100 0.183 Uiso 1 1 calc R
loop_
_atom_site_aniso_label
_atom_site_aniso_U_11
_atom_site_aniso_U_22
_atom_site_aniso_U_33
_atom_site_aniso_U_23
_atom_site_aniso_U_13
_atom_site_aniso_U_12
O2 0.079(5) 0.096(5) 0.086(13) -0.008(7) 0.031(7) 0.010(3)
O1 0.090(5) 0.092(5) 0.092(13) 0.000(7) 0.002(8) 0.011(3)
C7 0.094(7) 0.094(7) 0.091(14) 0.003(9) 0.017(9) 0.003(6)
C1 0.083(7) 0.081(7) 0.082(13) -0.003(9) 0.026(9) 0.005(6)
C9 0.088(7) 0.082(6) 0.086(13) -0.014(9) 0.015(9) -0.007(6)
C11 0.087(7) 0.088(7) 0.091(13) -0.005(9) 0.021(9) 0.000(6)
C4 0.069(6) 0.069(6) 0.067(13) -0.003(9) 0.022(9) -0.002(5)
C5 0.077(7) 0.096(7) 0.089(13) -0.011(9) 0.021(9) -0.002(6)
C10 0.087(6) 0.083(6) 0.087(13) -0.007(9) 0.032(9) -0.006(5)
C6 0.097(8) 0.092(7) 0.092(14) -0.011(9) 0.026(9) 0.002(6)
C3 0.081(7) 0.085(7) 0.088(13) 0.006(9) 0.016(9) 0.011(6)
C2 0.081(7) 0.087(7) 0.084(14) 0.014(9) 0.033(9) -0.003(6)
C13 0.115(7) 0.101(7) 0.106(14) 0.003(9) 0.021(9) -0.012(6)
C12 0.128(8) 0.116(8) 0.124(14) -0.004(9) 0.028(10) -0.013(7)
C8 0.127(8) 0.118(8) 0.124(14) 0.007(10) 0.029(10) -0.013(7)
loop_
_atom_type_symbol
_atom_type_description
_atom_type_scat_dispersion_real
_atom_type_scat_dispersion_imag
_atom_type_scat_source
C C 0.0033 0.0016 'International Tables Vol C Tables 4.2.6.8 and 6.1.1.4'
H H 0.0000 0.0000 'International Tables Vol C Tables 4.2.6.8 and 6.1.1.4'
O O 0.0106 0.0060 'International Tables Vol C Tables 4.2.6.8 and 6.1.1.4'
loop_
_geom_angle_atom_site_label_1
_geom_angle_atom_site_label_2
_geom_angle_atom_site_label_3
_geom_angle
C9 C7 C8 109.2(12)
C9 C7 C1 108(3)
C8 C7 C1 112.6(14)
C2 C1 C6 115(3)
C2 C1 C7 124.1(16)
C6 C1 C7 120.5(18)
O2 C9 O1 123.7(19)
O2 C9 C7 123.7(12)
O1 C9 C7 112.1(13)
C13 C11 C12 109.5(15)
C13 C11 C10 111.4(10)
C12 C11 C10 109(2)
C5 C4 C3 113(2)
C5 C4 C10 120.1(15)
C3 C4 C10 126.9(17)
C4 C5 C6 122.8(16)
C4 C10 C11 112(2)
C1 C6 C5 121.4(19)
C4 C3 C2 126.2(16)
C1 C2 C3 120.9(15)
loop_
_geom_bond_atom_site_label_1
_geom_bond_atom_site_label_2
_geom_bond_distance
O2 C9 1.218(16)
O1 C9 1.309(15)
C7 C9 1.52(3)
C7 C8 1.58(4)
C7 C1 1.50(4)
C1 C2 1.36(3)
C1 C6 1.42(2)
C11 C13 1.49(2)
C11 C12 1.47(4)
C11 C10 1.55(2)
C4 C5 1.35(2)
C4 C3 1.41(2)
C4 C10 1.47(3)
C5 C6 1.39(4)
C3 C2 1.32(4)
loop_
_geom_torsion_atom_site_label_1
_geom_torsion_atom_site_label_2
_geom_torsion_atom_site_label_3
_geom_torsion_atom_site_label_4
_geom_torsion
C9 C7 C1 C2 77(3)
C8 C7 C1 C2 -44(4)
C9 C7 C1 C6 -95(2)
C8 C7 C1 C6 145(2)
C8 C7 C9 O2 40(4)
C1 C7 C9 O2 -83(3)
C8 C7 C9 O1 -148(2)
C1 C7 C9 O1 89(2)
C3 C4 C5 C6 3(3)
C10 C4 C5 C6 179(3)
C5 C4 C10 C11 -78(2)
C3 C4 C10 C11 97(2)
C13 C11 C10 C4 -69(2)
C12 C11 C10 C4 169.6(12)
C2 C1 C6 C5 5(4)
C7 C1 C6 C5 178(2)
C4 C5 C6 C1 -2(4)
C5 C4 C3 C2 -8(4)
C10 C4 C3 C2 176(3)
C6 C1 C2 C3 -10(4)
C7 C1 C2 C3 178(3)
C4 C3 C2 C1 12(5)
loop_
_cod_related_entry_id
_cod_related_entry_database
_cod_related_entry_code
1 PubChem 114864
