#------------------------------------------------------------------------------
#$Date: 2016-02-09 20:42:54 +0200 (Tue, 09 Feb 2016) $
#$Revision: 176292 $
#$URL: svn://www.crystallography.net/cod/cif/6/00/00/6000050.cif $
#------------------------------------------------------------------------------
#
# This file is available in the Crystallography Open Database (COD),
# http://www.crystallography.net/
#
# All data on this site have been placed in the public domain by the
# contributors.
#
data_6000050
loop_
_publ_author_name
'Leineweber, A.'
'Jacobs, H.'
'Ehrenberg, H.'
_publ_section_title
;
 Crystal structure of Ni(NH3)Cl-2 and Ni(NH3)Br-2
;
_journal_name_full
'Zeitschrift Fur Anorganische Und Allgemeine Chemie'
_journal_page_first              2146
_journal_page_last               2152
_journal_paper_doi
10.1002/1521-3749(200010)626:10<2146::AID-ZAAC2146>3.0.CO;2-H
_journal_volume                  626
_journal_year                    2000
_chemical_formula_sum            'Br2 H3 N Ni'
_space_group_name_H-M_alt        I2/m
_cell_angle_alpha                90.000
_cell_angle_beta                 105.894
_cell_angle_gamma                90.000
_cell_length_a                   15.5764
_cell_length_b                   3.7435
_cell_length_c                   14.4224
_cell_volume                     808.82
_cod_database_code               6000050
loop_
_atom_site_label
_atom_site_fract_x
_atom_site_fract_y
_atom_site_fract_z
? ? ? ?
