#------------------------------------------------------------------------------
#$Date: 2016-02-09 20:42:54 +0200 (Tue, 09 Feb 2016) $
#$Revision: 176292 $
#$URL: svn://www.crystallography.net/cod/cif/6/00/03/6000394.cif $
#------------------------------------------------------------------------------
#
# This file is available in the Crystallography Open Database (COD),
# http://www.crystallography.net/
#
# All data on this site have been placed in the public domain by the
# contributors.
#
data_6000394
loop_
_publ_author_name
'Nagelschmitz, E. A.'
'Jung, W.'
_publ_section_title
;
 Scandium iridium boride Sc3Ir5B2 and the quaternary derivatives Sc2MIr5B2
 with m = Be, Al, Si, Ti, V, Cr, Mn, Fe, Co, Ni, Cu, Ga, or Ge:
 Preparation, crystal structure, and physical properties
;
_journal_name_full               'Chemistry of Materials'
_journal_page_first              3189
_journal_page_last               3195
_journal_paper_doi               10.1021/cm9802898
_journal_volume                  10
_journal_year                    1998
_chemical_formula_sum            'B2 Ir5 Sc3'
_space_group_name_H-M_alt        'P 4/m b m'
_cell_angle_alpha                90.000
_cell_angle_beta                 90.000
_cell_angle_gamma                90.000
_cell_length_a                   9.5260
_cell_length_b                   9.5260
_cell_length_c                   3.0480
_cell_volume                     276.59
_cod_database_code               6000394
loop_
_atom_site_label
_atom_site_fract_x
_atom_site_fract_y
_atom_site_fract_z
? ? ? ?
