#------------------------------------------------------------------------------
#$Date: 2025-08-22 15:50:14 +0300 (Fri, 22 Aug 2025) $
#$Revision: 301863 $
#$URL: file:///home/coder/svn-repositories/cod/cif/7/20/75/7207557.cif $
#------------------------------------------------------------------------------
#
# This file is available in the Crystallography Open Database (COD),
# http://www.crystallography.net/
#
# All data on this site have been placed in the public domain by the
# contributors.
#
data_7207557
loop_
_publ_author_name
'Centore, Roberto'
'Jazbinsek, Mojca'
'Tuzi, Angela'
'Roviello, Antonio'
'Capobianco, Amedeo'
'Peluso, Andrea'
_publ_section_title
;
 A series of compounds forming polar crystals and showing
 single-crystal-to-single-crystal transitions between polar phases
;
_journal_issue                   8
_journal_name_full               CrystEngComm
_journal_page_first              2645
_journal_paper_doi               10.1039/c2ce06352b
_journal_volume                  14
_journal_year                    2012
_chemical_formula_moiety         'C10 H12 N2 O2'
_chemical_formula_sum            'C10 H12 N2 O2'
_chemical_formula_weight         192.22
_chemical_name_systematic
;
N'-2-propylidene-4-hydroxybenzohydrazide
;
_space_group_IT_number           33
_symmetry_cell_setting           orthorhombic
_symmetry_space_group_name_Hall  'P 2c -2n'
_symmetry_space_group_name_H-M   'P n a 21'
_atom_sites_solution_hydrogens   geom
_atom_sites_solution_primary     direct
_atom_sites_solution_secondary   difmap
_audit_creation_method           SHELXL-97
_cell_angle_alpha                90.00
_cell_angle_beta                 90.00
_cell_angle_gamma                90.00
_cell_formula_units_Z            4
_cell_length_a                   9.875(2)
_cell_length_b                   9.103(3)
_cell_length_c                   11.590(5)
_cell_measurement_reflns_used    472
_cell_measurement_temperature    293(2)
_cell_measurement_theta_max      20.186
_cell_measurement_theta_min      3.427
_cell_volume                     1041.8(6)
_computing_cell_refinement
;
Dirax/lsq (Duisenberg et al., 2000)
;
_computing_data_collection       'Collect (Nonius BV, 1997-2000)'
_computing_data_reduction
;
EvalCCD (Duisenberg & Schreurs 1990-2000)
;
_computing_molecular_graphics    'Ortep-3 for Windows (Farrugia, 1997)'
_computing_structure_refinement  'SHELXL-97 (Sheldrick, 1997)'
_computing_structure_solution    'SIR97 (Altomare at al, 1999)'
_diffrn_ambient_temperature      293(2)
_diffrn_detector                 'CCD plate'
_diffrn_detector_area_resol_mean 9
_diffrn_detector_type
;
Bruker-Nonius 95mm CCD camera on \k-goniostat
;
_diffrn_measured_fraction_theta_full 0.997
_diffrn_measured_fraction_theta_max 0.997
_diffrn_measurement_device       'four-circle diffractometer'
_diffrn_measurement_device_type  'Bruker-Nonius KappaCCD'
_diffrn_measurement_method
;
CCD rotation images, thick slices
;
_diffrn_radiation_monochromator  graphite
_diffrn_radiation_probe          x-ray
_diffrn_radiation_source         'normal-focus sealed tube'
_diffrn_radiation_type           MoK\a
_diffrn_radiation_wavelength     0.71073
_diffrn_reflns_av_R_equivalents  0.0483
_diffrn_reflns_av_sigmaI/netI    0.0568
_diffrn_reflns_limit_h_max       12
_diffrn_reflns_limit_h_min       -12
_diffrn_reflns_limit_k_max       10
_diffrn_reflns_limit_k_min       -11
_diffrn_reflns_limit_l_max       13
_diffrn_reflns_limit_l_min       -15
_diffrn_reflns_number            5744
_diffrn_reflns_theta_full        27.49
_diffrn_reflns_theta_max         27.49
_diffrn_reflns_theta_min         3.04
_exptl_absorpt_coefficient_mu    0.087
_exptl_absorpt_correction_T_max  0.9750
_exptl_absorpt_correction_T_min  0.9621
_exptl_absorpt_correction_type   multi-scan
_exptl_absorpt_process_details
;
SADABS (Bruker, 2000)
;
_exptl_crystal_colour            colourless
_exptl_crystal_density_diffrn    1.225
_exptl_crystal_density_method    'not measured'
_exptl_crystal_description       prism
_exptl_crystal_F_000             408
_exptl_crystal_size_max          0.45
_exptl_crystal_size_mid          0.40
_exptl_crystal_size_min          0.30
_refine_diff_density_max         0.167
_refine_diff_density_min         -0.141
_refine_diff_density_rms         0.034
_refine_ls_abs_structure_details 'Flack H D (1983), Acta Cryst. A39, 876-881'
_refine_ls_abs_structure_Flack   1.9(16)
_refine_ls_extinction_method     none
_refine_ls_goodness_of_fit_ref   1.055
_refine_ls_hydrogen_treatment    mixed
_refine_ls_matrix_type           full
_refine_ls_number_parameters     135
_refine_ls_number_reflns         2305
_refine_ls_number_restraints     1
_refine_ls_restrained_S_all      1.055
_refine_ls_R_factor_all          0.0636
_refine_ls_R_factor_gt           0.0424
_refine_ls_shift/su_max          0.000
_refine_ls_shift/su_mean         0.000
_refine_ls_structure_factor_coef Fsqd
_refine_ls_weighting_details
'calc w=1/[σ²(Fo²)+(0.0383P)²+0.1263P] where P=(Fo²+2Fc²)/3'
_refine_ls_weighting_scheme      calc
_refine_ls_wR_factor_gt          0.0959
_refine_ls_wR_factor_ref         0.1073
_reflns_number_gt                1777
_reflns_number_total             2305
_reflns_threshold_expression     >2sigma(I)
_cod_data_source_file            c2ce06352b.txt
_cod_data_source_block           imacetiii
_cod_depositor_comments
;
The following automatic conversions were performed:

'_symmetry_cell_setting' value 'Orthorhombic' changed to
'orthorhombic' according to
/home/saulius/struct/CIF-dictionaries/cif_core.dic dictionary named
'cif_core.dic' version 2.4.1 from 2010-06-29.

Automatic conversion script
Id: cif_fix_values 1715 2011-07-08 13:25:40Z adriana 
;
_cod_database_code               7207557
loop_
_symmetry_equiv_pos_as_xyz
'x, y, z'
'-x, -y, z+1/2'
'-x+1/2, y+1/2, z+1/2'
'x+1/2, -y+1/2, z'
loop_
_atom_site_label
_atom_site_type_symbol
_atom_site_fract_x
_atom_site_fract_y
_atom_site_fract_z
_atom_site_U_iso_or_equiv
_atom_site_adp_type
_atom_site_occupancy
_atom_site_symmetry_multiplicity
_atom_site_calc_flag
_atom_site_refinement_flags
C1 C 0.1525(2) 1.1666(2) 0.0845(2) 0.0424(5) Uani 1 1 d .
C2 C 0.0199(2) 1.1218(2) 0.06920(19) 0.0447(5) Uani 1 1 d .
H2 H -0.0363 1.1719 0.0183 0.054 Uiso 1 1 calc R
C3 C -0.02858(19) 1.0034(2) 0.1292(2) 0.0445(5) Uani 1 1 d .
H3 H -0.1180 0.9744 0.1185 0.053 Uiso 1 1 calc R
C4 C 0.05236(18) 0.9257(2) 0.20542(17) 0.0369(5) Uani 1 1 d .
C5 C 0.1854(2) 0.9722(2) 0.2210(2) 0.0445(5) Uani 1 1 d .
H5 H 0.2415 0.9221 0.2720 0.053 Uiso 1 1 calc R
C6 C 0.2345(2) 1.0914(2) 0.1616(2) 0.0475(6) Uani 1 1 d .
H6 H 0.3233 1.1219 0.1732 0.057 Uiso 1 1 calc R
C7 C -0.01207(18) 0.8029(2) 0.26978(19) 0.0387(4) Uani 1 1 d .
C8 C 0.0617(2) 0.4711(3) 0.4016(2) 0.0504(6) Uani 1 1 d .
C9 C 0.1875(3) 0.4183(3) 0.3470(3) 0.0800(9) Uani 1 1 d .
H9A H 0.2641 0.4604 0.3857 0.120 Uiso 1 1 calc R
H9B H 0.1885 0.4469 0.2673 0.120 Uiso 1 1 calc R
H9C H 0.1917 0.3131 0.3524 0.120 Uiso 1 1 calc R
C10 C -0.0061(4) 0.3711(3) 0.4858(3) 0.0856(10) Uani 1 1 d .
H10A H -0.0257 0.2789 0.4491 0.128 Uiso 1 1 calc R
H10B H -0.0889 0.4151 0.5119 0.128 Uiso 1 1 calc R
H10C H 0.0528 0.3548 0.5505 0.128 Uiso 1 1 calc R
N1 N 0.06719(17) 0.69479(19) 0.31114(15) 0.0396(4) Uani 1 1 d .
H1 H 0.156(3) 0.688(3) 0.310(2) 0.048 Uiso 1 1 d .
N2 N 0.00517(19) 0.5950(2) 0.38578(17) 0.0450(4) Uani 1 1 d .
O1 O 0.20457(16) 1.28463(19) 0.02802(16) 0.0576(5) Uani 1 1 d .
H1O H 0.134(3) 1.322(3) -0.030(3) 0.069 Uiso 1 1 d .
O2 O -0.13515(13) 0.79935(18) 0.28202(16) 0.0550(5) Uani 1 1 d .
loop_
_atom_site_aniso_label
_atom_site_aniso_U_11
_atom_site_aniso_U_22
_atom_site_aniso_U_33
_atom_site_aniso_U_23
_atom_site_aniso_U_13
_atom_site_aniso_U_12
C1 0.0381(10) 0.0419(10) 0.0472(11) 0.0027(10) -0.0002(9) -0.0050(9)
C2 0.0356(10) 0.0523(12) 0.0463(12) 0.0083(10) -0.0028(9) 0.0007(9)
C3 0.0306(9) 0.0528(12) 0.0501(12) 0.0048(10) -0.0039(9) -0.0040(9)
C4 0.0320(9) 0.0362(10) 0.0424(11) -0.0012(9) 0.0007(8) -0.0003(8)
C5 0.0360(10) 0.0455(12) 0.0521(13) 0.0043(10) -0.0075(9) 0.0014(9)
C6 0.0292(9) 0.0518(13) 0.0615(15) 0.0064(11) -0.0071(9) -0.0080(9)
C7 0.0340(9) 0.0392(9) 0.0428(11) -0.0036(9) -0.0031(9) -0.0027(9)
C8 0.0601(14) 0.0394(11) 0.0516(14) 0.0024(10) -0.0032(11) -0.0067(10)
C9 0.0862(19) 0.0477(14) 0.106(3) 0.0049(16) 0.0161(18) 0.0177(14)
C10 0.098(2) 0.0605(17) 0.099(3) 0.0288(17) 0.0096(19) -0.0097(16)
N1 0.0358(8) 0.0369(8) 0.0462(10) 0.0040(7) 0.0061(8) -0.0018(7)
N2 0.0474(10) 0.0407(9) 0.0469(10) 0.0044(8) 0.0052(8) -0.0045(8)
O1 0.0457(8) 0.0589(10) 0.0681(11) 0.0215(9) -0.0110(8) -0.0144(8)
O2 0.0309(7) 0.0559(9) 0.0783(12) 0.0132(9) 0.0019(8) -0.0035(7)
loop_
_atom_type_symbol
_atom_type_description
_atom_type_scat_dispersion_real
_atom_type_scat_dispersion_imag
_atom_type_scat_source
C C 0.0033 0.0016 'International Tables Vol C Tables 4.2.6.8 and 6.1.1.4'
H H 0.0000 0.0000 'International Tables Vol C Tables 4.2.6.8 and 6.1.1.4'
N N 0.0061 0.0033 'International Tables Vol C Tables 4.2.6.8 and 6.1.1.4'
O O 0.0106 0.0060 'International Tables Vol C Tables 4.2.6.8 and 6.1.1.4'
loop_
_geom_angle_atom_site_label_1
_geom_angle_atom_site_label_2
_geom_angle_atom_site_label_3
_geom_angle
_geom_angle_publ_flag
O1 C1 C2 121.97(19) no
O1 C1 C6 118.70(18) no
C2 C1 C6 119.31(19) no
C3 C2 C1 119.9(2) no
C3 C2 H2 120.1 no
C1 C2 H2 120.1 no
C2 C3 C4 121.61(18) no
C2 C3 H3 119.2 no
C4 C3 H3 119.2 no
C3 C4 C5 118.17(19) no
C3 C4 C7 117.18(16) no
C5 C4 C7 124.56(18) no
C6 C5 C4 120.54(19) no
C6 C5 H5 119.7 no
C4 C5 H5 119.7 no
C5 C6 C1 120.48(18) no
C5 C6 H6 119.8 no
C1 C6 H6 119.8 no
O2 C7 N1 121.1(2) no
O2 C7 C4 120.18(19) no
N1 C7 C4 118.66(16) no
N2 C8 C9 126.7(2) no
N2 C8 C10 116.0(2) no
C9 C8 C10 117.3(2) no
C8 C9 H9A 109.5 no
C8 C9 H9B 109.5 no
H9A C9 H9B 109.5 no
C8 C9 H9C 109.5 no
H9A C9 H9C 109.5 no
H9B C9 H9C 109.5 no
C8 C10 H10A 109.5 no
C8 C10 H10B 109.5 no
H10A C10 H10B 109.5 no
C8 C10 H10C 109.5 no
H10A C10 H10C 109.5 no
H10B C10 H10C 109.5 no
C7 N1 N2 116.19(16) no
C7 N1 H1 128.9(16) no
N2 N1 H1 113.5(16) no
C8 N2 N1 118.26(19) no
C1 O1 H1O 108.9(15) no
loop_
_geom_bond_atom_site_label_1
_geom_bond_atom_site_label_2
_geom_bond_distance
_geom_bond_publ_flag
C1 O1 1.359(3) no
C1 C2 1.384(3) no
C1 C6 1.386(3) no
C2 C3 1.369(3) no
C2 H2 0.9300 no
C3 C4 1.385(3) no
C3 H3 0.9300 no
C4 C5 1.392(3) no
C4 C7 1.487(3) no
C5 C6 1.373(3) no
C5 H5 0.9300 no
C6 H6 0.9300 no
C7 O2 1.224(2) no
C7 N1 1.346(3) no
C8 N2 1.272(3) no
C8 C9 1.474(4) no
C8 C10 1.493(4) no
C9 H9A 0.9600 no
C9 H9B 0.9600 no
C9 H9C 0.9600 no
C10 H10A 0.9600 no
C10 H10B 0.9600 no
C10 H10C 0.9600 no
N1 N2 1.396(2) no
N1 H1 0.88(2) no
O1 H1O 1.03(3) no
loop_
_geom_torsion_atom_site_label_1
_geom_torsion_atom_site_label_2
_geom_torsion_atom_site_label_3
_geom_torsion_atom_site_label_4
_geom_torsion
_geom_torsion_publ_flag
O1 C1 C2 C3 -179.1(2) no
C6 C1 C2 C3 -0.6(3) no
C1 C2 C3 C4 -0.3(4) no
C2 C3 C4 C5 0.7(3) no
C2 C3 C4 C7 177.5(2) no
C3 C4 C5 C6 -0.3(3) no
C7 C4 C5 C6 -176.8(2) no
C4 C5 C6 C1 -0.5(4) no
O1 C1 C6 C5 179.6(2) no
C2 C1 C6 C5 1.0(3) no
C3 C4 C7 O2 -21.6(3) no
C5 C4 C7 O2 155.0(2) no
C3 C4 C7 N1 156.7(2) no
C5 C4 C7 N1 -26.8(3) no
O2 C7 N1 N2 -11.5(3) no
C4 C7 N1 N2 170.31(18) no
C9 C8 N2 N1 -1.2(4) no
C10 C8 N2 N1 177.7(2) no
C7 N1 N2 C8 160.8(2) no
loop_
_reflns_scale_group_code
_reflns_scale_meas_F
1 1.0
loop_
_cod_related_entry_id
_cod_related_entry_database
_cod_related_entry_code
1 PubChem 5162962
