#------------------------------------------------------------------------------
#$Date: 2019-10-09 10:50:07 +0300 (Wed, 09 Oct 2019) $
#$Revision: 219196 $
#$URL: file:///home/coder/svn-repositories/cod/cif/7/23/44/7234496.cif $
#------------------------------------------------------------------------------
#
# This file is available in the Crystallography Open Database (COD),
# http://www.crystallography.net/
#
# All data on this site have been placed in the public domain by the
# contributors.
#
data_7234496
loop_
_publ_author_name
'Takaaki Hiramatsu'
'Yukihiro Yoshida'
'Gunzi Saito'
'Akihiro Otsuka'
'Hideki Yamochi'
'Yasuhiro Shimizu'
'Yuma Hattori'
'Yuto Nakamura'
'Hideo Kishida'
'Hiroshi Ito'
'Kaplan Kirakci'
'Stephane Cordier'
'Christiane Perrin'
_publ_section_title
;
 Spin frustration in antiperovskite systems: (TTF.+ or
 TSF.+)3[(Mo6X14)2-Y-]
;
_journal_name_full               'Journal of Materials Chemistry C'
_journal_page_first              11046
_journal_page_last               11054
_journal_paper_doi               10.1039/C5TC02075A
_journal_volume                  3
_journal_year                    2015
_chemical_formula_moiety         '(C6 Se4 H4 +)3, Mo6 Cl14 2-, Cl -'
_chemical_formula_sum            'C18 H12 Cl15 Mo6 Se12'
_chemical_formula_weight         2283.19
_chemical_name_common
; 
(TSF)3[(Mo6Cl14)Cl] 
;
_space_group_IT_number           148
_space_group_name_Hall           '-P 3*'
_space_group_name_H-M_alt        'R -3 :R'
_symmetry_cell_setting           rhombohedral
_symmetry_Int_Tables_number      148
_symmetry_space_group_name_Hall  '-P 3*'
_symmetry_space_group_name_H-M   'R -3 :R'
_atom_sites_solution_hydrogens   geom
_atom_sites_solution_primary     direct
_atom_sites_solution_secondary   difmap
_cell_angle_alpha                102.3484(3)
_cell_angle_beta                 102.3484(3)
_cell_angle_gamma                102.3484(3)
_cell_formula_units_Z            1
_cell_length_a                   10.9080(7)
_cell_length_b                   10.9080(7)
_cell_length_c                   10.9080(7)
_cell_measurement_reflns_used    4073
_cell_measurement_temperature    300(2)
_cell_measurement_theta_max      28.18
_cell_measurement_theta_min      2.40
_cell_volume                     1191.82(13)
_computing_cell_refinement       'APEX2 (Bruker AXS, 2006)'
_computing_data_collection       'APEX2 '
_computing_data_reduction        'SAINT (Bruker AXS, 2004)'
_computing_publication_material
'Yadokari-XG 2009 (Wakita, Nemoto et al., 2009)'
_computing_structure_refinement  'SHELXL-97 (Sheldrick, 1997)'
_computing_structure_solution    'SHELXS-97 (Sheldrick, 1990)'
_diffrn_ambient_temperature      300(2)
_diffrn_detector_area_resol_mean 8.333
_diffrn_measured_fraction_theta_full 0.981
_diffrn_measured_fraction_theta_max 0.981
_diffrn_measurement_device_type  'Bruker APEXII CCD area detector'
_diffrn_measurement_method       'phi and omega scans'
_diffrn_radiation_monochromator  graphite
_diffrn_radiation_source         'fine-focus sealed tube'
_diffrn_radiation_type           MoK\a
_diffrn_radiation_wavelength     0.71073
_diffrn_reflns_av_R_equivalents  0.0163
_diffrn_reflns_av_sigmaI/netI    0.0146
_diffrn_reflns_limit_h_max       13
_diffrn_reflns_limit_h_min       -11
_diffrn_reflns_limit_k_max       13
_diffrn_reflns_limit_k_min       -14
_diffrn_reflns_limit_l_max       12
_diffrn_reflns_limit_l_min       -14
_diffrn_reflns_number            6674
_diffrn_reflns_theta_full        27.48
_diffrn_reflns_theta_max         27.48
_diffrn_reflns_theta_min         1.99
_exptl_absorpt_coefficient_mu    11.554
_exptl_absorpt_correction_T_max  0.4738
_exptl_absorpt_correction_T_min  0.3321
_exptl_absorpt_correction_type   numerical
_exptl_absorpt_process_details
;
 APEX2 Software
;
_exptl_crystal_colour            black
_exptl_crystal_density_diffrn    3.181
_exptl_crystal_density_method    'not measured'
_exptl_crystal_description       rhombohedral
_exptl_crystal_F_000             1035
_exptl_crystal_size_max          0.17
_exptl_crystal_size_mid          0.15
_exptl_crystal_size_min          0.08
_refine_diff_density_max         0.566
_refine_diff_density_min         -0.477
_refine_diff_density_rms         0.073
_refine_ls_extinction_method     none
_refine_ls_goodness_of_fit_ref   1.094
_refine_ls_hydrogen_treatment    constr
_refine_ls_matrix_type           full
_refine_ls_number_parameters     78
_refine_ls_number_reflns         1797
_refine_ls_number_restraints     0
_refine_ls_restrained_S_all      1.094
_refine_ls_R_factor_all          0.0239
_refine_ls_R_factor_gt           0.0180
_refine_ls_shift/su_max          0.001
_refine_ls_shift/su_mean         0.000
_refine_ls_structure_factor_coef Fsqd
_refine_ls_weighting_details
'calc w=1/[σ²(Fo²)+(0.0133P)²+0.9427P] where P=(Fo²+2Fc²)/3'
_refine_ls_weighting_scheme      calc
_refine_ls_wR_factor_gt          0.0343
_refine_ls_wR_factor_ref         0.0363
_reflns_number_gt                1584
_reflns_number_total             1797
_reflns_threshold_expression     >2sigma(I)
_cod_data_source_file            J-Mater-Chem-C-2015-3-11046.cif
_cod_data_source_block           TSF3_Mo6Cl14_Cl_300K
_cod_depositor_comments
;
The following automatic conversions were performed:

data item '_symmetry_cell_setting' value 'Rhombohedral' was changed
to 'rhombohedral' in accordance with the built-in table derived from
the CIF Core dictionary named 'cif_core.dic' version 2.4.5 last
updated on 2014-11-21.

Automatic conversion script
Id: cif_fix_values 6909 2019-04-08 15:41:33Z antanas 
;
_cod_original_sg_symbol_H-M      'R-3   '
_cod_database_code               7234496
loop_
_symmetry_equiv_pos_as_xyz
'x, y, z'
'z, x, y'
'y, z, x'
'-x, -y, -z'
'-z, -x, -y'
'-y, -z, -x'
loop_
_atom_site_label
_atom_site_type_symbol
_atom_site_fract_x
_atom_site_fract_y
_atom_site_fract_z
_atom_site_U_iso_or_equiv
_atom_site_adp_type
_atom_site_occupancy
_atom_site_symmetry_multiplicity
_atom_site_calc_flag
_atom_site_refinement_flags
_atom_site_disorder_assembly
_atom_site_disorder_group
C1 C 0.5146(3) 0.4544(3) 0.0313(3) 0.0298(6) Uani 1 1 d . . .
C2 C 0.5502(3) 0.3100(3) 0.2009(3) 0.0430(7) Uani 1 1 d . . .
H2 H 0.5561 0.2760 0.2796 0.052 Uiso 1 1 calc R . .
C3 C 0.5682(3) 0.2419(3) 0.0939(3) 0.0433(7) Uani 1 1 d . . .
H3 H 0.5882 0.1562 0.0911 0.052 Uiso 1 1 calc R . .
Se1 Se 0.51395(3) 0.46987(3) 0.20459(3) 0.03923(8) Uani 1 1 d . . .
Se2 Se 0.55617(3) 0.30648(3) -0.05195(3) 0.03897(8) Uani 1 1 d . . .
Cl1 Cl 0.90300(6) 0.23952(6) 0.06876(6) 0.03154(14) Uani 1 1 d . . .
Cl2 Cl 1.21180(7) 0.21180(7) 0.21180(7) 0.0284(2) Uani 1 3 d S . .
Cl3 Cl 0.96517(7) 0.17217(7) 0.37723(7) 0.03874(16) Uani 1 1 d . . .
Mo1 Mo 0.98548(2) 0.07522(2) 0.16273(2) 0.02308(6) Uani 1 1 d . . .
Cl4 Cl 0.5000 0.5000 0.5000 0.0358(4) Uani 1 6 d S . .
loop_
_atom_site_aniso_label
_atom_site_aniso_U_11
_atom_site_aniso_U_22
_atom_site_aniso_U_33
_atom_site_aniso_U_23
_atom_site_aniso_U_13
_atom_site_aniso_U_12
C1 0.0285(13) 0.0338(14) 0.0285(13) 0.0074(11) 0.0122(11) 0.0080(11)
C2 0.0461(18) 0.0449(18) 0.0427(18) 0.0223(14) 0.0117(14) 0.0121(14)
C3 0.0492(18) 0.0383(16) 0.0490(19) 0.0214(14) 0.0156(14) 0.0141(14)
Se1 0.04833(18) 0.04392(18) 0.03107(15) 0.01250(12) 0.01618(13) 0.01649(13)
Se2 0.04936(18) 0.03484(16) 0.03951(17) 0.01125(12) 0.02042(13) 0.01605(13)
Cl1 0.0319(3) 0.0249(3) 0.0354(3) 0.0031(3) 0.0069(3) 0.0100(3)
Cl2 0.0261(2) 0.0261(2) 0.0261(2) 0.0023(3) 0.0023(3) 0.0023(3)
Cl3 0.0417(4) 0.0391(4) 0.0304(3) -0.0006(3) 0.0154(3) 0.0051(3)
Mo1 0.02278(11) 0.02290(11) 0.02088(11) 0.00311(8) 0.00527(8) 0.00418(8)
Cl4 0.0391(5) 0.0391(5) 0.0391(5) 0.0174(5) 0.0174(5) 0.0174(5)
loop_
_atom_type_symbol
_atom_type_description
_atom_type_scat_dispersion_real
_atom_type_scat_dispersion_imag
_atom_type_scat_source
C C 0.0033 0.0016 'International Tables Vol C Tables 4.2.6.8 and 6.1.1.4'
H H 0.0000 0.0000 'International Tables Vol C Tables 4.2.6.8 and 6.1.1.4'
Cl Cl 0.1484 0.1585 'International Tables Vol C Tables 4.2.6.8 and 6.1.1.4'
Se Se -0.0929 2.2259 'International Tables Vol C Tables 4.2.6.8 and 6.1.1.4'
Mo Mo -1.6832 0.6857 'International Tables Vol C Tables 4.2.6.8 and 6.1.1.4'
loop_
_geom_angle_atom_site_label_1
_geom_angle_atom_site_label_2
_geom_angle_atom_site_label_3
_geom_angle
_geom_angle_site_symmetry_1
_geom_angle_site_symmetry_3
C1 C1 Se1 122.0(3) 4_665 .
C1 C1 Se2 122.3(3) 4_665 .
Se1 C1 Se2 115.67(14) . .
C3 C2 Se1 119.6(2) . .
C3 C2 H2 120.2 . .
Se1 C2 H2 120.2 . .
C2 C3 Se2 119.6(2) . .
C2 C3 H3 120.2 . .
Se2 C3 H3 120.2 . .
C2 Se1 C1 92.60(13) . .
C3 Se2 C1 92.45(13) . .
Mo1 Cl1 Mo1 63.575(17) 5_665 3_654
Mo1 Cl1 Mo1 63.519(17) 5_665 .
Mo1 Cl1 Mo1 63.511(18) 3_654 .
Mo1 Cl2 Mo1 63.64(2) 2_645 3_654
Mo1 Cl2 Mo1 63.64(2) 2_645 .
Mo1 Cl2 Mo1 63.64(2) 3_654 .
Cl3 Mo1 Cl2 92.70(2) . .
Cl3 Mo1 Cl1 91.64(2) . 6_656
Cl2 Mo1 Cl1 175.66(2) . 6_656
Cl3 Mo1 Cl1 91.78(2) . 2_645
Cl2 Mo1 Cl1 90.032(16) . 2_645
Cl1 Mo1 Cl1 89.891(16) 6_656 2_645
Cl3 Mo1 Cl1 92.65(2) . .
Cl2 Mo1 Cl1 89.942(16) . .
Cl1 Mo1 Cl1 89.801(16) 6_656 .
Cl1 Mo1 Cl1 175.57(2) 2_645 .
Cl3 Mo1 Mo1 134.41(2) . 6_656
Cl2 Mo1 Mo1 118.153(13) . 6_656
Cl1 Mo1 Mo1 58.357(17) 6_656 6_656
Cl1 Mo1 Mo1 58.168(15) 2_645 6_656
Cl1 Mo1 Mo1 118.131(17) . 6_656
Cl3 Mo1 Mo1 134.94(2) . 5_665
Cl2 Mo1 Mo1 118.152(13) . 5_665
Cl1 Mo1 Mo1 58.258(17) 6_656 5_665
Cl1 Mo1 Mo1 118.179(17) 2_645 5_665
Cl1 Mo1 Mo1 58.123(15) . 5_665
Mo1 Mo1 Mo1 60.024(10) 6_656 5_665
Cl3 Mo1 Mo1 135.06(2) . 2_645
Cl2 Mo1 Mo1 58.181(12) . 2_645
Cl1 Mo1 Mo1 118.330(16) 6_656 2_645
Cl1 Mo1 Mo1 58.318(18) 2_645 2_645
Cl1 Mo1 Mo1 118.153(18) . 2_645
Mo1 Mo1 Mo1 59.989(5) 6_656 2_645
Mo1 Mo1 Mo1 89.999(1) 5_665 2_645
Cl3 Mo1 Mo1 135.59(2) . 3_654
Cl2 Mo1 Mo1 58.181(12) . 3_654
Cl1 Mo1 Mo1 118.232(16) 6_656 3_654
Cl1 Mo1 Mo1 118.297(18) 2_645 3_654
Cl1 Mo1 Mo1 58.173(18) . 3_654
Mo1 Mo1 Mo1 90.0 6_656 3_654
Mo1 Mo1 Mo1 59.988(5) 5_665 3_654
Mo1 Mo1 Mo1 60.0 2_645 3_654
loop_
_geom_bond_atom_site_label_1
_geom_bond_atom_site_label_2
_geom_bond_distance
_geom_bond_site_symmetry_2
C1 C1 1.374(5) 4_665
C1 Se1 1.864(3) .
C1 Se2 1.870(3) .
C2 C3 1.320(5) .
C2 Se1 1.863(3) .
C2 H2 1.0000 .
C3 Se2 1.864(3) .
C3 H3 1.0000 .
Cl1 Mo1 2.4742(6) 5_665
Cl1 Mo1 2.4766(7) 3_654
Cl1 Mo1 2.4805(7) .
Cl2 Mo1 2.4741(8) 2_645
Cl2 Mo1 2.4741(8) 3_654
Cl2 Mo1 2.4741(8) .
Cl3 Mo1 2.4301(7) .
Mo1 Cl1 2.4742(6) 6_656
Mo1 Cl1 2.4766(7) 2_645
Mo1 Mo1 2.6079(4) 6_656
Mo1 Mo1 2.6079(4) 5_665
Mo1 Mo1 2.6089(4) 2_645
Mo1 Mo1 2.6089(4) 3_654
loop_
_geom_torsion_atom_site_label_1
_geom_torsion_atom_site_label_2
_geom_torsion_atom_site_label_3
_geom_torsion_atom_site_label_4
_geom_torsion
_geom_torsion_site_symmetry_1
_geom_torsion_site_symmetry_2
_geom_torsion_site_symmetry_3
_geom_torsion_site_symmetry_4
Se1 C2 C3 Se2 -0.3(4) . . . .
C3 C2 Se1 C1 2.0(3) . . . .
C1 C1 Se1 C2 176.5(3) 4_665 . . .
Se2 C1 Se1 C2 -2.99(16) . . . .
C2 C3 Se2 C1 -1.6(3) . . . .
C1 C1 Se2 C3 -176.6(3) 4_665 . . .
Se1 C1 Se2 C3 2.88(17) . . . .
Mo1 Cl2 Mo1 Cl3 143.58(2) 2_645 . . .
Mo1 Cl2 Mo1 Cl3 -144.33(2) 3_654 . . .
Mo1 Cl2 Mo1 Cl1 -37.2(2) 2_645 . . 6_656
Mo1 Cl2 Mo1 Cl1 34.9(2) 3_654 . . 6_656
Mo1 Cl2 Mo1 Cl1 51.797(18) 2_645 . . 2_645
Mo1 Cl2 Mo1 Cl1 123.886(17) 3_654 . . 2_645
Mo1 Cl2 Mo1 Cl1 -123.773(17) 2_645 . . .
Mo1 Cl2 Mo1 Cl1 -51.684(18) 3_654 . . .
Mo1 Cl2 Mo1 Mo1 -1.482(11) 2_645 . . 6_656
Mo1 Cl2 Mo1 Mo1 70.607(4) 3_654 . . 6_656
Mo1 Cl2 Mo1 Mo1 -70.606(4) 2_645 . . 5_665
Mo1 Cl2 Mo1 Mo1 1.483(11) 3_654 . . 5_665
Mo1 Cl2 Mo1 Mo1 72.089(11) 3_654 . . 2_645
Mo1 Cl2 Mo1 Mo1 -72.089(11) 2_645 . . 3_654
Mo1 Cl1 Mo1 Cl3 -143.50(2) 5_665 . . .
Mo1 Cl1 Mo1 Cl3 144.390(19) 3_654 . . .
Mo1 Cl1 Mo1 Cl2 123.796(18) 5_665 . . .
Mo1 Cl1 Mo1 Cl2 51.690(18) 3_654 . . .
Mo1 Cl1 Mo1 Cl1 -51.88(2) 5_665 . . 6_656
Mo1 Cl1 Mo1 Cl1 -123.98(2) 3_654 . . 6_656
Mo1 Cl1 Mo1 Cl1 34.1(3) 5_665 . . 2_645
Mo1 Cl1 Mo1 Cl1 -38.0(3) 3_654 . . 2_645
Mo1 Cl1 Mo1 Mo1 1.49(2) 5_665 . . 6_656
Mo1 Cl1 Mo1 Mo1 -70.619(17) 3_654 . . 6_656
Mo1 Cl1 Mo1 Mo1 -72.106(13) 3_654 . . 5_665
Mo1 Cl1 Mo1 Mo1 70.561(15) 5_665 . . 2_645
Mo1 Cl1 Mo1 Mo1 -1.545(17) 3_654 . . 2_645
Mo1 Cl1 Mo1 Mo1 72.106(13) 5_665 . . 3_654
