#------------------------------------------------------------------------------
#$Date: 2023-05-18 10:14:51 +0300 (Thu, 18 May 2023) $
#$Revision: 283850 $
#$URL: file:///home/coder/svn-repositories/cod/cif/9/01/74/9017452.cif $
#------------------------------------------------------------------------------
#
# This file is available in the Crystallography Open Database (COD),
# http://www.crystallography.net/. The original data for this entry
# were provided the American Mineralogist Crystal Structure Database,
# http://rruff.geo.arizona.edu/AMS/amcsd.php
#
# The file may be used within the scientific community so long as
# proper attribution is given to the journal article from which the
# data were obtained.
#
data_9017452
loop_
_publ_author_name
'Gering, E.'
_publ_section_title
;
 Silizium/Aluminium-Ordnung und Kristallperfektion von Sanidinen
 Note: Sample SANI, T = 950 C, X-ray diffraction
;
_journal_name_full               'Dissertation Kernforshungszentrum Karlsruhe'
_journal_page_first              1
_journal_page_last               97
_journal_volume                  1
_journal_year                    1985
_chemical_compound_source        Madagascar
_chemical_formula_sum            'Al K O8 Si3'
_chemical_name_mineral           Sanidine
_space_group_IT_number           12
_space_group_name_Hall           '-C 2y'
_space_group_name_H-M_alt        'C 1 2/m 1'
_symmetry_space_group_name_H-M   'C 1 2/m 1'
_cell_angle_alpha                90
_cell_angle_beta                 115.97
_cell_angle_gamma                90
_cell_formula_units_Z            4
_cell_length_a                   8.546
_cell_length_b                   13.033
_cell_length_c                   7.176
_cell_volume                     718.556
_database_code_amcsd             0020579
_diffrn_ambient_temperature      1223.15
_exptl_crystal_density_diffrn    2.573
_cod_data_source_file            inputs/fixed/downloads/14/14942.cif
_cod_data_source_block           14942
_cod_original_formula_sum        'K (Si3 Al) O8'
_cod_database_code               9017452
loop_
_space_group_symop_operation_xyz
x,y,z
1/2+x,1/2+y,z
x,-y,z
1/2+x,1/2-y,z
-x,y,-z
1/2-x,1/2+y,-z
-x,-y,-z
1/2-x,1/2-y,-z
loop_
_atom_site_aniso_label
_atom_site_aniso_U_11
_atom_site_aniso_U_22
_atom_site_aniso_U_33
_atom_site_aniso_U_12
_atom_site_aniso_U_13
_atom_site_aniso_U_23
K1M 0.01700 0.05120 0.03050 0.00000 0.00680 0.00000
SiT1 0.01180 0.01250 0.00900 -0.00220 0.00480 -0.00070
AlT1 0.01180 0.01250 0.00900 -0.00220 0.00480 -0.00070
SiT2 0.01160 0.00990 0.01170 0.00050 0.00440 0.00010
AlT2 0.01160 0.00990 0.01170 0.00050 0.00440 0.00010
Oa1 0.02660 0.02090 0.01510 0.00000 0.01050 0.00000
Oa2 0.02030 0.01490 0.02460 0.00000 0.00400 0.00000
Ob 0.02020 0.03270 0.02450 -0.00470 0.01280 0.00010
Oc 0.01850 0.01680 0.02200 -0.00140 0.00700 -0.00210
Od 0.02060 0.02110 0.01440 0.00200 0.00360 0.00130
loop_
_atom_site_label
_atom_site_fract_x
_atom_site_fract_y
_atom_site_fract_z
_atom_site_occupancy
_atom_site_type_symbol
_atom_site_attached_hydrogens
K1M 0.28516 0.00000 0.13786 1.00000 K 0
SiT1 0.00941 0.18451 0.22357 0.72600 Si 0
AlT1 0.00941 0.18451 0.22357 0.27400 Al 0
SiT2 0.20782 0.38221 0.34409 0.77400 Si 0
AlT2 0.20782 0.38221 0.34409 0.22600 Al 0
Oa1 0.00000 0.14656 0.00000 1.00000 O 0
Oa2 0.63409 0.00000 0.28557 1.00000 O 0
Ob 0.82871 0.14578 0.22685 1.00000 O 0
Oc 0.03316 0.30941 0.25689 1.00000 O 0
Od 0.18070 0.12665 0.40347 1.00000 O 0
loop_
_cod_changelog_entry_id
_cod_changelog_entry_author
_cod_changelog_entry_date
_cod_changelog_entry_text
1
;cod-tools version 3.8.0
Id: cif_guess_AMCSD_atom_types 9581 2023-05-17 12:35:41Z saulius
;
2023-05-18T08:46:53+03:00
;Derived atom types and hydrogen counts
from atom names that follow the AMCSD naming convention
(Wat == water, O-H == hydroxyl).
;
loop_
_cod_related_entry_id
_cod_related_entry_database
_cod_related_entry_code
1 AMCSD 0020579
