#------------------------------------------------------------------------------
#$Date: 2016-03-23 01:50:15 +0200 (Wed, 23 Mar 2016) $
#$Revision: 179157 $
#$URL: svn://www.crystallography.net/cod/cif/4/31/18/4311838.cif $
#------------------------------------------------------------------------------
#
# This file is available in the Crystallography Open Database (COD),
# http://www.crystallography.net/
#
# All data on this site have been placed in the public domain by the
# contributors.
#
data_4311838
loop_
_publ_author_name
'Carla Slebodnick'
'Jing Zhao'
'Ross Angel'
'Brian E. Hanson'
'Yang Song'
'Zhenxian Liu'
'Russell J. Hemley'
_publ_contact_author_address
;
Department Of Chemistry, Virginia Tech, Blacksburg, VA 24061
;
_publ_contact_author_email       hanson@vt.edu
_publ_contact_author_fax         '540 231-3255'
_publ_contact_author_name        'Brian E. Hanson'
_publ_contact_author_phone       '540 231 7206'
_publ_section_title
;
 High Pressure Study of Ru3(CO)12 by X-ray Diffraction, Raman, and
 Infrared Spectroscopy
;
_journal_name_full               'Inorganic Chemistry'
_journal_page_first              5245
_journal_page_last               5252
_journal_paper_doi               10.1021/ic049617y
_journal_volume                  43
_journal_year                    2004
_chemical_formula_moiety         'C12 O12 Ru3'
_chemical_formula_sum            'C12 O12 Ru3'
_chemical_formula_weight         639.33
_chemical_name_common            'triruthenium dodecacarbonyl'
_chemical_name_systematic        'triruthenium dodecacarbonyl'
_space_group_IT_number           14
_symmetry_cell_setting           monoclinic
_symmetry_Int_Tables_number      14
_symmetry_space_group_name_Hall  '-P 2yn'
_symmetry_space_group_name_H-M   'P 1 21/n 1'
_atom_sites_solution_hydrogens   geom
_atom_sites_solution_primary     direct
_atom_sites_solution_secondary   difmap
_audit_creation_method           SHELXL-97
_cell_angle_alpha                90.00
_cell_angle_beta                 100.195(10)
_cell_angle_gamma                90.00
_cell_formula_units_Z            4
_cell_length_a                   7.7435(10)
_cell_length_b                   14.141(2)
_cell_length_c                   13.830(2)
_cell_measurement_pressure       1800000
_cell_measurement_reflns_used    719
_cell_measurement_temperature    293(2)
_cell_measurement_theta_max      22.52
_cell_measurement_theta_min      2.82
_cell_volume                     1490.5(4)
_computing_cell_refinement       'Crysalis (Oxford Diffraction)'
_computing_data_collection       'Crysalis (Oxford Diffraction)'
_computing_data_reduction
;
 WinIntergrStp 3.3 (Angel, J. Appl. Cryst. 2003)
;
_computing_molecular_graphics    'Bruker SHELXTL'
_computing_publication_material
;
 Bruker SHELXTL (Sheldrick, 2001) and PLATON (Spek, A. L., J Appl. 
 Cryst., 2003)
;
_computing_structure_refinement  'SHELXL-97 (Sheldrick, 1997)'
_computing_structure_solution
;
 coordinates obtained from CCDC (Allan, Acta Cryst B., 2002 and Bruno et al. 
 Acta Cryst. B, 2002) from the structure by 
 Churchill, et al. (Inorg Chem, 1977).
;
_diffrn_ambient_pressure         1800000
_diffrn_ambient_temperature      293(2)
_diffrn_detector_type            'point detector'
_diffrn_measured_fraction_theta_full 0.263
_diffrn_measured_fraction_theta_max 0.264
_diffrn_measurement_device_type  'Oxford Diffraction Xcalibur 1'
_diffrn_measurement_method       'constant precision omega scans at phi=0'
_diffrn_radiation_monochromator  graphite
_diffrn_radiation_probe          x-ray
_diffrn_radiation_source         'fine-focus sealed tube'
_diffrn_radiation_type           MoK\a
_diffrn_radiation_wavelength     0.71073
_diffrn_reflns_av_R_equivalents  0.0434
_diffrn_reflns_av_sigmaI/netI    0.0475
_diffrn_reflns_limit_h_max       8
_diffrn_reflns_limit_h_min       -8
_diffrn_reflns_limit_k_max       0
_diffrn_reflns_limit_k_min       -15
_diffrn_reflns_limit_l_max       7
_diffrn_reflns_limit_l_min       -7
_diffrn_reflns_number            719
_diffrn_reflns_theta_full        22.52
_diffrn_reflns_theta_max         22.52
_diffrn_reflns_theta_min         2.82
_diffrn_standards_decay_%        0
_diffrn_standards_interval_count 200
_diffrn_standards_number         3
_exptl_absorpt_coefficient_mu    3.072
_exptl_absorpt_correction_T_max  0.911
_exptl_absorpt_correction_T_min  0.761
_exptl_absorpt_correction_type   gaussian
_exptl_absorpt_process_details
;
 Correction for absorption affects of the diamond anvil cell
 and the sample were made using ABSORB 5.3.  Reference: 
  Absorb (Angel, J. Appl. Cryst. 2004) 
;
_exptl_crystal_colour            yellow
_exptl_crystal_density_diffrn    2.849
_exptl_crystal_density_method    'not measured'
_exptl_crystal_description       plate
_exptl_crystal_F_000             1200
_exptl_crystal_size_max          0.22
_exptl_crystal_size_mid          0.19
_exptl_crystal_size_min          0.030
_refine_diff_density_max         0.490
_refine_diff_density_min         -0.501
_refine_diff_density_rms         0.127
_refine_ls_extinction_coef       none
_refine_ls_extinction_method     none
_refine_ls_goodness_of_fit_ref   1.339
_refine_ls_hydrogen_treatment    none
_refine_ls_matrix_type           full
_refine_ls_number_parameters     113
_refine_ls_number_reflns         518
_refine_ls_number_restraints     24
_refine_ls_restrained_S_all      1.305
_refine_ls_R_factor_all          0.0511
_refine_ls_R_factor_gt           0.0507
_refine_ls_shift/su_max          0.000
_refine_ls_shift/su_mean         0.000
_refine_ls_structure_factor_coef Fsqd
_refine_ls_weighting_details
'calc w=1/[σ²(Fo²)+(0.0000P)²+71.3452P] where P=(Fo²+2Fc²)/3'
_refine_ls_weighting_scheme      calc
_refine_ls_wR_factor_gt          0.1256
_refine_ls_wR_factor_ref         0.1256
_reflns_number_gt                514
_reflns_number_total             518
_reflns_threshold_expression     >2sigma(I)
_cod_data_source_file            ic049617ysi20040322_044432_5.cif
_cod_data_source_block           18kbar
_cod_depositor_comments
;
The following automatic conversions were performed:
'_exptl_absorpt_correction_type' value 'Gaussian' changed to 'gaussian'
according to '/home/saulius/struct/CIF-dictionaries/cif_core.dic'
dictionary named 'cif_core.dic' version 2.4.1 from 2010-06-29.

Automatic conversion script
Id: cif_fix_enum 1527 2010-12-29 10:47:43Z saulius 
;
_cod_original_cell_volume        1490.4(4)
_cod_original_sg_symbol_H-M      'P 21/n'
_cod_database_code               4311838
loop_
_symmetry_equiv_pos_as_xyz
'x, y, z'
'-x+1/2, y+1/2, -z+1/2'
'-x, -y, -z'
'x-1/2, -y-1/2, z-1/2'
loop_
_atom_site_label
_atom_site_type_symbol
_atom_site_fract_x
_atom_site_fract_y
_atom_site_fract_z
_atom_site_U_iso_or_equiv
_atom_site_adp_type
_atom_site_occupancy
_atom_site_symmetry_multiplicity
_atom_site_calc_flag
_atom_site_refinement_flags
_atom_site_disorder_assembly
_atom_site_disorder_group
Ru1 Ru 0.4366(4) -0.02550(15) 0.2198(5) 0.0142(8) Uiso 1 1 d D . .
Ru2 Ru 0.4380(4) 0.17437(16) 0.2054(5) 0.0163(8) Uiso 1 1 d D . .
Ru3 Ru 0.6985(3) 0.08016(17) 0.3393(5) 0.0140(7) Uiso 1 1 d D . .
C11 C 0.581(4) -0.030(2) 0.120(4) 0.026(9) Uiso 1 1 d D . .
C12 C 0.284(5) -0.012(3) 0.314(4) 0.041(11) Uiso 1 1 d D . .
C13 C 0.522(3) -0.1459(17) 0.265(5) 0.011(7) Uiso 1 1 d D . .
C14 C 0.236(3) -0.054(2) 0.125(3) 0.022(9) Uiso 1 1 d D . .
C21 C 0.595(4) 0.168(2) 0.112(4) 0.021(8) Uiso 1 1 d D . .
C22 C 0.290(4) 0.181(2) 0.303(3) 0.017(8) Uiso 1 1 d D . .
C23 C 0.243(4) 0.189(2) 0.103(3) 0.031(10) Uiso 1 1 d D . .
C24 C 0.516(4) 0.2990(17) 0.241(5) 0.021(9) Uiso 1 1 d D . .
C31 C 0.843(3) 0.071(2) 0.240(3) 0.011(7) Uiso 1 1 d D . .
C32 C 0.552(4) 0.095(2) 0.437(4) 0.030(10) Uiso 1 1 d D . .
C33 C 0.821(4) 0.188(2) 0.396(5) 0.029(10) Uiso 1 1 d D . .
C34 C 0.815(3) -0.0258(17) 0.406(4) 0.013(8) Uiso 1 1 d D . .
O11 O 0.670(4) -0.0396(17) 0.064(4) 0.044(8) Uiso 1 1 d D . .
O12 O 0.196(3) -0.0190(15) 0.372(4) 0.033(7) Uiso 1 1 d D . .
O13 O 0.569(3) -0.2154(15) 0.299(4) 0.035(6) Uiso 1 1 d D . .
O14 O 0.111(3) -0.0671(16) 0.067(3) 0.040(7) Uiso 1 1 d D . .
O21 O 0.678(3) 0.1702(15) 0.050(3) 0.030(7) Uiso 1 1 d D . .
O22 O 0.206(4) 0.1942(16) 0.365(4) 0.043(8) Uiso 1 1 d D . .
O23 O 0.121(3) 0.1998(14) 0.043(3) 0.027(6) Uiso 1 1 d D . .
O24 O 0.577(3) 0.3700(15) 0.268(4) 0.041(7) Uiso 1 1 d D . .
O31 O 0.950(3) 0.0710(14) 0.194(3) 0.023(5) Uiso 1 1 d D . .
O32 O 0.478(3) 0.1079(15) 0.500(3) 0.037(7) Uiso 1 1 d D . .
O33 O 0.894(3) 0.2537(14) 0.427(4) 0.030(6) Uiso 1 1 d D . .
O34 O 0.883(3) -0.0905(14) 0.447(4) 0.028(6) Uiso 1 1 d D . .
loop_
_atom_type_symbol
_atom_type_description
_atom_type_scat_dispersion_real
_atom_type_scat_dispersion_imag
_atom_type_scat_source
C C 0.0033 0.0016 'International Tables Vol C Tables 4.2.6.8 and 6.1.1.4'
O O 0.0106 0.0060 'International Tables Vol C Tables 4.2.6.8 and 6.1.1.4'
Ru Ru -1.2594 0.8363 'International Tables Vol C Tables 4.2.6.8 and 6.1.1.4'
loop_
_geom_angle_atom_site_label_1
_geom_angle_atom_site_label_2
_geom_angle_atom_site_label_3
_geom_angle
_geom_angle_site_symmetry_1
_geom_angle_site_symmetry_3
_geom_angle_publ_flag
C14 Ru1 C13 103.6(18) . . ?
C14 Ru1 C12 88(2) . . ?
C13 Ru1 C12 95(2) . . ?
C14 Ru1 C11 90.3(19) . . ?
C13 Ru1 C11 89.4(19) . . ?
C12 Ru1 C11 175.5(18) . . ?
C14 Ru1 Ru3 160.1(9) . . ?
C13 Ru1 Ru3 96.4(15) . . ?
C12 Ru1 Ru3 90.9(15) . . ?
C11 Ru1 Ru3 89.4(13) . . ?
C14 Ru1 Ru2 100.0(10) . . ?
C13 Ru1 Ru2 156.3(14) . . ?
C12 Ru1 Ru2 87.6(12) . . ?
C11 Ru1 Ru2 88.6(9) . . ?
Ru3 Ru1 Ru2 60.03(15) . . ?
C23 Ru2 C24 106(2) . . ?
C23 Ru2 C22 91.6(18) . . ?
C24 Ru2 C22 88.3(19) . . ?
C23 Ru2 C21 91(2) . . ?
C24 Ru2 C21 90.5(19) . . ?
C22 Ru2 C21 177.3(19) . . ?
C23 Ru2 Ru3 158.1(11) . . ?
C24 Ru2 Ru3 96.3(17) . . ?
C22 Ru2 Ru3 90.4(13) . . ?
C21 Ru2 Ru3 87.4(14) . . ?
C23 Ru2 Ru1 98.6(10) . . ?
C24 Ru2 Ru1 155.7(19) . . ?
C22 Ru2 Ru1 89.5(9) . . ?
C21 Ru2 Ru1 90.6(9) . . ?
Ru3 Ru2 Ru1 59.53(16) . . ?
C33 Ru3 C34 106(2) . . ?
C33 Ru3 C32 86.2(19) . . ?
C34 Ru3 C32 92.0(18) . . ?
C33 Ru3 C31 92.3(18) . . ?
C34 Ru3 C31 90.4(16) . . ?
C32 Ru3 C31 177.5(13) . . ?
C33 Ru3 Ru1 158.4(15) . . ?
C34 Ru3 Ru1 95.7(12) . . ?
C32 Ru3 Ru1 91.1(13) . . ?
C31 Ru3 Ru1 89.6(11) . . ?
C33 Ru3 Ru2 98.0(16) . . ?
C34 Ru3 Ru2 156.1(12) . . ?
C32 Ru3 Ru2 88.0(14) . . ?
C31 Ru3 Ru2 90.2(12) . . ?
Ru1 Ru3 Ru2 60.44(14) . . ?
O11 C11 Ru1 175(3) . . ?
O12 C12 Ru1 169(4) . . ?
O13 C13 Ru1 174(6) . . ?
O14 C14 Ru1 177(3) . . ?
O21 C21 Ru2 173(4) . . ?
O22 C22 Ru2 173(3) . . ?
O23 C23 Ru2 177(4) . . ?
O24 C24 Ru2 173(4) . . ?
O31 C31 Ru3 168(4) . . ?
O32 C32 Ru3 174(4) . . ?
O33 C33 Ru3 178(6) . . ?
O34 C34 Ru3 179(2) . . ?
loop_
_geom_bond_atom_site_label_1
_geom_bond_atom_site_label_2
_geom_bond_distance
_geom_bond_site_symmetry_2
_geom_bond_publ_flag
Ru1 C14 1.89(3) . ?
Ru1 C13 1.89(2) . ?
Ru1 C12 1.92(3) . ?
Ru1 C11 1.92(3) . ?
Ru1 Ru3 2.808(6) . ?
Ru1 Ru2 2.833(3) . ?
Ru2 C23 1.89(3) . ?
Ru2 C24 1.90(2) . ?
Ru2 C22 1.92(3) . ?
Ru2 C21 1.93(3) . ?
Ru2 Ru3 2.822(7) . ?
Ru3 C33 1.89(3) . ?
Ru3 C34 1.90(3) . ?
Ru3 C32 1.93(3) . ?
Ru3 C31 1.93(3) . ?
C11 O11 1.14(4) . ?
C12 O12 1.15(4) . ?
C13 O13 1.12(4) . ?
C14 O14 1.16(4) . ?
C21 O21 1.15(4) . ?
C22 O22 1.18(4) . ?
C23 O23 1.15(4) . ?
C24 O24 1.14(4) . ?
C31 O31 1.13(3) . ?
C32 O32 1.13(5) . ?
C33 O33 1.13(3) . ?
C34 O34 1.15(4) . ?
